BEGIN:VCALENDAR
VERSION:2.0
PRODID:-//Kamloops Immigrant Services - ECPv6.15.20//NONSGML v1.0//EN
CALSCALE:GREGORIAN
METHOD:PUBLISH
X-ORIGINAL-URL:https://immigrantservices.ca
X-WR-CALDESC:Events for Kamloops Immigrant Services
REFRESH-INTERVAL;VALUE=DURATION:PT1H
X-Robots-Tag:noindex
X-PUBLISHED-TTL:PT1H
BEGIN:VTIMEZONE
TZID:America/Los_Angeles
BEGIN:DAYLIGHT
TZOFFSETFROM:-0800
TZOFFSETTO:-0700
TZNAME:PDT
DTSTART:20260308T100000
END:DAYLIGHT
BEGIN:STANDARD
TZOFFSETFROM:-0700
TZOFFSETTO:-0800
TZNAME:PST
DTSTART:20261101T090000
END:STANDARD
BEGIN:DAYLIGHT
TZOFFSETFROM:-0800
TZOFFSETTO:-0700
TZNAME:PDT
DTSTART:20270314T100000
END:DAYLIGHT
BEGIN:STANDARD
TZOFFSETFROM:-0700
TZOFFSETTO:-0800
TZNAME:PST
DTSTART:20271107T090000
END:STANDARD
BEGIN:DAYLIGHT
TZOFFSETFROM:-0800
TZOFFSETTO:-0700
TZNAME:PDT
DTSTART:20280312T100000
END:DAYLIGHT
BEGIN:STANDARD
TZOFFSETFROM:-0700
TZOFFSETTO:-0800
TZNAME:PST
DTSTART:20281105T090000
END:STANDARD
END:VTIMEZONE
BEGIN:VEVENT
DTSTART;TZID=America/Los_Angeles:20270408T180000
DTEND;TZID=America/Los_Angeles:20270408T193000
DTSTAMP:20260422T015302
CREATED:20260420T161317Z
LAST-MODIFIED:20260420T161604Z
UID:10002387-1807207200-1807212600@immigrantservices.ca
SUMMARY:Spring Family Sports Nights
DESCRIPTION:
URL:https://immigrantservices.ca/event/spring-family-sports-nights/2027-04-08/
LOCATION:McDonald Park\, 501 McDonald Ave\, Kamloops\, British Columbia\, V2B 3E5\, Canada
CATEGORIES:Community Connections
ATTACH;FMTTYPE=image/jpeg:https://immigrantservices.ca/wp-content/uploads/2026/04/2026-0607-14-21-28-Spring-Family-Sports-Night-Angie.jpg
END:VEVENT
BEGIN:VEVENT
DTSTART;TZID=America/Los_Angeles:20270415T180000
DTEND;TZID=America/Los_Angeles:20270415T193000
DTSTAMP:20260422T015302
CREATED:20260420T161317Z
LAST-MODIFIED:20260420T161604Z
UID:10002388-1807812000-1807817400@immigrantservices.ca
SUMMARY:Spring Family Sports Nights
DESCRIPTION:
URL:https://immigrantservices.ca/event/spring-family-sports-nights/2027-04-15/
LOCATION:McDonald Park\, 501 McDonald Ave\, Kamloops\, British Columbia\, V2B 3E5\, Canada
CATEGORIES:Community Connections
ATTACH;FMTTYPE=image/jpeg:https://immigrantservices.ca/wp-content/uploads/2026/04/2026-0607-14-21-28-Spring-Family-Sports-Night-Angie.jpg
END:VEVENT
BEGIN:VEVENT
DTSTART;TZID=America/Los_Angeles:20270422T180000
DTEND;TZID=America/Los_Angeles:20270422T193000
DTSTAMP:20260422T015302
CREATED:20260420T161317Z
LAST-MODIFIED:20260420T161604Z
UID:10002389-1808416800-1808422200@immigrantservices.ca
SUMMARY:Spring Family Sports Nights
DESCRIPTION:
URL:https://immigrantservices.ca/event/spring-family-sports-nights/2027-04-22/
LOCATION:McDonald Park\, 501 McDonald Ave\, Kamloops\, British Columbia\, V2B 3E5\, Canada
CATEGORIES:Community Connections
ATTACH;FMTTYPE=image/jpeg:https://immigrantservices.ca/wp-content/uploads/2026/04/2026-0607-14-21-28-Spring-Family-Sports-Night-Angie.jpg
END:VEVENT
BEGIN:VEVENT
DTSTART;TZID=America/Los_Angeles:20270429T180000
DTEND;TZID=America/Los_Angeles:20270429T193000
DTSTAMP:20260422T015302
CREATED:20260420T161317Z
LAST-MODIFIED:20260420T161604Z
UID:10002390-1809021600-1809027000@immigrantservices.ca
SUMMARY:Spring Family Sports Nights
DESCRIPTION:
URL:https://immigrantservices.ca/event/spring-family-sports-nights/2027-04-29/
LOCATION:McDonald Park\, 501 McDonald Ave\, Kamloops\, British Columbia\, V2B 3E5\, Canada
CATEGORIES:Community Connections
ATTACH;FMTTYPE=image/jpeg:https://immigrantservices.ca/wp-content/uploads/2026/04/2026-0607-14-21-28-Spring-Family-Sports-Night-Angie.jpg
END:VEVENT
BEGIN:VEVENT
DTSTART;TZID=America/Los_Angeles:20270506T180000
DTEND;TZID=America/Los_Angeles:20270506T193000
DTSTAMP:20260422T015302
CREATED:20260420T161317Z
LAST-MODIFIED:20260420T161604Z
UID:10002391-1809626400-1809631800@immigrantservices.ca
SUMMARY:Spring Family Sports Nights
DESCRIPTION:
URL:https://immigrantservices.ca/event/spring-family-sports-nights/2027-05-06/
LOCATION:McDonald Park\, 501 McDonald Ave\, Kamloops\, British Columbia\, V2B 3E5\, Canada
CATEGORIES:Community Connections
ATTACH;FMTTYPE=image/jpeg:https://immigrantservices.ca/wp-content/uploads/2026/04/2026-0607-14-21-28-Spring-Family-Sports-Night-Angie.jpg
END:VEVENT
BEGIN:VEVENT
DTSTART;TZID=America/Los_Angeles:20270513T180000
DTEND;TZID=America/Los_Angeles:20270513T193000
DTSTAMP:20260422T015302
CREATED:20260420T161317Z
LAST-MODIFIED:20260420T161604Z
UID:10002392-1810231200-1810236600@immigrantservices.ca
SUMMARY:Spring Family Sports Nights
DESCRIPTION:
URL:https://immigrantservices.ca/event/spring-family-sports-nights/2027-05-13/
LOCATION:McDonald Park\, 501 McDonald Ave\, Kamloops\, British Columbia\, V2B 3E5\, Canada
CATEGORIES:Community Connections
ATTACH;FMTTYPE=image/jpeg:https://immigrantservices.ca/wp-content/uploads/2026/04/2026-0607-14-21-28-Spring-Family-Sports-Night-Angie.jpg
END:VEVENT
BEGIN:VEVENT
DTSTART;TZID=America/Los_Angeles:20270520T180000
DTEND;TZID=America/Los_Angeles:20270520T193000
DTSTAMP:20260422T015302
CREATED:20260420T161317Z
LAST-MODIFIED:20260420T161604Z
UID:10002393-1810836000-1810841400@immigrantservices.ca
SUMMARY:Spring Family Sports Nights
DESCRIPTION:
URL:https://immigrantservices.ca/event/spring-family-sports-nights/2027-05-20/
LOCATION:McDonald Park\, 501 McDonald Ave\, Kamloops\, British Columbia\, V2B 3E5\, Canada
CATEGORIES:Community Connections
ATTACH;FMTTYPE=image/jpeg:https://immigrantservices.ca/wp-content/uploads/2026/04/2026-0607-14-21-28-Spring-Family-Sports-Night-Angie.jpg
END:VEVENT
BEGIN:VEVENT
DTSTART;TZID=America/Los_Angeles:20270527T180000
DTEND;TZID=America/Los_Angeles:20270527T193000
DTSTAMP:20260422T015302
CREATED:20260420T161317Z
LAST-MODIFIED:20260420T161604Z
UID:10002394-1811440800-1811446200@immigrantservices.ca
SUMMARY:Spring Family Sports Nights
DESCRIPTION:
URL:https://immigrantservices.ca/event/spring-family-sports-nights/2027-05-27/
LOCATION:McDonald Park\, 501 McDonald Ave\, Kamloops\, British Columbia\, V2B 3E5\, Canada
CATEGORIES:Community Connections
ATTACH;FMTTYPE=image/jpeg:https://immigrantservices.ca/wp-content/uploads/2026/04/2026-0607-14-21-28-Spring-Family-Sports-Night-Angie.jpg
END:VEVENT
END:VCALENDAR