BEGIN:VCALENDAR
VERSION:2.0
PRODID:-//Kamloops Immigrant Services - ECPv6.15.20//NONSGML v1.0//EN
CALSCALE:GREGORIAN
METHOD:PUBLISH
X-WR-CALNAME:Kamloops Immigrant Services
X-ORIGINAL-URL:https://immigrantservices.ca
X-WR-CALDESC:Events for Kamloops Immigrant Services
REFRESH-INTERVAL;VALUE=DURATION:PT1H
X-Robots-Tag:noindex
X-PUBLISHED-TTL:PT1H
BEGIN:VTIMEZONE
TZID:America/Los_Angeles
BEGIN:DAYLIGHT
TZOFFSETFROM:-0800
TZOFFSETTO:-0700
TZNAME:PDT
DTSTART:20250309T100000
END:DAYLIGHT
BEGIN:STANDARD
TZOFFSETFROM:-0700
TZOFFSETTO:-0800
TZNAME:PST
DTSTART:20251102T090000
END:STANDARD
BEGIN:DAYLIGHT
TZOFFSETFROM:-0800
TZOFFSETTO:-0700
TZNAME:PDT
DTSTART:20260308T100000
END:DAYLIGHT
BEGIN:STANDARD
TZOFFSETFROM:-0700
TZOFFSETTO:-0800
TZNAME:PST
DTSTART:20261101T090000
END:STANDARD
BEGIN:DAYLIGHT
TZOFFSETFROM:-0800
TZOFFSETTO:-0700
TZNAME:PDT
DTSTART:20270314T100000
END:DAYLIGHT
BEGIN:STANDARD
TZOFFSETFROM:-0700
TZOFFSETTO:-0800
TZNAME:PST
DTSTART:20271107T090000
END:STANDARD
BEGIN:DAYLIGHT
TZOFFSETFROM:-0800
TZOFFSETTO:-0700
TZNAME:PDT
DTSTART:20280312T100000
END:DAYLIGHT
BEGIN:STANDARD
TZOFFSETFROM:-0700
TZOFFSETTO:-0800
TZNAME:PST
DTSTART:20281105T090000
END:STANDARD
END:VTIMEZONE
BEGIN:VEVENT
DTSTART;TZID=America/Los_Angeles:20260730T180000
DTEND;TZID=America/Los_Angeles:20260730T193000
DTSTAMP:20260421T195636
CREATED:20260420T161317Z
LAST-MODIFIED:20260420T161604Z
UID:10002351-1785434400-1785439800@immigrantservices.ca
SUMMARY:Spring Family Sports Nights
DESCRIPTION:
URL:https://immigrantservices.ca/event/spring-family-sports-nights/2026-07-30/
LOCATION:McDonald Park\, 501 McDonald Ave\, Kamloops\, British Columbia\, V2B 3E5\, Canada
CATEGORIES:Community Connections
ATTACH;FMTTYPE=image/jpeg:https://immigrantservices.ca/wp-content/uploads/2026/04/2026-0607-14-21-28-Spring-Family-Sports-Night-Angie.jpg
END:VEVENT
BEGIN:VEVENT
DTSTART;TZID=America/Los_Angeles:20260806T180000
DTEND;TZID=America/Los_Angeles:20260806T193000
DTSTAMP:20260421T195636
CREATED:20260420T161317Z
LAST-MODIFIED:20260420T161604Z
UID:10002352-1786039200-1786044600@immigrantservices.ca
SUMMARY:Spring Family Sports Nights
DESCRIPTION:
URL:https://immigrantservices.ca/event/spring-family-sports-nights/2026-08-06/
LOCATION:McDonald Park\, 501 McDonald Ave\, Kamloops\, British Columbia\, V2B 3E5\, Canada
CATEGORIES:Community Connections
ATTACH;FMTTYPE=image/jpeg:https://immigrantservices.ca/wp-content/uploads/2026/04/2026-0607-14-21-28-Spring-Family-Sports-Night-Angie.jpg
END:VEVENT
BEGIN:VEVENT
DTSTART;TZID=America/Los_Angeles:20260813T180000
DTEND;TZID=America/Los_Angeles:20260813T193000
DTSTAMP:20260421T195636
CREATED:20260420T161317Z
LAST-MODIFIED:20260420T161604Z
UID:10002353-1786644000-1786649400@immigrantservices.ca
SUMMARY:Spring Family Sports Nights
DESCRIPTION:
URL:https://immigrantservices.ca/event/spring-family-sports-nights/2026-08-13/
LOCATION:McDonald Park\, 501 McDonald Ave\, Kamloops\, British Columbia\, V2B 3E5\, Canada
CATEGORIES:Community Connections
ATTACH;FMTTYPE=image/jpeg:https://immigrantservices.ca/wp-content/uploads/2026/04/2026-0607-14-21-28-Spring-Family-Sports-Night-Angie.jpg
END:VEVENT
BEGIN:VEVENT
DTSTART;TZID=America/Los_Angeles:20260820T180000
DTEND;TZID=America/Los_Angeles:20260820T193000
DTSTAMP:20260421T195636
CREATED:20260420T161317Z
LAST-MODIFIED:20260420T161604Z
UID:10002354-1787248800-1787254200@immigrantservices.ca
SUMMARY:Spring Family Sports Nights
DESCRIPTION:
URL:https://immigrantservices.ca/event/spring-family-sports-nights/2026-08-20/
LOCATION:McDonald Park\, 501 McDonald Ave\, Kamloops\, British Columbia\, V2B 3E5\, Canada
CATEGORIES:Community Connections
ATTACH;FMTTYPE=image/jpeg:https://immigrantservices.ca/wp-content/uploads/2026/04/2026-0607-14-21-28-Spring-Family-Sports-Night-Angie.jpg
END:VEVENT
BEGIN:VEVENT
DTSTART;TZID=America/Los_Angeles:20260827T180000
DTEND;TZID=America/Los_Angeles:20260827T193000
DTSTAMP:20260421T195636
CREATED:20260420T161317Z
LAST-MODIFIED:20260420T161604Z
UID:10002355-1787853600-1787859000@immigrantservices.ca
SUMMARY:Spring Family Sports Nights
DESCRIPTION:
URL:https://immigrantservices.ca/event/spring-family-sports-nights/2026-08-27/
LOCATION:McDonald Park\, 501 McDonald Ave\, Kamloops\, British Columbia\, V2B 3E5\, Canada
CATEGORIES:Community Connections
ATTACH;FMTTYPE=image/jpeg:https://immigrantservices.ca/wp-content/uploads/2026/04/2026-0607-14-21-28-Spring-Family-Sports-Night-Angie.jpg
END:VEVENT
BEGIN:VEVENT
DTSTART;TZID=America/Los_Angeles:20260903T180000
DTEND;TZID=America/Los_Angeles:20260903T193000
DTSTAMP:20260421T195636
CREATED:20260420T161317Z
LAST-MODIFIED:20260420T161604Z
UID:10002356-1788458400-1788463800@immigrantservices.ca
SUMMARY:Spring Family Sports Nights
DESCRIPTION:
URL:https://immigrantservices.ca/event/spring-family-sports-nights/2026-09-03/
LOCATION:McDonald Park\, 501 McDonald Ave\, Kamloops\, British Columbia\, V2B 3E5\, Canada
CATEGORIES:Community Connections
ATTACH;FMTTYPE=image/jpeg:https://immigrantservices.ca/wp-content/uploads/2026/04/2026-0607-14-21-28-Spring-Family-Sports-Night-Angie.jpg
END:VEVENT
BEGIN:VEVENT
DTSTART;TZID=America/Los_Angeles:20260910T180000
DTEND;TZID=America/Los_Angeles:20260910T193000
DTSTAMP:20260421T195636
CREATED:20260420T161317Z
LAST-MODIFIED:20260420T161604Z
UID:10002357-1789063200-1789068600@immigrantservices.ca
SUMMARY:Spring Family Sports Nights
DESCRIPTION:
URL:https://immigrantservices.ca/event/spring-family-sports-nights/2026-09-10/
LOCATION:McDonald Park\, 501 McDonald Ave\, Kamloops\, British Columbia\, V2B 3E5\, Canada
CATEGORIES:Community Connections
ATTACH;FMTTYPE=image/jpeg:https://immigrantservices.ca/wp-content/uploads/2026/04/2026-0607-14-21-28-Spring-Family-Sports-Night-Angie.jpg
END:VEVENT
BEGIN:VEVENT
DTSTART;TZID=America/Los_Angeles:20260917T180000
DTEND;TZID=America/Los_Angeles:20260917T193000
DTSTAMP:20260421T195636
CREATED:20260420T161317Z
LAST-MODIFIED:20260420T161604Z
UID:10002358-1789668000-1789673400@immigrantservices.ca
SUMMARY:Spring Family Sports Nights
DESCRIPTION:
URL:https://immigrantservices.ca/event/spring-family-sports-nights/2026-09-17/
LOCATION:McDonald Park\, 501 McDonald Ave\, Kamloops\, British Columbia\, V2B 3E5\, Canada
CATEGORIES:Community Connections
ATTACH;FMTTYPE=image/jpeg:https://immigrantservices.ca/wp-content/uploads/2026/04/2026-0607-14-21-28-Spring-Family-Sports-Night-Angie.jpg
END:VEVENT
BEGIN:VEVENT
DTSTART;TZID=America/Los_Angeles:20260924T180000
DTEND;TZID=America/Los_Angeles:20260924T193000
DTSTAMP:20260421T195636
CREATED:20260420T161317Z
LAST-MODIFIED:20260420T161604Z
UID:10002359-1790272800-1790278200@immigrantservices.ca
SUMMARY:Spring Family Sports Nights
DESCRIPTION:
URL:https://immigrantservices.ca/event/spring-family-sports-nights/2026-09-24/
LOCATION:McDonald Park\, 501 McDonald Ave\, Kamloops\, British Columbia\, V2B 3E5\, Canada
CATEGORIES:Community Connections
ATTACH;FMTTYPE=image/jpeg:https://immigrantservices.ca/wp-content/uploads/2026/04/2026-0607-14-21-28-Spring-Family-Sports-Night-Angie.jpg
END:VEVENT
BEGIN:VEVENT
DTSTART;TZID=America/Los_Angeles:20261001T180000
DTEND;TZID=America/Los_Angeles:20261001T193000
DTSTAMP:20260421T195636
CREATED:20260420T161317Z
LAST-MODIFIED:20260420T161604Z
UID:10002360-1790877600-1790883000@immigrantservices.ca
SUMMARY:Spring Family Sports Nights
DESCRIPTION:
URL:https://immigrantservices.ca/event/spring-family-sports-nights/2026-10-01/
LOCATION:McDonald Park\, 501 McDonald Ave\, Kamloops\, British Columbia\, V2B 3E5\, Canada
CATEGORIES:Community Connections
ATTACH;FMTTYPE=image/jpeg:https://immigrantservices.ca/wp-content/uploads/2026/04/2026-0607-14-21-28-Spring-Family-Sports-Night-Angie.jpg
END:VEVENT
BEGIN:VEVENT
DTSTART;TZID=America/Los_Angeles:20261008T180000
DTEND;TZID=America/Los_Angeles:20261008T193000
DTSTAMP:20260421T195636
CREATED:20260420T161317Z
LAST-MODIFIED:20260420T161604Z
UID:10002361-1791482400-1791487800@immigrantservices.ca
SUMMARY:Spring Family Sports Nights
DESCRIPTION:
URL:https://immigrantservices.ca/event/spring-family-sports-nights/2026-10-08/
LOCATION:McDonald Park\, 501 McDonald Ave\, Kamloops\, British Columbia\, V2B 3E5\, Canada
CATEGORIES:Community Connections
ATTACH;FMTTYPE=image/jpeg:https://immigrantservices.ca/wp-content/uploads/2026/04/2026-0607-14-21-28-Spring-Family-Sports-Night-Angie.jpg
END:VEVENT
BEGIN:VEVENT
DTSTART;TZID=America/Los_Angeles:20261015T180000
DTEND;TZID=America/Los_Angeles:20261015T193000
DTSTAMP:20260421T195636
CREATED:20260420T161317Z
LAST-MODIFIED:20260420T161604Z
UID:10002362-1792087200-1792092600@immigrantservices.ca
SUMMARY:Spring Family Sports Nights
DESCRIPTION:
URL:https://immigrantservices.ca/event/spring-family-sports-nights/2026-10-15/
LOCATION:McDonald Park\, 501 McDonald Ave\, Kamloops\, British Columbia\, V2B 3E5\, Canada
CATEGORIES:Community Connections
ATTACH;FMTTYPE=image/jpeg:https://immigrantservices.ca/wp-content/uploads/2026/04/2026-0607-14-21-28-Spring-Family-Sports-Night-Angie.jpg
END:VEVENT
BEGIN:VEVENT
DTSTART;TZID=America/Los_Angeles:20261022T180000
DTEND;TZID=America/Los_Angeles:20261022T193000
DTSTAMP:20260421T195636
CREATED:20260420T161317Z
LAST-MODIFIED:20260420T161604Z
UID:10002363-1792692000-1792697400@immigrantservices.ca
SUMMARY:Spring Family Sports Nights
DESCRIPTION:
URL:https://immigrantservices.ca/event/spring-family-sports-nights/2026-10-22/
LOCATION:McDonald Park\, 501 McDonald Ave\, Kamloops\, British Columbia\, V2B 3E5\, Canada
CATEGORIES:Community Connections
ATTACH;FMTTYPE=image/jpeg:https://immigrantservices.ca/wp-content/uploads/2026/04/2026-0607-14-21-28-Spring-Family-Sports-Night-Angie.jpg
END:VEVENT
BEGIN:VEVENT
DTSTART;TZID=America/Los_Angeles:20261029T180000
DTEND;TZID=America/Los_Angeles:20261029T193000
DTSTAMP:20260421T195636
CREATED:20260420T161317Z
LAST-MODIFIED:20260420T161604Z
UID:10002364-1793296800-1793302200@immigrantservices.ca
SUMMARY:Spring Family Sports Nights
DESCRIPTION:
URL:https://immigrantservices.ca/event/spring-family-sports-nights/2026-10-29/
LOCATION:McDonald Park\, 501 McDonald Ave\, Kamloops\, British Columbia\, V2B 3E5\, Canada
CATEGORIES:Community Connections
ATTACH;FMTTYPE=image/jpeg:https://immigrantservices.ca/wp-content/uploads/2026/04/2026-0607-14-21-28-Spring-Family-Sports-Night-Angie.jpg
END:VEVENT
BEGIN:VEVENT
DTSTART;TZID=America/Los_Angeles:20261105T180000
DTEND;TZID=America/Los_Angeles:20261105T193000
DTSTAMP:20260421T195636
CREATED:20260420T161317Z
LAST-MODIFIED:20260420T161604Z
UID:10002365-1793901600-1793907000@immigrantservices.ca
SUMMARY:Spring Family Sports Nights
DESCRIPTION:
URL:https://immigrantservices.ca/event/spring-family-sports-nights/2026-11-05/
LOCATION:McDonald Park\, 501 McDonald Ave\, Kamloops\, British Columbia\, V2B 3E5\, Canada
CATEGORIES:Community Connections
ATTACH;FMTTYPE=image/jpeg:https://immigrantservices.ca/wp-content/uploads/2026/04/2026-0607-14-21-28-Spring-Family-Sports-Night-Angie.jpg
END:VEVENT
BEGIN:VEVENT
DTSTART;TZID=America/Los_Angeles:20261112T180000
DTEND;TZID=America/Los_Angeles:20261112T193000
DTSTAMP:20260421T195636
CREATED:20260420T161317Z
LAST-MODIFIED:20260420T161604Z
UID:10002366-1794506400-1794511800@immigrantservices.ca
SUMMARY:Spring Family Sports Nights
DESCRIPTION:
URL:https://immigrantservices.ca/event/spring-family-sports-nights/2026-11-12/
LOCATION:McDonald Park\, 501 McDonald Ave\, Kamloops\, British Columbia\, V2B 3E5\, Canada
CATEGORIES:Community Connections
ATTACH;FMTTYPE=image/jpeg:https://immigrantservices.ca/wp-content/uploads/2026/04/2026-0607-14-21-28-Spring-Family-Sports-Night-Angie.jpg
END:VEVENT
BEGIN:VEVENT
DTSTART;TZID=America/Los_Angeles:20261119T180000
DTEND;TZID=America/Los_Angeles:20261119T193000
DTSTAMP:20260421T195636
CREATED:20260420T161317Z
LAST-MODIFIED:20260420T161604Z
UID:10002367-1795111200-1795116600@immigrantservices.ca
SUMMARY:Spring Family Sports Nights
DESCRIPTION:
URL:https://immigrantservices.ca/event/spring-family-sports-nights/2026-11-19/
LOCATION:McDonald Park\, 501 McDonald Ave\, Kamloops\, British Columbia\, V2B 3E5\, Canada
CATEGORIES:Community Connections
ATTACH;FMTTYPE=image/jpeg:https://immigrantservices.ca/wp-content/uploads/2026/04/2026-0607-14-21-28-Spring-Family-Sports-Night-Angie.jpg
END:VEVENT
BEGIN:VEVENT
DTSTART;TZID=America/Los_Angeles:20261126T180000
DTEND;TZID=America/Los_Angeles:20261126T193000
DTSTAMP:20260421T195636
CREATED:20260420T161317Z
LAST-MODIFIED:20260420T161604Z
UID:10002368-1795716000-1795721400@immigrantservices.ca
SUMMARY:Spring Family Sports Nights
DESCRIPTION:
URL:https://immigrantservices.ca/event/spring-family-sports-nights/2026-11-26/
LOCATION:McDonald Park\, 501 McDonald Ave\, Kamloops\, British Columbia\, V2B 3E5\, Canada
CATEGORIES:Community Connections
ATTACH;FMTTYPE=image/jpeg:https://immigrantservices.ca/wp-content/uploads/2026/04/2026-0607-14-21-28-Spring-Family-Sports-Night-Angie.jpg
END:VEVENT
BEGIN:VEVENT
DTSTART;TZID=America/Los_Angeles:20261203T180000
DTEND;TZID=America/Los_Angeles:20261203T193000
DTSTAMP:20260421T195636
CREATED:20260420T161317Z
LAST-MODIFIED:20260420T161604Z
UID:10002369-1796320800-1796326200@immigrantservices.ca
SUMMARY:Spring Family Sports Nights
DESCRIPTION:
URL:https://immigrantservices.ca/event/spring-family-sports-nights/2026-12-03/
LOCATION:McDonald Park\, 501 McDonald Ave\, Kamloops\, British Columbia\, V2B 3E5\, Canada
CATEGORIES:Community Connections
ATTACH;FMTTYPE=image/jpeg:https://immigrantservices.ca/wp-content/uploads/2026/04/2026-0607-14-21-28-Spring-Family-Sports-Night-Angie.jpg
END:VEVENT
BEGIN:VEVENT
DTSTART;TZID=America/Los_Angeles:20261210T180000
DTEND;TZID=America/Los_Angeles:20261210T193000
DTSTAMP:20260421T195636
CREATED:20260420T161317Z
LAST-MODIFIED:20260420T161604Z
UID:10002370-1796925600-1796931000@immigrantservices.ca
SUMMARY:Spring Family Sports Nights
DESCRIPTION:
URL:https://immigrantservices.ca/event/spring-family-sports-nights/2026-12-10/
LOCATION:McDonald Park\, 501 McDonald Ave\, Kamloops\, British Columbia\, V2B 3E5\, Canada
CATEGORIES:Community Connections
ATTACH;FMTTYPE=image/jpeg:https://immigrantservices.ca/wp-content/uploads/2026/04/2026-0607-14-21-28-Spring-Family-Sports-Night-Angie.jpg
END:VEVENT
BEGIN:VEVENT
DTSTART;TZID=America/Los_Angeles:20261217T180000
DTEND;TZID=America/Los_Angeles:20261217T193000
DTSTAMP:20260421T195636
CREATED:20260420T161317Z
LAST-MODIFIED:20260420T161604Z
UID:10002371-1797530400-1797535800@immigrantservices.ca
SUMMARY:Spring Family Sports Nights
DESCRIPTION:
URL:https://immigrantservices.ca/event/spring-family-sports-nights/2026-12-17/
LOCATION:McDonald Park\, 501 McDonald Ave\, Kamloops\, British Columbia\, V2B 3E5\, Canada
CATEGORIES:Community Connections
ATTACH;FMTTYPE=image/jpeg:https://immigrantservices.ca/wp-content/uploads/2026/04/2026-0607-14-21-28-Spring-Family-Sports-Night-Angie.jpg
END:VEVENT
BEGIN:VEVENT
DTSTART;TZID=America/Los_Angeles:20261224T180000
DTEND;TZID=America/Los_Angeles:20261224T193000
DTSTAMP:20260421T195636
CREATED:20260420T161317Z
LAST-MODIFIED:20260420T161604Z
UID:10002372-1798135200-1798140600@immigrantservices.ca
SUMMARY:Spring Family Sports Nights
DESCRIPTION:
URL:https://immigrantservices.ca/event/spring-family-sports-nights/2026-12-24/
LOCATION:McDonald Park\, 501 McDonald Ave\, Kamloops\, British Columbia\, V2B 3E5\, Canada
CATEGORIES:Community Connections
ATTACH;FMTTYPE=image/jpeg:https://immigrantservices.ca/wp-content/uploads/2026/04/2026-0607-14-21-28-Spring-Family-Sports-Night-Angie.jpg
END:VEVENT
BEGIN:VEVENT
DTSTART;TZID=America/Los_Angeles:20261231T180000
DTEND;TZID=America/Los_Angeles:20261231T193000
DTSTAMP:20260421T195636
CREATED:20260420T161317Z
LAST-MODIFIED:20260420T161604Z
UID:10002373-1798740000-1798745400@immigrantservices.ca
SUMMARY:Spring Family Sports Nights
DESCRIPTION:
URL:https://immigrantservices.ca/event/spring-family-sports-nights/2026-12-31/
LOCATION:McDonald Park\, 501 McDonald Ave\, Kamloops\, British Columbia\, V2B 3E5\, Canada
CATEGORIES:Community Connections
ATTACH;FMTTYPE=image/jpeg:https://immigrantservices.ca/wp-content/uploads/2026/04/2026-0607-14-21-28-Spring-Family-Sports-Night-Angie.jpg
END:VEVENT
BEGIN:VEVENT
DTSTART;TZID=America/Los_Angeles:20270107T180000
DTEND;TZID=America/Los_Angeles:20270107T193000
DTSTAMP:20260421T195636
CREATED:20260420T161317Z
LAST-MODIFIED:20260420T161604Z
UID:10002374-1799344800-1799350200@immigrantservices.ca
SUMMARY:Spring Family Sports Nights
DESCRIPTION:
URL:https://immigrantservices.ca/event/spring-family-sports-nights/2027-01-07/
LOCATION:McDonald Park\, 501 McDonald Ave\, Kamloops\, British Columbia\, V2B 3E5\, Canada
CATEGORIES:Community Connections
ATTACH;FMTTYPE=image/jpeg:https://immigrantservices.ca/wp-content/uploads/2026/04/2026-0607-14-21-28-Spring-Family-Sports-Night-Angie.jpg
END:VEVENT
BEGIN:VEVENT
DTSTART;TZID=America/Los_Angeles:20270114T180000
DTEND;TZID=America/Los_Angeles:20270114T193000
DTSTAMP:20260421T195636
CREATED:20260420T161317Z
LAST-MODIFIED:20260420T161604Z
UID:10002375-1799949600-1799955000@immigrantservices.ca
SUMMARY:Spring Family Sports Nights
DESCRIPTION:
URL:https://immigrantservices.ca/event/spring-family-sports-nights/2027-01-14/
LOCATION:McDonald Park\, 501 McDonald Ave\, Kamloops\, British Columbia\, V2B 3E5\, Canada
CATEGORIES:Community Connections
ATTACH;FMTTYPE=image/jpeg:https://immigrantservices.ca/wp-content/uploads/2026/04/2026-0607-14-21-28-Spring-Family-Sports-Night-Angie.jpg
END:VEVENT
BEGIN:VEVENT
DTSTART;TZID=America/Los_Angeles:20270121T180000
DTEND;TZID=America/Los_Angeles:20270121T193000
DTSTAMP:20260421T195636
CREATED:20260420T161317Z
LAST-MODIFIED:20260420T161604Z
UID:10002376-1800554400-1800559800@immigrantservices.ca
SUMMARY:Spring Family Sports Nights
DESCRIPTION:
URL:https://immigrantservices.ca/event/spring-family-sports-nights/2027-01-21/
LOCATION:McDonald Park\, 501 McDonald Ave\, Kamloops\, British Columbia\, V2B 3E5\, Canada
CATEGORIES:Community Connections
ATTACH;FMTTYPE=image/jpeg:https://immigrantservices.ca/wp-content/uploads/2026/04/2026-0607-14-21-28-Spring-Family-Sports-Night-Angie.jpg
END:VEVENT
BEGIN:VEVENT
DTSTART;TZID=America/Los_Angeles:20270128T180000
DTEND;TZID=America/Los_Angeles:20270128T193000
DTSTAMP:20260421T195636
CREATED:20260420T161317Z
LAST-MODIFIED:20260420T161604Z
UID:10002377-1801159200-1801164600@immigrantservices.ca
SUMMARY:Spring Family Sports Nights
DESCRIPTION:
URL:https://immigrantservices.ca/event/spring-family-sports-nights/2027-01-28/
LOCATION:McDonald Park\, 501 McDonald Ave\, Kamloops\, British Columbia\, V2B 3E5\, Canada
CATEGORIES:Community Connections
ATTACH;FMTTYPE=image/jpeg:https://immigrantservices.ca/wp-content/uploads/2026/04/2026-0607-14-21-28-Spring-Family-Sports-Night-Angie.jpg
END:VEVENT
BEGIN:VEVENT
DTSTART;TZID=America/Los_Angeles:20270204T180000
DTEND;TZID=America/Los_Angeles:20270204T193000
DTSTAMP:20260421T195636
CREATED:20260420T161317Z
LAST-MODIFIED:20260420T161604Z
UID:10002378-1801764000-1801769400@immigrantservices.ca
SUMMARY:Spring Family Sports Nights
DESCRIPTION:
URL:https://immigrantservices.ca/event/spring-family-sports-nights/2027-02-04/
LOCATION:McDonald Park\, 501 McDonald Ave\, Kamloops\, British Columbia\, V2B 3E5\, Canada
CATEGORIES:Community Connections
ATTACH;FMTTYPE=image/jpeg:https://immigrantservices.ca/wp-content/uploads/2026/04/2026-0607-14-21-28-Spring-Family-Sports-Night-Angie.jpg
END:VEVENT
BEGIN:VEVENT
DTSTART;TZID=America/Los_Angeles:20270211T180000
DTEND;TZID=America/Los_Angeles:20270211T193000
DTSTAMP:20260421T195636
CREATED:20260420T161317Z
LAST-MODIFIED:20260420T161604Z
UID:10002379-1802368800-1802374200@immigrantservices.ca
SUMMARY:Spring Family Sports Nights
DESCRIPTION:
URL:https://immigrantservices.ca/event/spring-family-sports-nights/2027-02-11/
LOCATION:McDonald Park\, 501 McDonald Ave\, Kamloops\, British Columbia\, V2B 3E5\, Canada
CATEGORIES:Community Connections
ATTACH;FMTTYPE=image/jpeg:https://immigrantservices.ca/wp-content/uploads/2026/04/2026-0607-14-21-28-Spring-Family-Sports-Night-Angie.jpg
END:VEVENT
BEGIN:VEVENT
DTSTART;TZID=America/Los_Angeles:20270218T180000
DTEND;TZID=America/Los_Angeles:20270218T193000
DTSTAMP:20260421T195636
CREATED:20260420T161317Z
LAST-MODIFIED:20260420T161604Z
UID:10002380-1802973600-1802979000@immigrantservices.ca
SUMMARY:Spring Family Sports Nights
DESCRIPTION:
URL:https://immigrantservices.ca/event/spring-family-sports-nights/2027-02-18/
LOCATION:McDonald Park\, 501 McDonald Ave\, Kamloops\, British Columbia\, V2B 3E5\, Canada
CATEGORIES:Community Connections
ATTACH;FMTTYPE=image/jpeg:https://immigrantservices.ca/wp-content/uploads/2026/04/2026-0607-14-21-28-Spring-Family-Sports-Night-Angie.jpg
END:VEVENT
END:VCALENDAR