BEGIN:VCALENDAR
VERSION:2.0
PRODID:-//Kamloops Immigrant Services - ECPv6.15.20//NONSGML v1.0//EN
CALSCALE:GREGORIAN
METHOD:PUBLISH
X-WR-CALNAME:Kamloops Immigrant Services
X-ORIGINAL-URL:https://immigrantservices.ca
X-WR-CALDESC:Events for Kamloops Immigrant Services
REFRESH-INTERVAL;VALUE=DURATION:PT1H
X-Robots-Tag:noindex
X-PUBLISHED-TTL:PT1H
BEGIN:VTIMEZONE
TZID:America/Los_Angeles
BEGIN:DAYLIGHT
TZOFFSETFROM:-0800
TZOFFSETTO:-0700
TZNAME:PDT
DTSTART:20240310T100000
END:DAYLIGHT
BEGIN:STANDARD
TZOFFSETFROM:-0700
TZOFFSETTO:-0800
TZNAME:PST
DTSTART:20241103T090000
END:STANDARD
BEGIN:DAYLIGHT
TZOFFSETFROM:-0800
TZOFFSETTO:-0700
TZNAME:PDT
DTSTART:20250309T100000
END:DAYLIGHT
BEGIN:STANDARD
TZOFFSETFROM:-0700
TZOFFSETTO:-0800
TZNAME:PST
DTSTART:20251102T090000
END:STANDARD
BEGIN:DAYLIGHT
TZOFFSETFROM:-0800
TZOFFSETTO:-0700
TZNAME:PDT
DTSTART:20260308T100000
END:DAYLIGHT
BEGIN:STANDARD
TZOFFSETFROM:-0700
TZOFFSETTO:-0800
TZNAME:PST
DTSTART:20261101T090000
END:STANDARD
END:VTIMEZONE
BEGIN:VEVENT
DTSTART;TZID=America/Los_Angeles:20251208T180000
DTEND;TZID=America/Los_Angeles:20251208T190000
DTSTAMP:20260424T022812
CREATED:20251124T174403Z
LAST-MODIFIED:20251124T174403Z
UID:10001874-1765216800-1765220400@immigrantservices.ca
SUMMARY:A taste of Tai Chi
DESCRIPTION:
URL:https://immigrantservices.ca/event/a-taste-of-tai-chi/
LOCATION:Kamloops Immigrant Services\, 448 Tranquille Road\, Kamloops\, British Columbia\, V2B 3H2\, Canada
CATEGORIES:Community Connections
ATTACH;FMTTYPE=image/jpeg:https://immigrantservices.ca/wp-content/uploads/2025/11/2025-1208-A-Taste-of-Tai-Chi-Angie.jpg
END:VEVENT
BEGIN:VEVENT
DTSTART;TZID=America/Los_Angeles:20251208T103000
DTEND;TZID=America/Los_Angeles:20251208T120000
DTSTAMP:20260424T022812
CREATED:20251124T174535Z
LAST-MODIFIED:20251124T174535Z
UID:10001875-1765189800-1765195200@immigrantservices.ca
SUMMARY:Santa's Workshop
DESCRIPTION:
URL:https://immigrantservices.ca/event/santas-workshop/
LOCATION:Kamloops Immigrant Services\, 448 Tranquille Road\, Kamloops\, British Columbia\, V2B 3H2\, Canada
CATEGORIES:Childmind
ATTACH;FMTTYPE=image/jpeg:https://immigrantservices.ca/wp-content/uploads/2025/11/2025-1208-Santas-Workshop-Wooden-Cars-Angie-Childmind-and-Emily.jpg
END:VEVENT
BEGIN:VEVENT
DTSTART;TZID=America/Los_Angeles:20251205T190000
DTEND;TZID=America/Los_Angeles:20251205T203000
DTSTAMP:20260424T022812
CREATED:20251124T174035Z
LAST-MODIFIED:20251124T174035Z
UID:10001872-1764961200-1764966600@immigrantservices.ca
SUMMARY:Senior's Lindy in the Loops Social Dance
DESCRIPTION:
URL:https://immigrantservices.ca/event/seniors-lindy-in-the-loops-social-dance/
LOCATION:Kamloops Immigrant Services\, 448 Tranquille Road\, Kamloops\, British Columbia\, V2B 3H2\, Canada
CATEGORIES:Senior Program
ATTACH;FMTTYPE=image/jpeg:https://immigrantservices.ca/wp-content/uploads/2025/11/2025-1205-Seniors-Swing-Dancing-Angie.jpg
END:VEVENT
BEGIN:VEVENT
DTSTART;TZID=America/Los_Angeles:20251205T190000
DTEND;TZID=America/Los_Angeles:20251205T203000
DTSTAMP:20260424T022812
CREATED:20251124T173357Z
LAST-MODIFIED:20251124T173357Z
UID:10001871-1764961200-1764966600@immigrantservices.ca
SUMMARY:Lindy in the Loops Social Dance
DESCRIPTION:
URL:https://immigrantservices.ca/event/lindy-in-the-loops-social-dance-4/
LOCATION:Kamloops Immigrant Services\, 448 Tranquille Road\, Kamloops\, British Columbia\, V2B 3H2\, Canada
CATEGORIES:Community Connections
ATTACH;FMTTYPE=image/png:https://immigrantservices.ca/wp-content/uploads/2025/11/2025-1205-Lindy-in-the-Loops-Swing-Dancing-Angie.png
END:VEVENT
BEGIN:VEVENT
DTSTART;TZID=America/Los_Angeles:20251205T130000
DTEND;TZID=America/Los_Angeles:20251205T140000
DTSTAMP:20260424T022812
CREATED:20250918T200404Z
LAST-MODIFIED:20251124T182150Z
UID:10001536-1764939600-1764943200@immigrantservices.ca
SUMMARY:Digital Skills 101
DESCRIPTION:
URL:https://immigrantservices.ca/event/digital-skills-101/2025-12-05/
LOCATION:Kamloops Immigrant Services\, 448 Tranquille Road\, Kamloops\, British Columbia\, V2B 3H2\, Canada
CATEGORIES:Community Connections
ATTACH;FMTTYPE=image/jpeg:https://immigrantservices.ca/wp-content/uploads/2025/09/2025-10004-11-18-25-Digital-Skills-101-Emily.jpg
END:VEVENT
BEGIN:VEVENT
DTSTART;TZID=America/Los_Angeles:20251204T180000
DTEND;TZID=America/Los_Angeles:20251204T193000
DTSTAMP:20260424T022812
CREATED:20251020T164543Z
LAST-MODIFIED:20251020T164543Z
UID:10001771-1764871200-1764876600@immigrantservices.ca
SUMMARY:Rooted in Connection for Women
DESCRIPTION:
URL:https://immigrantservices.ca/event/rooted-in-connection-for-women/2025-12-04/
LOCATION:Kamloops Immigrant Services\, 448 Tranquille Road\, Kamloops\, British Columbia\, V2B 3H2\, Canada
CATEGORIES:Community Connections
END:VEVENT
BEGIN:VEVENT
DTSTART;TZID=America/Los_Angeles:20251204T130000
DTEND;TZID=America/Los_Angeles:20251204T143000
DTSTAMP:20260424T022812
CREATED:20251124T172935Z
LAST-MODIFIED:20251124T172935Z
UID:10001869-1764853200-1764858600@immigrantservices.ca
SUMMARY:December Tea & Talk
DESCRIPTION:
URL:https://immigrantservices.ca/event/december-tea-talk/
LOCATION:Kamloops Immigrant Services\, 448 Tranquille Road\, Kamloops\, British Columbia\, V2B 3H2\, Canada
CATEGORIES:Women's Empowerment
ATTACH;FMTTYPE=image/jpeg:https://immigrantservices.ca/wp-content/uploads/2025/11/2025-1204-TEA-Talk-Erin.jpg
END:VEVENT
BEGIN:VEVENT
DTSTART;TZID=America/Los_Angeles:20251203T190000
DTEND;TZID=America/Los_Angeles:20251203T200000
DTSTAMP:20260424T022812
CREATED:20251124T172745Z
LAST-MODIFIED:20251124T172745Z
UID:10001868-1764788400-1764792000@immigrantservices.ca
SUMMARY:Youth 4 Youth: Ice Skating
DESCRIPTION:
URL:https://immigrantservices.ca/event/youth-4-youth-ice-skating/
LOCATION:Kamloops Immigrant Services\, 448 Tranquille Road\, Kamloops\, British Columbia\, V2B 3H2\, Canada
CATEGORIES:Youth
ATTACH;FMTTYPE=image/jpeg:https://immigrantservices.ca/wp-content/uploads/2025/11/2025-1203-Youth-4-youth-Ice-Skating-Angie.jpg
END:VEVENT
BEGIN:VEVENT
DTSTART;TZID=America/Los_Angeles:20251203T174500
DTEND;TZID=America/Los_Angeles:20251203T184500
DTSTAMP:20260424T022812
CREATED:20251124T172630Z
LAST-MODIFIED:20251124T172630Z
UID:10001867-1764783900-1764787500@immigrantservices.ca
SUMMARY:Ice Skating Event
DESCRIPTION:
URL:https://immigrantservices.ca/event/ice-skating-event/
LOCATION:Kamloops Immigrant Services\, 448 Tranquille Road\, Kamloops\, British Columbia\, V2B 3H2\, Canada
CATEGORIES:Community Connections
ATTACH;FMTTYPE=image/jpeg:https://immigrantservices.ca/wp-content/uploads/2025/11/2025-1203-Ice-Skating-Angie.jpg
END:VEVENT
BEGIN:VEVENT
DTSTART;TZID=America/Los_Angeles:20251202T173000
DTEND;TZID=America/Los_Angeles:20251202T190000
DTSTAMP:20260424T022812
CREATED:20251124T180635Z
LAST-MODIFIED:20251124T180738Z
UID:10001883-1764696600-1764702000@immigrantservices.ca
SUMMARY:English-Spanish Exchange
DESCRIPTION:
URL:https://immigrantservices.ca/event/english-spanish-exchange-9/2025-12-02/
LOCATION:Kamloops Immigrant Services\, 448 Tranquille Road\, Kamloops\, British Columbia\, V2B 3H2\, Canada
CATEGORIES:Community Connections
ATTACH;FMTTYPE=image/jpeg:https://immigrantservices.ca/wp-content/uploads/2025/08/2025-English-Spanish-Exchange-Ruben.jpg
END:VEVENT
BEGIN:VEVENT
DTSTART;TZID=America/Los_Angeles:20251202T093000
DTEND;TZID=America/Los_Angeles:20251202T143000
DTSTAMP:20260424T022812
CREATED:20251124T172017Z
LAST-MODIFIED:20251124T172017Z
UID:10001866-1764667800-1764685800@immigrantservices.ca
SUMMARY:Christmas Card Workshops
DESCRIPTION:
URL:https://immigrantservices.ca/event/christmas-card-workshops/2025-12-02/2/
LOCATION:Kamloops Immigrant Services\, 448 Tranquille Road\, Kamloops\, British Columbia\, V2B 3H2\, Canada
CATEGORIES:Community Connections
ATTACH;FMTTYPE=image/jpeg:https://immigrantservices.ca/wp-content/uploads/2025/11/2025-1202-Christmas-Card-Workshop-Angie.jpg
END:VEVENT
BEGIN:VEVENT
DTSTART;TZID=America/Los_Angeles:20251202T080000
DTEND;TZID=America/Los_Angeles:20251202T170000
DTSTAMP:20260424T022812
CREATED:20251124T172017Z
LAST-MODIFIED:20251124T172017Z
UID:10001865-1764662400-1764694800@immigrantservices.ca
SUMMARY:Christmas Card Workshops
DESCRIPTION:
URL:https://immigrantservices.ca/event/christmas-card-workshops/2025-12-02/1/
LOCATION:Kamloops Immigrant Services\, 448 Tranquille Road\, Kamloops\, British Columbia\, V2B 3H2\, Canada
CATEGORIES:Community Connections
ATTACH;FMTTYPE=image/jpeg:https://immigrantservices.ca/wp-content/uploads/2025/11/2025-1202-Christmas-Card-Workshop-Angie.jpg
END:VEVENT
BEGIN:VEVENT
DTSTART;TZID=America/Los_Angeles:20251201T103000
DTEND;TZID=America/Los_Angeles:20251201T120000
DTSTAMP:20260424T022812
CREATED:20251124T171842Z
LAST-MODIFIED:20251124T171842Z
UID:10001864-1764585000-1764590400@immigrantservices.ca
SUMMARY:Friends for the holidays
DESCRIPTION:
URL:https://immigrantservices.ca/event/friends-for-the-holidays/
LOCATION:Kamloops Immigrant Services\, 448 Tranquille Road\, Kamloops\, British Columbia\, V2B 3H2\, Canada
CATEGORIES:Community Connections
ATTACH;FMTTYPE=image/jpeg:https://immigrantservices.ca/wp-content/uploads/2025/11/2025-1001-Friends-For-the-Holidays-Angie-Childmind.jpg
END:VEVENT
BEGIN:VEVENT
DTSTART;TZID=America/Los_Angeles:20251129T100000
DTEND;TZID=America/Los_Angeles:20251129T150000
DTSTAMP:20260424T022812
CREATED:20251020T182436Z
LAST-MODIFIED:20251020T182436Z
UID:10001783-1764410400-1764428400@immigrantservices.ca
SUMMARY:Thrive Together
DESCRIPTION:
URL:https://immigrantservices.ca/event/thrive-together/
LOCATION:Kamloops Immigrant Services\, 448 Tranquille Road\, Kamloops\, British Columbia\, V2B 3H2\, Canada
CATEGORIES:Women's Empowerment
ATTACH;FMTTYPE=image/jpeg:https://immigrantservices.ca/wp-content/uploads/2025/10/2025-1129-Womens-Wellness-Retreat-Erin-1.jpg
END:VEVENT
BEGIN:VEVENT
DTSTART;TZID=America/Los_Angeles:20251128T180000
DTEND;TZID=America/Los_Angeles:20251128T200000
DTSTAMP:20260424T022812
CREATED:20251020T183340Z
LAST-MODIFIED:20251020T183340Z
UID:10001797-1764352800-1764360000@immigrantservices.ca
SUMMARY:Youth 4 Youth: Karaoke Night
DESCRIPTION:
URL:https://immigrantservices.ca/event/youth-4-youth-karaoke-night/
LOCATION:Kamloops Immigrant Services\, 448 Tranquille Road\, Kamloops\, British Columbia\, V2B 3H2\, Canada
CATEGORIES:Youth
ATTACH;FMTTYPE=image/jpeg:https://immigrantservices.ca/wp-content/uploads/2025/10/2025-Youth-4-youth-Karaoke-Night-Angie.jpg
END:VEVENT
BEGIN:VEVENT
DTSTART;TZID=America/Los_Angeles:20251128T153000
DTEND;TZID=America/Los_Angeles:20251128T170000
DTSTAMP:20260424T022812
CREATED:20251020T182328Z
LAST-MODIFIED:20251020T182328Z
UID:10001782-1764343800-1764349200@immigrantservices.ca
SUMMARY:Abstract Art Workshop
DESCRIPTION:
URL:https://immigrantservices.ca/event/abstract-art-workshop/
LOCATION:Kamloops Immigrant Services\, 448 Tranquille Road\, Kamloops\, British Columbia\, V2B 3H2\, Canada
CATEGORIES:Community Connections
ATTACH;FMTTYPE=image/jpeg:https://immigrantservices.ca/wp-content/uploads/2025/10/2025-1128-Abrtact-Art-Workshop-Emily-1.jpg
END:VEVENT
BEGIN:VEVENT
DTSTART;TZID=America/Los_Angeles:20251128T130000
DTEND;TZID=America/Los_Angeles:20251128T140000
DTSTAMP:20260424T022812
CREATED:20250918T200404Z
LAST-MODIFIED:20251124T182150Z
UID:10001535-1764334800-1764338400@immigrantservices.ca
SUMMARY:Digital Skills 101
DESCRIPTION:
URL:https://immigrantservices.ca/event/digital-skills-101/2025-11-28/
LOCATION:Kamloops Immigrant Services\, 448 Tranquille Road\, Kamloops\, British Columbia\, V2B 3H2\, Canada
CATEGORIES:Community Connections
ATTACH;FMTTYPE=image/jpeg:https://immigrantservices.ca/wp-content/uploads/2025/09/2025-10004-11-18-25-Digital-Skills-101-Emily.jpg
END:VEVENT
BEGIN:VEVENT
DTSTART;TZID=America/Los_Angeles:20251128T110000
DTEND;TZID=America/Los_Angeles:20251128T140000
DTSTAMP:20260424T022812
CREATED:20250918T201326Z
LAST-MODIFIED:20251124T182048Z
UID:10001594-1764327600-1764338400@immigrantservices.ca
SUMMARY:Beyond the resume
DESCRIPTION:
URL:https://immigrantservices.ca/event/beyond-the-resume/2025-11-28/
LOCATION:Kamloops Immigrant Services\, 448 Tranquille Road\, Kamloops\, British Columbia\, V2B 3H2\, Canada
CATEGORIES:Employment
ATTACH;FMTTYPE=image/jpeg:https://immigrantservices.ca/wp-content/uploads/2025/09/2025-10-Beyond-the-Resume-Catherine.jpg
END:VEVENT
BEGIN:VEVENT
DTSTART;TZID=America/Los_Angeles:20251127T180000
DTEND;TZID=America/Los_Angeles:20251127T200000
DTSTAMP:20260424T022812
CREATED:20250918T192749Z
LAST-MODIFIED:20251124T181842Z
UID:10001409-1764266400-1764273600@immigrantservices.ca
SUMMARY:Learn to Cope with Stress
DESCRIPTION:
URL:https://immigrantservices.ca/event/learn-to-cope-with-strees/2025-11-27/
LOCATION:Kamloops Immigrant Services\, 448 Tranquille Road\, Kamloops\, British Columbia\, V2B 3H2\, Canada
CATEGORIES:Women's Empowerment
ATTACH;FMTTYPE=image/jpeg:https://immigrantservices.ca/wp-content/uploads/2025/09/2025-1016-23-30-Y-Mind-Poster-Learn-to-Cope-with-Stress-Erin.jpg
END:VEVENT
BEGIN:VEVENT
DTSTART;TZID=America/Los_Angeles:20251127T180000
DTEND;TZID=America/Los_Angeles:20251127T193000
DTSTAMP:20260424T022812
CREATED:20251020T164543Z
LAST-MODIFIED:20251020T164543Z
UID:10001770-1764266400-1764271800@immigrantservices.ca
SUMMARY:Rooted in Connection for Women
DESCRIPTION:
URL:https://immigrantservices.ca/event/rooted-in-connection-for-women/2025-11-27/
LOCATION:Kamloops Immigrant Services\, 448 Tranquille Road\, Kamloops\, British Columbia\, V2B 3H2\, Canada
CATEGORIES:Community Connections
END:VEVENT
BEGIN:VEVENT
DTSTART;TZID=America/Los_Angeles:20251127T180000
DTEND;TZID=America/Los_Angeles:20251127T191500
DTSTAMP:20260424T022812
CREATED:20251020T183654Z
LAST-MODIFIED:20251020T183654Z
UID:10001803-1764266400-1764270900@immigrantservices.ca
SUMMARY:Beginner French 2
DESCRIPTION:
URL:https://immigrantservices.ca/event/beginner-french-2-3/2025-11-27/
LOCATION:Kamloops Immigrant Services\, 448 Tranquille Road\, Kamloops\, British Columbia\, V2B 3H2\, Canada
CATEGORIES:Community Connections
ATTACH;FMTTYPE=image/jpeg:https://immigrantservices.ca/wp-content/uploads/2025/10/2025-1106-13-20-27-Beginner-French-Emily-1.jpg
END:VEVENT
BEGIN:VEVENT
DTSTART;TZID=America/Los_Angeles:20251127T180000
DTEND;TZID=America/Los_Angeles:20251127T191500
DTSTAMP:20260424T022812
CREATED:20250918T193831Z
LAST-MODIFIED:20251124T181948Z
UID:10001468-1764266400-1764270900@immigrantservices.ca
SUMMARY:Beginner French 2
DESCRIPTION:
URL:https://immigrantservices.ca/event/beginner-french-2-2/2025-11-27/
LOCATION:Kamloops Immigrant Services\, 448 Tranquille Road\, Kamloops\, British Columbia\, V2B 3H2\, Canada
CATEGORIES:Community Connections
ATTACH;FMTTYPE=image/jpeg:https://immigrantservices.ca/wp-content/uploads/2025/09/2025-1023-30-French-Emily.jpg
END:VEVENT
BEGIN:VEVENT
DTSTART;TZID=America/Los_Angeles:20251126T133000
DTEND;TZID=America/Los_Angeles:20251126T150000
DTSTAMP:20260424T022812
CREATED:20251020T183152Z
LAST-MODIFIED:20251020T183152Z
UID:10001795-1764163800-1764169200@immigrantservices.ca
SUMMARY:Drop-In Resume & Beyond the Resume
DESCRIPTION:
URL:https://immigrantservices.ca/event/drop-in-resume-beyond-the-resume/2025-11-26/
LOCATION:Kamloops Immigrant Services\, 448 Tranquille Road\, Kamloops\, British Columbia\, V2B 3H2\, Canada
CATEGORIES:Employment
ATTACH;FMTTYPE=image/jpeg:https://immigrantservices.ca/wp-content/uploads/2025/10/2025-Wednesdays-7-Thursdays-Drop-in-Resume-Beyond-The-Resume-1.jpg
END:VEVENT
BEGIN:VEVENT
DTSTART;TZID=America/Los_Angeles:20251126T123000
DTEND;TZID=America/Los_Angeles:20251126T133000
DTSTAMP:20260424T022812
CREATED:20251020T182130Z
LAST-MODIFIED:20251020T182130Z
UID:10001781-1764160200-1764163800@immigrantservices.ca
SUMMARY:Stretching for Seniors
DESCRIPTION:
URL:https://immigrantservices.ca/event/stretching-for-seniors/
LOCATION:Kamloops Immigrant Services\, 448 Tranquille Road\, Kamloops\, British Columbia\, V2B 3H2\, Canada
CATEGORIES:Senior Program
ATTACH;FMTTYPE=image/jpeg:https://immigrantservices.ca/wp-content/uploads/2025/10/2025-1126-Stretching-For-Seniors-Pamela.jpg
END:VEVENT
BEGIN:VEVENT
DTSTART;TZID=America/Los_Angeles:20251125T130000
DTEND;TZID=America/Los_Angeles:20251125T140000
DTSTAMP:20260424T022812
CREATED:20251020T181903Z
LAST-MODIFIED:20251020T181903Z
UID:10001780-1764075600-1764079200@immigrantservices.ca
SUMMARY:Retire Comfortably
DESCRIPTION:
URL:https://immigrantservices.ca/event/retire-comfortably/
LOCATION:Kamloops Immigrant Services\, 448 Tranquille Road\, Kamloops\, British Columbia\, V2B 3H2\, Canada
CATEGORIES:Settlement
ATTACH;FMTTYPE=image/jpeg:https://immigrantservices.ca/wp-content/uploads/2025/10/2025-1125-Retire-Comfortably-Ellen.jpg
END:VEVENT
BEGIN:VEVENT
DTSTART;TZID=America/Los_Angeles:20251125T110000
DTEND;TZID=America/Los_Angeles:20251125T120000
DTSTAMP:20260424T022812
CREATED:20251020T164326Z
LAST-MODIFIED:20251020T164326Z
UID:10001767-1764068400-1764072000@immigrantservices.ca
SUMMARY:Yoga for Toddlers
DESCRIPTION:
URL:https://immigrantservices.ca/event/yoga-for-toddlers/
LOCATION:Kamloops Immigrant Services\, 448 Tranquille Road\, Kamloops\, British Columbia\, V2B 3H2\, Canada
CATEGORIES:Childmind
ATTACH;FMTTYPE=image/jpeg:https://immigrantservices.ca/wp-content/uploads/2025/10/2025-1125-Yoga-for-toddlers-Angie-Childmind.jpg
END:VEVENT
BEGIN:VEVENT
DTSTART;TZID=America/Los_Angeles:20251124T103000
DTEND;TZID=America/Los_Angeles:20251124T120000
DTSTAMP:20260424T022812
CREATED:20251124T173224Z
LAST-MODIFIED:20251124T173224Z
UID:10001870-1763980200-1763985600@immigrantservices.ca
SUMMARY:Winter Driving Workshop
DESCRIPTION:
URL:https://immigrantservices.ca/event/winter-driving-workshop-3/
LOCATION:Kamloops Immigrant Services\, 448 Tranquille Road\, Kamloops\, British Columbia\, V2B 3H2\, Canada
CATEGORIES:Community Connections
ATTACH;FMTTYPE=image/jpeg:https://immigrantservices.ca/wp-content/uploads/2025/11/2025-1204-Winter-Driving-Workshop-with-Bob-Angie.jpg
END:VEVENT
BEGIN:VEVENT
DTSTART;TZID=America/Los_Angeles:20251123T160000
DTEND;TZID=America/Los_Angeles:20251123T180000
DTSTAMP:20260424T022812
CREATED:20251020T181529Z
LAST-MODIFIED:20251020T181531Z
UID:10001779-1763913600-1763920800@immigrantservices.ca
SUMMARY:Santa Parade
DESCRIPTION:
URL:https://immigrantservices.ca/event/santa-parade/
LOCATION:Kamloops Immigrant Services\, 448 Tranquille Road\, Kamloops\, British Columbia\, V2B 3H2\, Canada
CATEGORIES:Community Connections
ATTACH;FMTTYPE=image/jpeg:https://immigrantservices.ca/wp-content/uploads/2025/10/2025-1123-Santa-Parade-Emily.jpg
END:VEVENT
BEGIN:VEVENT
DTSTART;TZID=America/Los_Angeles:20251121T180000
DTEND;TZID=America/Los_Angeles:20251121T200000
DTSTAMP:20260424T022812
CREATED:20251020T181357Z
LAST-MODIFIED:20251020T181357Z
UID:10001778-1763748000-1763755200@immigrantservices.ca
SUMMARY:Driving Trivia Night
DESCRIPTION:
URL:https://immigrantservices.ca/event/driving-trivia-night/
LOCATION:Kamloops Immigrant Services\, 448 Tranquille Road\, Kamloops\, British Columbia\, V2B 3H2\, Canada
CATEGORIES:Community Connections
ATTACH;FMTTYPE=image/jpeg:https://immigrantservices.ca/wp-content/uploads/2025/10/2025-1121-Driving-Trivia-Night-Emily.jpg
END:VEVENT
BEGIN:VEVENT
DTSTART;TZID=America/Los_Angeles:20251121T130000
DTEND;TZID=America/Los_Angeles:20251121T140000
DTSTAMP:20260424T022812
CREATED:20250918T200404Z
LAST-MODIFIED:20251124T182150Z
UID:10001534-1763730000-1763733600@immigrantservices.ca
SUMMARY:Digital Skills 101
DESCRIPTION:
URL:https://immigrantservices.ca/event/digital-skills-101/2025-11-21/
LOCATION:Kamloops Immigrant Services\, 448 Tranquille Road\, Kamloops\, British Columbia\, V2B 3H2\, Canada
CATEGORIES:Community Connections
ATTACH;FMTTYPE=image/jpeg:https://immigrantservices.ca/wp-content/uploads/2025/09/2025-10004-11-18-25-Digital-Skills-101-Emily.jpg
END:VEVENT
END:VCALENDAR