BEGIN:VCALENDAR
VERSION:2.0
PRODID:-//Kamloops Immigrant Services - ECPv6.15.20//NONSGML v1.0//EN
CALSCALE:GREGORIAN
METHOD:PUBLISH
X-WR-CALNAME:Kamloops Immigrant Services
X-ORIGINAL-URL:https://immigrantservices.ca
X-WR-CALDESC:Events for Kamloops Immigrant Services
REFRESH-INTERVAL;VALUE=DURATION:PT1H
X-Robots-Tag:noindex
X-PUBLISHED-TTL:PT1H
BEGIN:VTIMEZONE
TZID:America/Los_Angeles
BEGIN:DAYLIGHT
TZOFFSETFROM:-0800
TZOFFSETTO:-0700
TZNAME:PDT
DTSTART:20250309T100000
END:DAYLIGHT
BEGIN:STANDARD
TZOFFSETFROM:-0700
TZOFFSETTO:-0800
TZNAME:PST
DTSTART:20251102T090000
END:STANDARD
BEGIN:DAYLIGHT
TZOFFSETFROM:-0800
TZOFFSETTO:-0700
TZNAME:PDT
DTSTART:20260308T100000
END:DAYLIGHT
BEGIN:STANDARD
TZOFFSETFROM:-0700
TZOFFSETTO:-0800
TZNAME:PST
DTSTART:20261101T090000
END:STANDARD
BEGIN:DAYLIGHT
TZOFFSETFROM:-0800
TZOFFSETTO:-0700
TZNAME:PDT
DTSTART:20270314T100000
END:DAYLIGHT
BEGIN:STANDARD
TZOFFSETFROM:-0700
TZOFFSETTO:-0800
TZNAME:PST
DTSTART:20271107T090000
END:STANDARD
END:VTIMEZONE
BEGIN:VEVENT
DTSTART;TZID=America/Los_Angeles:20260328T100000
DTEND;TZID=America/Los_Angeles:20260328T113000
DTSTAMP:20260423T164531
CREATED:20260112T205059Z
LAST-MODIFIED:20260409T192445Z
UID:10002026-1774692000-1774697400@immigrantservices.ca
SUMMARY:English Chatter
DESCRIPTION:
URL:https://immigrantservices.ca/event/english-chatter-2/2026-03-28/
LOCATION:Kamloops Immigrant Services\, 448 Tranquille Road\, Kamloops\, British Columbia\, V2B 3H2\, Canada
CATEGORIES:Community Connections
ATTACH;FMTTYPE=image/jpeg:https://immigrantservices.ca/wp-content/uploads/2026/01/2026-0110-0425-English-Chatter-corner-Schedule-Emily.jpg
END:VEVENT
BEGIN:VEVENT
DTSTART;TZID=America/Los_Angeles:20260321T100000
DTEND;TZID=America/Los_Angeles:20260321T113000
DTSTAMP:20260423T164531
CREATED:20260112T205059Z
LAST-MODIFIED:20260409T192445Z
UID:10002025-1774087200-1774092600@immigrantservices.ca
SUMMARY:English Chatter
DESCRIPTION:
URL:https://immigrantservices.ca/event/english-chatter-2/2026-03-21/
LOCATION:Kamloops Immigrant Services\, 448 Tranquille Road\, Kamloops\, British Columbia\, V2B 3H2\, Canada
CATEGORIES:Community Connections
ATTACH;FMTTYPE=image/jpeg:https://immigrantservices.ca/wp-content/uploads/2026/01/2026-0110-0425-English-Chatter-corner-Schedule-Emily.jpg
END:VEVENT
BEGIN:VEVENT
DTSTART;TZID=America/Los_Angeles:20260318T100000
DTEND;TZID=America/Los_Angeles:20260318T110000
DTSTAMP:20260423T164531
CREATED:20260109T002251Z
LAST-MODIFIED:20260302T213833Z
UID:10001893-1773828000-1773831600@immigrantservices.ca
SUMMARY:Working in Canada: New Workshop
DESCRIPTION:Our Working in Canada workshop is a one hour group session where we talk through what employers expect\, how communication works on the job\, and how to carry yourself with confidence at work. It is practical\, honest\, and built around real workplace situations. \nWe meet every second Wednesday from 10 to 11 a.m. at our KIS Satellite Office\, 397 Tranquille Road. If you would like to join us\, register and pick a date that works for you. \nIt is a good place to ask questions\, learn from others\, and feel more prepared for your next shift or your next interview.
URL:https://immigrantservices.ca/event/working-in-canada-new-workshop/2026-03-18/
LOCATION:Kamloops Immigrant Services\, 448 Tranquille Road\, Kamloops\, British Columbia\, V2B 3H2\, Canada
CATEGORIES:Employment
END:VEVENT
BEGIN:VEVENT
DTSTART;TZID=America/Los_Angeles:20260314T100000
DTEND;TZID=America/Los_Angeles:20260314T113000
DTSTAMP:20260423T164531
CREATED:20260112T205059Z
LAST-MODIFIED:20260409T192445Z
UID:10002024-1773482400-1773487800@immigrantservices.ca
SUMMARY:English Chatter
DESCRIPTION:
URL:https://immigrantservices.ca/event/english-chatter-2/2026-03-14/
LOCATION:Kamloops Immigrant Services\, 448 Tranquille Road\, Kamloops\, British Columbia\, V2B 3H2\, Canada
CATEGORIES:Community Connections
ATTACH;FMTTYPE=image/jpeg:https://immigrantservices.ca/wp-content/uploads/2026/01/2026-0110-0425-English-Chatter-corner-Schedule-Emily.jpg
END:VEVENT
BEGIN:VEVENT
DTSTART;TZID=America/Los_Angeles:20260307T100000
DTEND;TZID=America/Los_Angeles:20260307T113000
DTSTAMP:20260423T164531
CREATED:20260112T205059Z
LAST-MODIFIED:20260409T192445Z
UID:10002023-1772877600-1772883000@immigrantservices.ca
SUMMARY:English Chatter
DESCRIPTION:
URL:https://immigrantservices.ca/event/english-chatter-2/2026-03-07/
LOCATION:Kamloops Immigrant Services\, 448 Tranquille Road\, Kamloops\, British Columbia\, V2B 3H2\, Canada
CATEGORIES:Community Connections
ATTACH;FMTTYPE=image/jpeg:https://immigrantservices.ca/wp-content/uploads/2026/01/2026-0110-0425-English-Chatter-corner-Schedule-Emily.jpg
END:VEVENT
BEGIN:VEVENT
DTSTART;TZID=America/Los_Angeles:20260305T120000
DTEND;TZID=America/Los_Angeles:20260305T150000
DTSTAMP:20260423T164531
CREATED:20260302T212352Z
LAST-MODIFIED:20260302T212631Z
UID:10002200-1772712000-1772722800@immigrantservices.ca
SUMMARY:Women's Electrical Workshop - Afternoon session
DESCRIPTION:On March 5\, we’re opening the door to the electrical trades with two free\, hands-on workshops for newcomer women in Kamloops. \nYou’ll get to try practical skills in a supportive space\, ask questions\, and learn what career pathways in the trades can look like here in our community. No experience needed. Just curiosity and a willingness to learn. \nChoose the session that works for you:10 am to 12 pm or 1 pm to 3 pmLocation: 448 Tranquille Rd. \nSpots are limited\, so register and pick your time. We’d love to see you there.
URL:https://immigrantservices.ca/event/womens-electrical-workshop-afternoon-session/
LOCATION:Kamloops Immigrant Services\, 448 Tranquille Road\, Kamloops\, British Columbia\, V2B 3H2\, Canada
CATEGORIES:Employment
END:VEVENT
BEGIN:VEVENT
DTSTART;TZID=America/Los_Angeles:20260305T100000
DTEND;TZID=America/Los_Angeles:20260305T120000
DTSTAMP:20260423T164531
CREATED:20260302T212209Z
LAST-MODIFIED:20260302T213315Z
UID:10002199-1772704800-1772712000@immigrantservices.ca
SUMMARY:Women's Electrical Workshop - Morning Session
DESCRIPTION:On March 5\, we’re opening the door to the electrical trades with two free\, hands-on workshops for newcomer women in Kamloops. \nYou’ll get to try practical skills in a supportive space\, ask questions\, and learn what career pathways in the trades can look like here in our community. No experience needed. Just curiosity and a willingness to learn. \nChoose the session that works for you:10 am to 12 pm or 1 pm to 3 pmLocation: 448 Tranquille Rd. \nSpots are limited\, so register and pick your time. We’d love to see you there.
URL:https://immigrantservices.ca/event/womens-electrical-workshop-morning-session/
LOCATION:Kamloops Immigrant Services\, 448 Tranquille Road\, Kamloops\, British Columbia\, V2B 3H2\, Canada
CATEGORIES:Employment
END:VEVENT
BEGIN:VEVENT
DTSTART;TZID=America/Los_Angeles:20260304T163000
DTEND;TZID=America/Los_Angeles:20260304T173000
DTSTAMP:20260423T164531
CREATED:20260302T202434Z
LAST-MODIFIED:20260302T213453Z
UID:10002197-1772641800-1772645400@immigrantservices.ca
SUMMARY:Hiring Fair - GOVE Construction
DESCRIPTION:Meet GOVE in person on Wednesday\, March 4 from 4:30 to 5:30 p.m. at Kamloops Immigrant Services\, 448 Tranquille Rd. Learn about their full time Cleaner position in Kamloops\, paying $19 to $22 per hour\, and connect directly with the employer.
URL:https://immigrantservices.ca/event/30754/
LOCATION:Kamloops Immigrant Services\, 448 Tranquille Road\, Kamloops\, British Columbia\, V2B 3H2\, Canada
CATEGORIES:Employment
END:VEVENT
BEGIN:VEVENT
DTSTART;TZID=America/Los_Angeles:20260304T150000
DTEND;TZID=America/Los_Angeles:20260304T160000
DTSTAMP:20260423T164531
CREATED:20260302T202252Z
LAST-MODIFIED:20260302T213525Z
UID:10002196-1772636400-1772640000@immigrantservices.ca
SUMMARY:Hiring Fair - Calibri Cleaning
DESCRIPTION:Meet the owner of Calibri Cleaning on Wednesday\, March 4 from 3 to 4 p.m. at Kamloops Immigrant Services\, 448 Tranquille Rd. Learn about current cleaning job openings and bring your resume to connect in person.
URL:https://immigrantservices.ca/event/30751/
LOCATION:Kamloops Immigrant Services\, 448 Tranquille Road\, Kamloops\, British Columbia\, V2B 3H2\, Canada
CATEGORIES:Employment
END:VEVENT
BEGIN:VEVENT
DTSTART;TZID=America/Los_Angeles:20260304T130000
DTEND;TZID=America/Los_Angeles:20260304T140000
DTSTAMP:20260423T164531
CREATED:20260302T202613Z
LAST-MODIFIED:20260302T213423Z
UID:10002198-1772629200-1772632800@immigrantservices.ca
SUMMARY:Learn & Connect - YMCA Employment Services
DESCRIPTION:Meet the YMCA at Kamloops Immigrant Services on Wednesday\, March 4 at 1 p.m. and learn how the TradesWorks program can support Canadian citizens\, Permanent Residents\, and refugee youth in finding work in Kamloops. Join us at 448 Tranquille Road to connect and ask questions in person. No registration required.
URL:https://immigrantservices.ca/event/30757/
LOCATION:Kamloops Immigrant Services\, 448 Tranquille Road\, Kamloops\, British Columbia\, V2B 3H2\, Canada
CATEGORIES:Employment
END:VEVENT
BEGIN:VEVENT
DTSTART;TZID=America/Los_Angeles:20260304T100000
DTEND;TZID=America/Los_Angeles:20260304T110000
DTSTAMP:20260423T164531
CREATED:20260109T002251Z
LAST-MODIFIED:20260302T213833Z
UID:10001892-1772618400-1772622000@immigrantservices.ca
SUMMARY:Working in Canada: New Workshop
DESCRIPTION:Our Working in Canada workshop is a one hour group session where we talk through what employers expect\, how communication works on the job\, and how to carry yourself with confidence at work. It is practical\, honest\, and built around real workplace situations. \nWe meet every second Wednesday from 10 to 11 a.m. at our KIS Satellite Office\, 397 Tranquille Road. If you would like to join us\, register and pick a date that works for you. \nIt is a good place to ask questions\, learn from others\, and feel more prepared for your next shift or your next interview.
URL:https://immigrantservices.ca/event/working-in-canada-new-workshop/2026-03-04/
LOCATION:Kamloops Immigrant Services\, 448 Tranquille Road\, Kamloops\, British Columbia\, V2B 3H2\, Canada
CATEGORIES:Employment
END:VEVENT
BEGIN:VEVENT
DTSTART;TZID=America/Los_Angeles:20260228T100000
DTEND;TZID=America/Los_Angeles:20260228T113000
DTSTAMP:20260423T164531
CREATED:20260112T205059Z
LAST-MODIFIED:20260409T192445Z
UID:10002022-1772272800-1772278200@immigrantservices.ca
SUMMARY:English Chatter
DESCRIPTION:
URL:https://immigrantservices.ca/event/english-chatter-2/2026-02-28/
LOCATION:Kamloops Immigrant Services\, 448 Tranquille Road\, Kamloops\, British Columbia\, V2B 3H2\, Canada
CATEGORIES:Community Connections
ATTACH;FMTTYPE=image/jpeg:https://immigrantservices.ca/wp-content/uploads/2026/01/2026-0110-0425-English-Chatter-corner-Schedule-Emily.jpg
END:VEVENT
BEGIN:VEVENT
DTSTART;TZID=America/Los_Angeles:20260224T173000
DTEND;TZID=America/Los_Angeles:20260224T190000
DTSTAMP:20260423T164531
CREATED:20260203T175728Z
LAST-MODIFIED:20260203T175728Z
UID:10002195-1771954200-1771959600@immigrantservices.ca
SUMMARY:English Spanish Exchange
DESCRIPTION:
URL:https://immigrantservices.ca/event/english-spanish-exchange-11/2026-02-24/
LOCATION:Kamloops Immigrant Services\, 448 Tranquille Road\, Kamloops\, British Columbia\, V2B 3H2\, Canada
CATEGORIES:Community Connections
ATTACH;FMTTYPE=image/jpeg:https://immigrantservices.ca/wp-content/uploads/2025/08/2025-English-Spanish-Exchange-Ruben.jpg
END:VEVENT
BEGIN:VEVENT
DTSTART;TZID=America/Los_Angeles:20260221T100000
DTEND;TZID=America/Los_Angeles:20260221T113000
DTSTAMP:20260423T164531
CREATED:20260112T205059Z
LAST-MODIFIED:20260409T192445Z
UID:10002021-1771668000-1771673400@immigrantservices.ca
SUMMARY:English Chatter
DESCRIPTION:
URL:https://immigrantservices.ca/event/english-chatter-2/2026-02-21/
LOCATION:Kamloops Immigrant Services\, 448 Tranquille Road\, Kamloops\, British Columbia\, V2B 3H2\, Canada
CATEGORIES:Community Connections
ATTACH;FMTTYPE=image/jpeg:https://immigrantservices.ca/wp-content/uploads/2026/01/2026-0110-0425-English-Chatter-corner-Schedule-Emily.jpg
END:VEVENT
BEGIN:VEVENT
DTSTART;TZID=America/Los_Angeles:20260218T100000
DTEND;TZID=America/Los_Angeles:20260218T110000
DTSTAMP:20260423T164531
CREATED:20260109T002251Z
LAST-MODIFIED:20260302T213833Z
UID:10001891-1771408800-1771412400@immigrantservices.ca
SUMMARY:Working in Canada: New Workshop
DESCRIPTION:Our Working in Canada workshop is a one hour group session where we talk through what employers expect\, how communication works on the job\, and how to carry yourself with confidence at work. It is practical\, honest\, and built around real workplace situations. \nWe meet every second Wednesday from 10 to 11 a.m. at our KIS Satellite Office\, 397 Tranquille Road. If you would like to join us\, register and pick a date that works for you. \nIt is a good place to ask questions\, learn from others\, and feel more prepared for your next shift or your next interview.
URL:https://immigrantservices.ca/event/working-in-canada-new-workshop/2026-02-18/
LOCATION:Kamloops Immigrant Services\, 448 Tranquille Road\, Kamloops\, British Columbia\, V2B 3H2\, Canada
CATEGORIES:Employment
END:VEVENT
BEGIN:VEVENT
DTSTART;TZID=America/Los_Angeles:20260214T100000
DTEND;TZID=America/Los_Angeles:20260214T113000
DTSTAMP:20260423T164531
CREATED:20260112T205059Z
LAST-MODIFIED:20260409T192445Z
UID:10002020-1771063200-1771068600@immigrantservices.ca
SUMMARY:English Chatter
DESCRIPTION:
URL:https://immigrantservices.ca/event/english-chatter-2/2026-02-14/
LOCATION:Kamloops Immigrant Services\, 448 Tranquille Road\, Kamloops\, British Columbia\, V2B 3H2\, Canada
CATEGORIES:Community Connections
ATTACH;FMTTYPE=image/jpeg:https://immigrantservices.ca/wp-content/uploads/2026/01/2026-0110-0425-English-Chatter-corner-Schedule-Emily.jpg
END:VEVENT
BEGIN:VEVENT
DTSTART;TZID=America/Los_Angeles:20260210T173000
DTEND;TZID=America/Los_Angeles:20260210T190000
DTSTAMP:20260423T164531
CREATED:20260203T175728Z
LAST-MODIFIED:20260203T175728Z
UID:10002194-1770744600-1770750000@immigrantservices.ca
SUMMARY:English Spanish Exchange
DESCRIPTION:
URL:https://immigrantservices.ca/event/english-spanish-exchange-11/2026-02-10/
LOCATION:Kamloops Immigrant Services\, 448 Tranquille Road\, Kamloops\, British Columbia\, V2B 3H2\, Canada
CATEGORIES:Community Connections
ATTACH;FMTTYPE=image/jpeg:https://immigrantservices.ca/wp-content/uploads/2025/08/2025-English-Spanish-Exchange-Ruben.jpg
END:VEVENT
BEGIN:VEVENT
DTSTART;TZID=America/Los_Angeles:20260207T100000
DTEND;TZID=America/Los_Angeles:20260207T113000
DTSTAMP:20260423T164531
CREATED:20260112T205059Z
LAST-MODIFIED:20260409T192445Z
UID:10002019-1770458400-1770463800@immigrantservices.ca
SUMMARY:English Chatter
DESCRIPTION:
URL:https://immigrantservices.ca/event/english-chatter-2/2026-02-07/
LOCATION:Kamloops Immigrant Services\, 448 Tranquille Road\, Kamloops\, British Columbia\, V2B 3H2\, Canada
CATEGORIES:Community Connections
ATTACH;FMTTYPE=image/jpeg:https://immigrantservices.ca/wp-content/uploads/2026/01/2026-0110-0425-English-Chatter-corner-Schedule-Emily.jpg
END:VEVENT
BEGIN:VEVENT
DTSTART;TZID=America/Los_Angeles:20260204T100000
DTEND;TZID=America/Los_Angeles:20260204T110000
DTSTAMP:20260423T164531
CREATED:20260109T002251Z
LAST-MODIFIED:20260302T213833Z
UID:10001890-1770199200-1770202800@immigrantservices.ca
SUMMARY:Working in Canada: New Workshop
DESCRIPTION:Our Working in Canada workshop is a one hour group session where we talk through what employers expect\, how communication works on the job\, and how to carry yourself with confidence at work. It is practical\, honest\, and built around real workplace situations. \nWe meet every second Wednesday from 10 to 11 a.m. at our KIS Satellite Office\, 397 Tranquille Road. If you would like to join us\, register and pick a date that works for you. \nIt is a good place to ask questions\, learn from others\, and feel more prepared for your next shift or your next interview.
URL:https://immigrantservices.ca/event/working-in-canada-new-workshop/2026-02-04/
LOCATION:Kamloops Immigrant Services\, 448 Tranquille Road\, Kamloops\, British Columbia\, V2B 3H2\, Canada
CATEGORIES:Employment
END:VEVENT
BEGIN:VEVENT
DTSTART;TZID=America/Los_Angeles:20260201T103000
DTEND;TZID=America/Los_Angeles:20260201T120000
DTSTAMP:20260423T164531
CREATED:20260409T191214Z
LAST-MODIFIED:20260409T191329Z
UID:10001726-1769941800-1769947200@immigrantservices.ca
SUMMARY:Toddlers in Motion
DESCRIPTION:
URL:https://immigrantservices.ca/event/toddlers-in-motion-2-2/2026-02-01/2/
LOCATION:Kamloops Immigrant Services\, 448 Tranquille Road\, Kamloops\, British Columbia\, V2B 3H2\, Canada
CATEGORIES:Childmind
ATTACH;FMTTYPE=image/jpeg:https://immigrantservices.ca/wp-content/uploads/2025/10/2025-1104-18-25-Toddlers-In-Motion-Angie-Childmind.jpg
END:VEVENT
BEGIN:VEVENT
DTSTART;TZID=America/Los_Angeles:20260201T080000
DTEND;TZID=America/Los_Angeles:20260201T170000
DTSTAMP:20260423T164531
CREATED:20260409T191214Z
LAST-MODIFIED:20260409T191329Z
UID:10002257-1769932800-1769965200@immigrantservices.ca
SUMMARY:Toddlers in Motion
DESCRIPTION:
URL:https://immigrantservices.ca/event/toddlers-in-motion-2-2/2026-02-01/1/
LOCATION:Kamloops Immigrant Services\, 448 Tranquille Road\, Kamloops\, British Columbia\, V2B 3H2\, Canada
CATEGORIES:Childmind
ATTACH;FMTTYPE=image/jpeg:https://immigrantservices.ca/wp-content/uploads/2025/10/2025-1104-18-25-Toddlers-In-Motion-Angie-Childmind.jpg
END:VEVENT
BEGIN:VEVENT
DTSTART;TZID=America/Los_Angeles:20260131T100000
DTEND;TZID=America/Los_Angeles:20260131T113000
DTSTAMP:20260423T164531
CREATED:20260112T205059Z
LAST-MODIFIED:20260409T192445Z
UID:10002018-1769853600-1769859000@immigrantservices.ca
SUMMARY:English Chatter
DESCRIPTION:
URL:https://immigrantservices.ca/event/english-chatter-2/2026-01-31/
LOCATION:Kamloops Immigrant Services\, 448 Tranquille Road\, Kamloops\, British Columbia\, V2B 3H2\, Canada
CATEGORIES:Community Connections
ATTACH;FMTTYPE=image/jpeg:https://immigrantservices.ca/wp-content/uploads/2026/01/2026-0110-0425-English-Chatter-corner-Schedule-Emily.jpg
END:VEVENT
BEGIN:VEVENT
DTSTART;TZID=America/Los_Angeles:20260130T180000
DTEND;TZID=America/Los_Angeles:20260130T200000
DTSTAMP:20260423T164531
CREATED:20260112T211300Z
LAST-MODIFIED:20260112T211300Z
UID:10002191-1769796000-1769803200@immigrantservices.ca
SUMMARY:Puzzle Competion
DESCRIPTION:
URL:https://immigrantservices.ca/event/puzzle-competion/
LOCATION:Kamloops Immigrant Services\, 448 Tranquille Road\, Kamloops\, British Columbia\, V2B 3H2\, Canada
CATEGORIES:Community Connections
ATTACH;FMTTYPE=image/jpeg:https://immigrantservices.ca/wp-content/uploads/2026/01/2026-0130-Puzzle-Competition-Emily.jpg
END:VEVENT
BEGIN:VEVENT
DTSTART;TZID=America/Los_Angeles:20260130T180000
DTEND;TZID=America/Los_Angeles:20260130T190000
DTSTAMP:20260423T164531
CREATED:20260112T211409Z
LAST-MODIFIED:20260112T211409Z
UID:10002192-1769796000-1769799600@immigrantservices.ca
SUMMARY:Rental Assistance Programs in BC
DESCRIPTION:
URL:https://immigrantservices.ca/event/rental-assistance-programs-in-bc/
LOCATION:Kamloops Immigrant Services\, 448 Tranquille Road\, Kamloops\, British Columbia\, V2B 3H2\, Canada
CATEGORIES:Settlement
END:VEVENT
BEGIN:VEVENT
DTSTART;TZID=America/Los_Angeles:20260129T180000
DTEND;TZID=America/Los_Angeles:20260129T200000
DTSTAMP:20260423T164531
CREATED:20260112T211159Z
LAST-MODIFIED:20260112T211159Z
UID:10002190-1769709600-1769716800@immigrantservices.ca
SUMMARY:Cooking Class
DESCRIPTION:
URL:https://immigrantservices.ca/event/cooking-class-3/
LOCATION:Kamloops Immigrant Services\, 448 Tranquille Road\, Kamloops\, British Columbia\, V2B 3H2\, Canada
CATEGORIES:Community Connections
ATTACH;FMTTYPE=image/jpeg:https://immigrantservices.ca/wp-content/uploads/2026/01/2026-0129-Cooking-Class-Emily.jpg
END:VEVENT
BEGIN:VEVENT
DTSTART;TZID=America/Los_Angeles:20260129T120000
DTEND;TZID=America/Los_Angeles:20260129T130000
DTSTAMP:20260423T164531
CREATED:20260109T001743Z
LAST-MODIFIED:20260109T002554Z
UID:10001888-1769688000-1769691600@immigrantservices.ca
SUMMARY:Sector Spotlight: Starting a Business (Venture Kamloops)
DESCRIPTION:Thinking about starting a business? Join Venture Kamloops for a one-hour session on launching a business in Kamloops and the supports available to help entrepreneurs start and grow successfully.Date: January 29Time: 12–1 p.m.Location: KISFormat: In person
URL:https://immigrantservices.ca/event/sector-spotlight-starting-a-business-venture-kamloops/
LOCATION:Kamloops Immigrant Services\, 448 Tranquille Road\, Kamloops\, British Columbia\, V2B 3H2\, Canada
CATEGORIES:Employment
END:VEVENT
BEGIN:VEVENT
DTSTART;TZID=America/Los_Angeles:20260128T103000
DTEND;TZID=America/Los_Angeles:20260128T120000
DTSTAMP:20260423T164531
CREATED:20260112T210913Z
LAST-MODIFIED:20260112T210913Z
UID:10002188-1769596200-1769601600@immigrantservices.ca
SUMMARY:Joanna Norman Midwife
DESCRIPTION:
URL:https://immigrantservices.ca/event/joanna-norman-midwife/
LOCATION:Kamloops Immigrant Services\, 448 Tranquille Road\, Kamloops\, British Columbia\, V2B 3H2\, Canada
CATEGORIES:Community Connections
END:VEVENT
BEGIN:VEVENT
DTSTART;TZID=America/Los_Angeles:20260126T180000
DTEND;TZID=America/Los_Angeles:20260126T193000
DTSTAMP:20260423T164531
CREATED:20260112T210741Z
LAST-MODIFIED:20260112T210741Z
UID:10002187-1769450400-1769455800@immigrantservices.ca
SUMMARY:Learn About your Tax Return
DESCRIPTION:
URL:https://immigrantservices.ca/event/learn-about-your-tax-return/
LOCATION:Kamloops Immigrant Services\, 448 Tranquille Road\, Kamloops\, British Columbia\, V2B 3H2\, Canada
CATEGORIES:Community Connections
ATTACH;FMTTYPE=image/jpeg:https://immigrantservices.ca/wp-content/uploads/2026/01/2026-0126-Tax-Preparation-workshop-Angie.jpg
END:VEVENT
BEGIN:VEVENT
DTSTART;TZID=America/Los_Angeles:20260124T100000
DTEND;TZID=America/Los_Angeles:20260124T113000
DTSTAMP:20260423T164531
CREATED:20260112T205059Z
LAST-MODIFIED:20260409T192445Z
UID:10002017-1769248800-1769254200@immigrantservices.ca
SUMMARY:English Chatter
DESCRIPTION:
URL:https://immigrantservices.ca/event/english-chatter-2/2026-01-24/
LOCATION:Kamloops Immigrant Services\, 448 Tranquille Road\, Kamloops\, British Columbia\, V2B 3H2\, Canada
CATEGORIES:Community Connections
ATTACH;FMTTYPE=image/jpeg:https://immigrantservices.ca/wp-content/uploads/2026/01/2026-0110-0425-English-Chatter-corner-Schedule-Emily.jpg
END:VEVENT
BEGIN:VEVENT
DTSTART;TZID=America/Los_Angeles:20260124T090000
DTEND;TZID=America/Los_Angeles:20260124T120000
DTSTAMP:20260423T164531
CREATED:20260112T210632Z
LAST-MODIFIED:20260112T210632Z
UID:10002186-1769245200-1769256000@immigrantservices.ca
SUMMARY:ABC Family Literacy Day
DESCRIPTION:
URL:https://immigrantservices.ca/event/abc-family-literacy-day/
LOCATION:Kamloops Immigrant Services\, 448 Tranquille Road\, Kamloops\, British Columbia\, V2B 3H2\, Canada
CATEGORIES:Childmind
END:VEVENT
END:VCALENDAR