BEGIN:VCALENDAR
VERSION:2.0
PRODID:-//Kamloops Immigrant Services - ECPv6.15.20//NONSGML v1.0//EN
CALSCALE:GREGORIAN
METHOD:PUBLISH
X-WR-CALNAME:Kamloops Immigrant Services
X-ORIGINAL-URL:https://immigrantservices.ca
X-WR-CALDESC:Events for Kamloops Immigrant Services
REFRESH-INTERVAL;VALUE=DURATION:PT1H
X-Robots-Tag:noindex
X-PUBLISHED-TTL:PT1H
BEGIN:VTIMEZONE
TZID:America/Los_Angeles
BEGIN:DAYLIGHT
TZOFFSETFROM:-0800
TZOFFSETTO:-0700
TZNAME:PDT
DTSTART:20240310T100000
END:DAYLIGHT
BEGIN:STANDARD
TZOFFSETFROM:-0700
TZOFFSETTO:-0800
TZNAME:PST
DTSTART:20241103T090000
END:STANDARD
BEGIN:DAYLIGHT
TZOFFSETFROM:-0800
TZOFFSETTO:-0700
TZNAME:PDT
DTSTART:20250309T100000
END:DAYLIGHT
BEGIN:STANDARD
TZOFFSETFROM:-0700
TZOFFSETTO:-0800
TZNAME:PST
DTSTART:20251102T090000
END:STANDARD
BEGIN:DAYLIGHT
TZOFFSETFROM:-0800
TZOFFSETTO:-0700
TZNAME:PDT
DTSTART:20260308T100000
END:DAYLIGHT
BEGIN:STANDARD
TZOFFSETFROM:-0700
TZOFFSETTO:-0800
TZNAME:PST
DTSTART:20261101T090000
END:STANDARD
END:VTIMEZONE
BEGIN:VTIMEZONE
TZID:America/Vancouver
BEGIN:DAYLIGHT
TZOFFSETFROM:-0800
TZOFFSETTO:-0700
TZNAME:PDT
DTSTART:20240310T100000
END:DAYLIGHT
BEGIN:STANDARD
TZOFFSETFROM:-0700
TZOFFSETTO:-0800
TZNAME:PST
DTSTART:20241103T090000
END:STANDARD
BEGIN:DAYLIGHT
TZOFFSETFROM:-0800
TZOFFSETTO:-0700
TZNAME:PDT
DTSTART:20250309T100000
END:DAYLIGHT
BEGIN:STANDARD
TZOFFSETFROM:-0700
TZOFFSETTO:-0800
TZNAME:PST
DTSTART:20251102T090000
END:STANDARD
BEGIN:DAYLIGHT
TZOFFSETFROM:-0800
TZOFFSETTO:-0700
TZNAME:PDT
DTSTART:20260308T100000
END:DAYLIGHT
BEGIN:STANDARD
TZOFFSETFROM:-0700
TZOFFSETTO:-0800
TZNAME:PST
DTSTART:20261101T090000
END:STANDARD
END:VTIMEZONE
BEGIN:VEVENT
DTSTART;TZID=America/Los_Angeles:20250515T170000
DTEND;TZID=America/Los_Angeles:20250515T190000
DTSTAMP:20260425T105416
CREATED:20250502T192349Z
LAST-MODIFIED:20250502T192349Z
UID:10000972-1747328400-1747335600@immigrantservices.ca
SUMMARY:YLP: Talking Is The Key To Your Success
DESCRIPTION:
URL:https://immigrantservices.ca/event/ylp-talking-is-the-key-to-your-success/
LOCATION:Kamloops Immigrant Services\, 448 Tranquille Road\, Kamloops\, British Columbia\, V2B 3H2\, Canada
CATEGORIES:Employment
ATTACH;FMTTYPE=image/jpeg:https://immigrantservices.ca/wp-content/uploads/2025/05/2025-0515-Talk-Is-The-Key-To-Your-success-Amy.jpg
END:VEVENT
BEGIN:VEVENT
DTSTART;TZID=America/Los_Angeles:20250515T130000
DTEND;TZID=America/Los_Angeles:20250515T143000
DTSTAMP:20260425T105416
CREATED:20250502T192707Z
LAST-MODIFIED:20250502T192707Z
UID:10000974-1747314000-1747319400@immigrantservices.ca
SUMMARY:WE Mental Health Awareness
DESCRIPTION:
URL:https://immigrantservices.ca/event/we-mental-health-awareness/
LOCATION:Kamloops Immigrant Services\, 448 Tranquille Road\, Kamloops\, British Columbia\, V2B 3H2\, Canada
CATEGORIES:Women's Empowerment
ATTACH;FMTTYPE=image/jpeg:https://immigrantservices.ca/wp-content/uploads/2025/05/2025-0501.-15-29-WE-Program-Tea-Talk-2025-Erin.jpg
END:VEVENT
BEGIN:VEVENT
DTSTART;TZID=America/Los_Angeles:20250513T103000
DTEND;TZID=America/Los_Angeles:20250513T120000
DTSTAMP:20260425T105416
CREATED:20250502T191906Z
LAST-MODIFIED:20250502T191906Z
UID:10000969-1747132200-1747137600@immigrantservices.ca
SUMMARY:Baby Corner
DESCRIPTION:
URL:https://immigrantservices.ca/event/baby-corner-2/
LOCATION:Kamloops Immigrant Services\, 448 Tranquille Road\, Kamloops\, British Columbia\, V2B 3H2\, Canada
CATEGORIES:Childmind
ATTACH;FMTTYPE=image/jpeg:https://immigrantservices.ca/wp-content/uploads/2025/05/2025-0506-13-20-27-Baby-Corner-Angelica-1.jpg
END:VEVENT
BEGIN:VEVENT
DTSTART;TZID=America/Los_Angeles:20250512T180000
DTEND;TZID=America/Los_Angeles:20250512T190000
DTSTAMP:20260425T105416
CREATED:20250502T191613Z
LAST-MODIFIED:20250502T191613Z
UID:10000967-1747072800-1747076400@immigrantservices.ca
SUMMARY:LGBTQ+ Pride Group
DESCRIPTION:
URL:https://immigrantservices.ca/event/lgbtq-pride-group-2/
LOCATION:Kamloops Immigrant Services\, 448 Tranquille Road\, Kamloops\, British Columbia\, V2B 3H2\, Canada
CATEGORIES:Pride Group
ATTACH;FMTTYPE=image/jpeg:https://immigrantservices.ca/wp-content/uploads/2025/05/2025-0512-26-Pride-Group-Erin.jpg
END:VEVENT
BEGIN:VEVENT
DTSTART;TZID=America/Los_Angeles:20250510T090000
DTEND;TZID=America/Los_Angeles:20250510T103000
DTSTAMP:20260425T105416
CREATED:20250502T190221Z
LAST-MODIFIED:20250502T190221Z
UID:10000963-1746867600-1746873000@immigrantservices.ca
SUMMARY:Get Noticed Promotion Strategies
DESCRIPTION:
URL:https://immigrantservices.ca/event/get-noticed-promotion-strategies/
LOCATION:Kamloops Immigrant Services\, 448 Tranquille Road\, Kamloops\, British Columbia\, V2B 3H2\, Canada
CATEGORIES:Employment
ATTACH;FMTTYPE=image/jpeg:https://immigrantservices.ca/wp-content/uploads/2025/05/2025-0510-Digital-Marketing-Bootcamp-JY.jpg
END:VEVENT
BEGIN:VEVENT
DTSTART;TZID=America/Los_Angeles:20250509T120000
DTEND;TZID=America/Los_Angeles:20250509T140000
DTSTAMP:20260425T105416
CREATED:20250502T190026Z
LAST-MODIFIED:20250502T190026Z
UID:10000962-1746792000-1746799200@immigrantservices.ca
SUMMARY:Mother's Day Celebration
DESCRIPTION:
URL:https://immigrantservices.ca/event/mothers-day-celebration/
LOCATION:Kamloops Immigrant Services\, 448 Tranquille Road\, Kamloops\, British Columbia\, V2B 3H2\, Canada
CATEGORIES:Women's Empowerment
ATTACH;FMTTYPE=image/jpeg:https://immigrantservices.ca/wp-content/uploads/2025/05/2025-0509-MOTHER-DAY-Celebration-Angelica.jpg
END:VEVENT
BEGIN:VEVENT
DTSTART;TZID=America/Los_Angeles:20250507T150000
DTEND;TZID=America/Los_Angeles:20250507T160000
DTSTAMP:20260425T105416
CREATED:20250502T185709Z
LAST-MODIFIED:20250502T185709Z
UID:10000960-1746630000-1746633600@immigrantservices.ca
SUMMARY:Drop-In Resume Support
DESCRIPTION:
URL:https://immigrantservices.ca/event/drop-in-resume-support-16/
LOCATION:Kamloops Immigrant Services\, 448 Tranquille Road\, Kamloops\, British Columbia\, V2B 3H2\, Canada
CATEGORIES:Employment
ATTACH;FMTTYPE=image/jpeg:https://immigrantservices.ca/wp-content/uploads/2025/05/2025-0507-21-Bi-Weekly-Drop-in-Resume-Support-Amy.jpg
END:VEVENT
BEGIN:VEVENT
DTSTART;TZID=America/Los_Angeles:20250506T173000
DTEND;TZID=America/Los_Angeles:20250506T190000
DTSTAMP:20260425T105416
CREATED:20250318T222352Z
LAST-MODIFIED:20250318T222828Z
UID:10000800-1746552600-1746558000@immigrantservices.ca
SUMMARY:English Spanish Exchange
DESCRIPTION:
URL:https://immigrantservices.ca/event/english-spanish-exchange-4/2025-05-06/
LOCATION:Kamloops Immigrant Services\, 448 Tranquille Road\, Kamloops\, British Columbia\, V2B 3H2\, Canada
CATEGORIES:Community Connections
ATTACH;FMTTYPE=image/jpeg:https://immigrantservices.ca/wp-content/uploads/2025/01/English-Spanish-Exchange.jpg
END:VEVENT
BEGIN:VEVENT
DTSTART;TZID=America/Los_Angeles:20250506T103000
DTEND;TZID=America/Los_Angeles:20250506T120000
DTSTAMP:20260425T105416
CREATED:20250502T185420Z
LAST-MODIFIED:20250502T185420Z
UID:10000959-1746527400-1746532800@immigrantservices.ca
SUMMARY:Baby Corner
DESCRIPTION:
URL:https://immigrantservices.ca/event/baby-corner/
LOCATION:Kamloops Immigrant Services\, 448 Tranquille Road\, Kamloops\, British Columbia\, V2B 3H2\, Canada
CATEGORIES:Childmind
ATTACH;FMTTYPE=image/jpeg:https://immigrantservices.ca/wp-content/uploads/2025/05/2025-0506-13-20-27-Baby-Corner-Angelica.jpg
END:VEVENT
BEGIN:VEVENT
DTSTART;TZID=America/Los_Angeles:20250503T090000
DTEND;TZID=America/Los_Angeles:20250503T103000
DTSTAMP:20260425T105416
CREATED:20250502T184534Z
LAST-MODIFIED:20250502T184534Z
UID:10000955-1746262800-1746268200@immigrantservices.ca
SUMMARY:Digital Marketing Techniques
DESCRIPTION:
URL:https://immigrantservices.ca/event/digital-marketing-techniques/
LOCATION:Kamloops Immigrant Services\, 448 Tranquille Road\, Kamloops\, British Columbia\, V2B 3H2\, Canada
CATEGORIES:Employment
ATTACH;FMTTYPE=image/jpeg:https://immigrantservices.ca/wp-content/uploads/2025/05/2025-0503-Digital-Marketing-Bootcamp-JY.jpg
END:VEVENT
BEGIN:VEVENT
DTSTART;TZID=America/Los_Angeles:20250501T130000
DTEND;TZID=America/Los_Angeles:20250501T143000
DTSTAMP:20260425T105416
CREATED:20250502T184150Z
LAST-MODIFIED:20250502T184150Z
UID:10000953-1746104400-1746109800@immigrantservices.ca
SUMMARY:WE Mother's Day Appreciation Craft
DESCRIPTION:
URL:https://immigrantservices.ca/event/we-mothers-day-appreciation-craft/
LOCATION:Kamloops Immigrant Services\, 448 Tranquille Road\, Kamloops\, British Columbia\, V2B 3H2\, Canada
CATEGORIES:Women's Empowerment
ATTACH;FMTTYPE=image/jpeg:https://immigrantservices.ca/wp-content/uploads/2025/05/2025-0501.-15-29-WE-Program-Tea-Talk-2025-Erin.jpg
END:VEVENT
BEGIN:VEVENT
DTSTART;TZID=America/Los_Angeles:20250430T180000
DTEND;TZID=America/Los_Angeles:20250430T200000
DTSTAMP:20260425T105416
CREATED:20250401T184435Z
LAST-MODIFIED:20250401T200108Z
UID:10000828-1746036000-1746043200@immigrantservices.ca
SUMMARY:Y Mind for Newcomers
DESCRIPTION:
URL:https://immigrantservices.ca/event/y-mind-for-newcomers/2025-04-30/
LOCATION:Kamloops Immigrant Services\, 448 Tranquille Road\, Kamloops\, British Columbia\, V2B 3H2\, Canada
CATEGORIES:Women's Empowerment
ATTACH;FMTTYPE=image/jpeg:https://immigrantservices.ca/wp-content/uploads/2025/04/2025-0409-16-23-30-Y-Mind-Poster-KIS-Spring-Erin.jpg
END:VEVENT
BEGIN:VEVENT
DTSTART;TZID=America/Los_Angeles:20250428T180000
DTEND;TZID=America/Los_Angeles:20250428T190000
DTSTAMP:20260425T105416
CREATED:20250401T192724Z
LAST-MODIFIED:20250401T192724Z
UID:10000940-1745863200-1745866800@immigrantservices.ca
SUMMARY:LGBTQ+ Newcomer Pride Group
DESCRIPTION:
URL:https://immigrantservices.ca/event/lgbtq-newcomer-pride-group/2025-04-28/
LOCATION:Kamloops Immigrant Services\, 448 Tranquille Road\, Kamloops\, British Columbia\, V2B 3H2\, Canada
CATEGORIES:Pride Group
ATTACH;FMTTYPE=image/jpeg:https://immigrantservices.ca/wp-content/uploads/2025/04/2025-0331-0414-0428-WE-Pride-MarchApril-2025-Erin.jpg
END:VEVENT
BEGIN:VEVENT
DTSTART;TZID=America/Los_Angeles:20250426T090000
DTEND;TZID=America/Los_Angeles:20250426T103000
DTSTAMP:20260425T105416
CREATED:20250401T195748Z
LAST-MODIFIED:20250401T195748Z
UID:10000952-1745658000-1745663400@immigrantservices.ca
SUMMARY:Build Your Own Website Workshop
DESCRIPTION:
URL:https://immigrantservices.ca/event/build-your-own-website-workshop/
LOCATION:Kamloops Immigrant Services\, 448 Tranquille Road\, Kamloops\, British Columbia\, V2B 3H2\, Canada
CATEGORIES:Employment
ATTACH;FMTTYPE=image/jpeg:https://immigrantservices.ca/wp-content/uploads/2025/04/2025-0426-Digital-Marketing-Bootcamp-JY.jpg
END:VEVENT
BEGIN:VEVENT
DTSTART;TZID=America/Los_Angeles:20250425T153000
DTEND;TZID=America/Los_Angeles:20250425T170000
DTSTAMP:20260425T105416
CREATED:20250401T195617Z
LAST-MODIFIED:20250401T195617Z
UID:10000951-1745595000-1745600400@immigrantservices.ca
SUMMARY:Art Workshop
DESCRIPTION:
URL:https://immigrantservices.ca/event/art-workshop/
LOCATION:Kamloops Immigrant Services\, 448 Tranquille Road\, Kamloops\, British Columbia\, V2B 3H2\, Canada
CATEGORIES:Community Connections
ATTACH;FMTTYPE=image/jpeg:https://immigrantservices.ca/wp-content/uploads/2025/04/2025-0425-Collaborative-Art-Emily.jpg
END:VEVENT
BEGIN:VEVENT
DTSTART;TZID=America/Vancouver:20250425T110000
DTEND;TZID=America/Vancouver:20250425T120000
DTSTAMP:20260425T105416
CREATED:20250401T192237Z
LAST-MODIFIED:20250401T192237Z
UID:10000937-1745578800-1745582400@immigrantservices.ca
SUMMARY:Mother Goose
DESCRIPTION:
URL:https://immigrantservices.ca/event/mother-goose-2/2025-04-25/
LOCATION:Kamloops Immigrant Services\, 448 Tranquille Road\, Kamloops\, British Columbia\, V2B 3H2\, Canada
CATEGORIES:Childmind
ATTACH;FMTTYPE=image/jpeg:https://immigrantservices.ca/wp-content/uploads/2025/04/2025-April-to-June-Mother-Goose-Angelica.jpg
END:VEVENT
BEGIN:VEVENT
DTSTART;TZID=America/Los_Angeles:20250424T173000
DTEND;TZID=America/Los_Angeles:20250424T183000
DTSTAMP:20260425T105416
CREATED:20250401T193825Z
LAST-MODIFIED:20250401T193825Z
UID:10000946-1745515800-1745519400@immigrantservices.ca
SUMMARY:Spring Family Sports Night
DESCRIPTION:
URL:https://immigrantservices.ca/event/spring-family-sports-night-2/2025-04-24/
LOCATION:Kamloops Immigrant Services\, 448 Tranquille Road\, Kamloops\, British Columbia\, V2B 3H2\, Canada
CATEGORIES:Community Connections
ATTACH;FMTTYPE=image/jpeg:https://immigrantservices.ca/wp-content/uploads/2025/04/2025-0417-0424-0501-0508-Spring-Family-Sports-Night-Angie.jpg
END:VEVENT
BEGIN:VEVENT
DTSTART;TZID=America/Los_Angeles:20250424T113000
DTEND;TZID=America/Los_Angeles:20250424T130000
DTSTAMP:20260425T105416
CREATED:20250401T195450Z
LAST-MODIFIED:20250401T195450Z
UID:10000950-1745494200-1745499600@immigrantservices.ca
SUMMARY:Potluck
DESCRIPTION:
URL:https://immigrantservices.ca/event/potluck-4/
LOCATION:Kamloops Immigrant Services\, 448 Tranquille Road\, Kamloops\, British Columbia\, V2B 3H2\, Canada
CATEGORIES:Community Connections
ATTACH;FMTTYPE=image/jpeg:https://immigrantservices.ca/wp-content/uploads/2025/04/2025-0424-Potluck-Emily.jpg
END:VEVENT
BEGIN:VEVENT
DTSTART;TZID=America/Los_Angeles:20250424T100000
DTEND;TZID=America/Los_Angeles:20250424T120000
DTSTAMP:20260425T105416
CREATED:20250401T184726Z
LAST-MODIFIED:20250401T195928Z
UID:10000883-1745488800-1745496000@immigrantservices.ca
SUMMARY:SheLeads Women's Career Empowerment
DESCRIPTION:
URL:https://immigrantservices.ca/event/sheleads-womens-career-empowerment/2025-04-24/
LOCATION:Kamloops Immigrant Services\, 448 Tranquille Road\, Kamloops\, British Columbia\, V2B 3H2\, Canada
CATEGORIES:Employment
ATTACH;FMTTYPE=image/jpeg:https://immigrantservices.ca/wp-content/uploads/2025/04/2025-0410-0515-SheLeads-Program-Details-Amy.jpg
END:VEVENT
BEGIN:VEVENT
DTSTART;TZID=America/Los_Angeles:20250423T180000
DTEND;TZID=America/Los_Angeles:20250423T200000
DTSTAMP:20260425T105416
CREATED:20250401T184435Z
LAST-MODIFIED:20250401T200108Z
UID:10000827-1745431200-1745438400@immigrantservices.ca
SUMMARY:Y Mind for Newcomers
DESCRIPTION:
URL:https://immigrantservices.ca/event/y-mind-for-newcomers/2025-04-23/
LOCATION:Kamloops Immigrant Services\, 448 Tranquille Road\, Kamloops\, British Columbia\, V2B 3H2\, Canada
CATEGORIES:Women's Empowerment
ATTACH;FMTTYPE=image/jpeg:https://immigrantservices.ca/wp-content/uploads/2025/04/2025-0409-16-23-30-Y-Mind-Poster-KIS-Spring-Erin.jpg
END:VEVENT
BEGIN:VEVENT
DTSTART;TZID=America/Los_Angeles:20250423T180000
DTEND;TZID=America/Los_Angeles:20250423T190000
DTSTAMP:20260425T105416
CREATED:20250401T194933Z
LAST-MODIFIED:20250401T194933Z
UID:10000949-1745431200-1745434800@immigrantservices.ca
SUMMARY:Pilates Class
DESCRIPTION:
URL:https://immigrantservices.ca/event/pilates-class/
LOCATION:Kamloops Immigrant Services\, 448 Tranquille Road\, Kamloops\, British Columbia\, V2B 3H2\, Canada
CATEGORIES:Community Connections
ATTACH;FMTTYPE=image/jpeg:https://immigrantservices.ca/wp-content/uploads/2025/04/2025-0423-Pilates-Emily.jpg
END:VEVENT
BEGIN:VEVENT
DTSTART;TZID=America/Los_Angeles:20250423T150000
DTEND;TZID=America/Los_Angeles:20250423T160000
DTSTAMP:20260425T105417
CREATED:20250401T184232Z
LAST-MODIFIED:20250401T184232Z
UID:10000824-1745420400-1745424000@immigrantservices.ca
SUMMARY:Drop-In Resume Support
DESCRIPTION:
URL:https://immigrantservices.ca/event/drop-in-resume-support-15/2025-04-23/
LOCATION:Kamloops Immigrant Services\, 448 Tranquille Road\, Kamloops\, British Columbia\, V2B 3H2\, Canada
CATEGORIES:Employment
END:VEVENT
BEGIN:VEVENT
DTSTART;TZID=America/Los_Angeles:20250423T110000
DTEND;TZID=America/Los_Angeles:20250423T123000
DTSTAMP:20260425T105417
CREATED:20250401T194546Z
LAST-MODIFIED:20250401T194546Z
UID:10000948-1745406000-1745411400@immigrantservices.ca
SUMMARY:Oral Care & Cavity Prevention
DESCRIPTION:
URL:https://immigrantservices.ca/event/oral-care-cavity-prevention/
LOCATION:Kamloops Immigrant Services\, 448 Tranquille Road\, Kamloops\, British Columbia\, V2B 3H2\, Canada
CATEGORIES:Childmind
ATTACH;FMTTYPE=image/jpeg:https://immigrantservices.ca/wp-content/uploads/2025/04/2025-0423-Oral-Care-Angelica.jpg
END:VEVENT
BEGIN:VEVENT
DTSTART;TZID=America/Los_Angeles:20250422T173000
DTEND;TZID=America/Los_Angeles:20250422T190000
DTSTAMP:20260425T105417
CREATED:20250318T222352Z
LAST-MODIFIED:20250318T222828Z
UID:10000799-1745343000-1745348400@immigrantservices.ca
SUMMARY:English Spanish Exchange
DESCRIPTION:
URL:https://immigrantservices.ca/event/english-spanish-exchange-4/2025-04-22/
LOCATION:Kamloops Immigrant Services\, 448 Tranquille Road\, Kamloops\, British Columbia\, V2B 3H2\, Canada
CATEGORIES:Community Connections
ATTACH;FMTTYPE=image/jpeg:https://immigrantservices.ca/wp-content/uploads/2025/01/English-Spanish-Exchange.jpg
END:VEVENT
BEGIN:VEVENT
DTSTART;TZID=America/Los_Angeles:20250422T140000
DTEND;TZID=America/Los_Angeles:20250422T150000
DTSTAMP:20260425T105417
CREATED:20250401T194132Z
LAST-MODIFIED:20250401T194132Z
UID:10000947-1745330400-1745334000@immigrantservices.ca
SUMMARY:Career Info Session
DESCRIPTION:
URL:https://immigrantservices.ca/event/career-info-session/
LOCATION:Kamloops Immigrant Services\, 448 Tranquille Road\, Kamloops\, British Columbia\, V2B 3H2\, Canada
CATEGORIES:Employment
END:VEVENT
BEGIN:VEVENT
DTSTART;TZID=America/Los_Angeles:20250417T173000
DTEND;TZID=America/Los_Angeles:20250417T193000
DTSTAMP:20260425T105417
CREATED:20250401T193607Z
LAST-MODIFIED:20250401T193607Z
UID:10000944-1744911000-1744918200@immigrantservices.ca
SUMMARY:Kickstart Your Digital Marketing Workshop
DESCRIPTION:
URL:https://immigrantservices.ca/event/kickstart-your-digital-marketing-workshop/
LOCATION:Kamloops Immigrant Services\, 448 Tranquille Road\, Kamloops\, British Columbia\, V2B 3H2\, Canada
CATEGORIES:Employment
ATTACH;FMTTYPE=image/jpeg:https://immigrantservices.ca/wp-content/uploads/2025/04/2025-0417-Digital-Marketing-Bootcamp-JY.jpg
END:VEVENT
BEGIN:VEVENT
DTSTART;TZID=America/Los_Angeles:20250417T173000
DTEND;TZID=America/Los_Angeles:20250417T183000
DTSTAMP:20260425T105417
CREATED:20250401T193825Z
LAST-MODIFIED:20250401T193825Z
UID:10000945-1744911000-1744914600@immigrantservices.ca
SUMMARY:Spring Family Sports Night
DESCRIPTION:
URL:https://immigrantservices.ca/event/spring-family-sports-night-2/2025-04-17/
LOCATION:Kamloops Immigrant Services\, 448 Tranquille Road\, Kamloops\, British Columbia\, V2B 3H2\, Canada
CATEGORIES:Community Connections
ATTACH;FMTTYPE=image/jpeg:https://immigrantservices.ca/wp-content/uploads/2025/04/2025-0417-0424-0501-0508-Spring-Family-Sports-Night-Angie.jpg
END:VEVENT
BEGIN:VEVENT
DTSTART;TZID=America/Los_Angeles:20250417T130000
DTEND;TZID=America/Los_Angeles:20250417T143000
DTSTAMP:20260425T105417
CREATED:20250401T180341Z
LAST-MODIFIED:20250401T180341Z
UID:10000815-1744894800-1744900200@immigrantservices.ca
SUMMARY:WE Tea & Talk
DESCRIPTION:
URL:https://immigrantservices.ca/event/we-tea-talk-2/2025-04-17/
LOCATION:Kamloops Immigrant Services\, 448 Tranquille Road\, Kamloops\, British Columbia\, V2B 3H2\, Canada
CATEGORIES:Women's Empowerment
ATTACH;FMTTYPE=image/jpeg:https://immigrantservices.ca/wp-content/uploads/2025/04/2025-0403-0417-WE-Program-April-2025-TT-Erin.jpg
END:VEVENT
BEGIN:VEVENT
DTSTART;TZID=America/Los_Angeles:20250417T103000
DTEND;TZID=America/Los_Angeles:20250417T120000
DTSTAMP:20260425T105417
CREATED:20250401T193348Z
LAST-MODIFIED:20250401T193348Z
UID:10000943-1744885800-1744891200@immigrantservices.ca
SUMMARY:Easter Egg Hunt
DESCRIPTION:
URL:https://immigrantservices.ca/event/easter-egg-hunt/
LOCATION:Kamloops Immigrant Services\, 448 Tranquille Road\, Kamloops\, British Columbia\, V2B 3H2\, Canada
CATEGORIES:Childmind
ATTACH;FMTTYPE=image/jpeg:https://immigrantservices.ca/wp-content/uploads/2025/04/2025-0417-Easter-Egg-Hunt-Angelica.jpg
END:VEVENT
BEGIN:VEVENT
DTSTART;TZID=America/Los_Angeles:20250417T100000
DTEND;TZID=America/Los_Angeles:20250417T120000
DTSTAMP:20260425T105417
CREATED:20250401T184726Z
LAST-MODIFIED:20250401T195928Z
UID:10000882-1744884000-1744891200@immigrantservices.ca
SUMMARY:SheLeads Women's Career Empowerment
DESCRIPTION:
URL:https://immigrantservices.ca/event/sheleads-womens-career-empowerment/2025-04-17/
LOCATION:Kamloops Immigrant Services\, 448 Tranquille Road\, Kamloops\, British Columbia\, V2B 3H2\, Canada
CATEGORIES:Employment
ATTACH;FMTTYPE=image/jpeg:https://immigrantservices.ca/wp-content/uploads/2025/04/2025-0410-0515-SheLeads-Program-Details-Amy.jpg
END:VEVENT
END:VCALENDAR