BEGIN:VCALENDAR
VERSION:2.0
PRODID:-//Kamloops Immigrant Services - ECPv6.15.20//NONSGML v1.0//EN
CALSCALE:GREGORIAN
METHOD:PUBLISH
X-ORIGINAL-URL:https://immigrantservices.ca
X-WR-CALDESC:Events for Kamloops Immigrant Services
REFRESH-INTERVAL;VALUE=DURATION:PT1H
X-Robots-Tag:noindex
X-PUBLISHED-TTL:PT1H
BEGIN:VTIMEZONE
TZID:America/Los_Angeles
BEGIN:DAYLIGHT
TZOFFSETFROM:-0800
TZOFFSETTO:-0700
TZNAME:PDT
DTSTART:20240310T100000
END:DAYLIGHT
BEGIN:STANDARD
TZOFFSETFROM:-0700
TZOFFSETTO:-0800
TZNAME:PST
DTSTART:20241103T090000
END:STANDARD
BEGIN:DAYLIGHT
TZOFFSETFROM:-0800
TZOFFSETTO:-0700
TZNAME:PDT
DTSTART:20250309T100000
END:DAYLIGHT
BEGIN:STANDARD
TZOFFSETFROM:-0700
TZOFFSETTO:-0800
TZNAME:PST
DTSTART:20251102T090000
END:STANDARD
BEGIN:DAYLIGHT
TZOFFSETFROM:-0800
TZOFFSETTO:-0700
TZNAME:PDT
DTSTART:20260308T100000
END:DAYLIGHT
BEGIN:STANDARD
TZOFFSETFROM:-0700
TZOFFSETTO:-0800
TZNAME:PST
DTSTART:20261101T090000
END:STANDARD
END:VTIMEZONE
BEGIN:VEVENT
DTSTART;TZID=America/Los_Angeles:20250910T130000
DTEND;TZID=America/Los_Angeles:20250910T140000
DTSTAMP:20260424T205120
CREATED:20250826T180004Z
LAST-MODIFIED:20250826T180004Z
UID:10001254-1757509200-1757512800@immigrantservices.ca
SUMMARY:NPower Canada Information Session
DESCRIPTION:
URL:https://immigrantservices.ca/event/npower-canada-information-session-2/
LOCATION:Kamloops Immigrant Services\, 448 Tranquille Road\, Kamloops\, British Columbia\, V2B 3H2\, Canada
CATEGORIES:Employment
ATTACH;FMTTYPE=image/jpeg:https://immigrantservices.ca/wp-content/uploads/2025/08/2025-0910-NPower-Info-Session-Catherine.jpg
END:VEVENT
BEGIN:VEVENT
DTSTART;TZID=America/Los_Angeles:20250909T110000
DTEND;TZID=America/Los_Angeles:20250909T133000
DTSTAMP:20260424T205120
CREATED:20250826T175834Z
LAST-MODIFIED:20250826T175834Z
UID:10001253-1757415600-1757424600@immigrantservices.ca
SUMMARY:Kamloops Museum Tour
DESCRIPTION:
URL:https://immigrantservices.ca/event/kamloops-museum-tour-2/
LOCATION:Kamloops Immigrant Services\, 448 Tranquille Road\, Kamloops\, British Columbia\, V2B 3H2\, Canada
CATEGORIES:Community Connections
ATTACH;FMTTYPE=image/jpeg:https://immigrantservices.ca/wp-content/uploads/2025/08/2025-0909-Museum-Tour.jpg
END:VEVENT
BEGIN:VEVENT
DTSTART;TZID=America/Los_Angeles:20250908T003000
DTEND;TZID=America/Los_Angeles:20250908T140000
DTSTAMP:20260424T205120
CREATED:20250826T175705Z
LAST-MODIFIED:20250826T175705Z
UID:10001252-1757291400-1757340000@immigrantservices.ca
SUMMARY:Gardengate Tour & Gardering
DESCRIPTION:
URL:https://immigrantservices.ca/event/gardengate-tour-gardering/
LOCATION:Kamloops Immigrant Services\, 448 Tranquille Road\, Kamloops\, British Columbia\, V2B 3H2\, Canada
CATEGORIES:Community Connections
ATTACH;FMTTYPE=image/jpeg:https://immigrantservices.ca/wp-content/uploads/2025/08/2025-0908-Garden-Gate-Tour-Emily.jpg
END:VEVENT
BEGIN:VEVENT
DTSTART;TZID=America/Los_Angeles:20250907T170000
DTEND;TZID=America/Los_Angeles:20250907T183000
DTSTAMP:20260424T205120
CREATED:20250826T183100Z
LAST-MODIFIED:20250826T183100Z
UID:10001268-1757264400-1757269800@immigrantservices.ca
SUMMARY:Workshop: Intro to Photography
DESCRIPTION:
URL:https://immigrantservices.ca/event/workshop-intro-to-photography/
LOCATION:Kamloops Immigrant Services\, 448 Tranquille Road\, Kamloops\, British Columbia\, V2B 3H2\, Canada
CATEGORIES:Community Connections
ATTACH;FMTTYPE=image/jpeg:https://immigrantservices.ca/wp-content/uploads/2025/08/2025-08-14-Intro-to-Photography-Emily.jpg
END:VEVENT
BEGIN:VEVENT
DTSTART;TZID=America/Los_Angeles:20250905T180000
DTEND;TZID=America/Los_Angeles:20250905T200000
DTSTAMP:20260424T205120
CREATED:20250826T182356Z
LAST-MODIFIED:20250826T182356Z
UID:10001263-1757095200-1757102400@immigrantservices.ca
SUMMARY:WE Pride Group
DESCRIPTION:
URL:https://immigrantservices.ca/event/we-pride-group/2025-09-05/
LOCATION:Kamloops Immigrant Services\, 448 Tranquille Road\, Kamloops\, British Columbia\, V2B 3H2\, Canada
CATEGORIES:Pride Group
ATTACH;FMTTYPE=image/jpeg:https://immigrantservices.ca/wp-content/uploads/2025/08/2025-100515-LGBTQ-Pride-Erin.jpg
END:VEVENT
BEGIN:VEVENT
DTSTART;TZID=America/Los_Angeles:20250904T130000
DTEND;TZID=America/Los_Angeles:20250904T143000
DTSTAMP:20260424T205120
CREATED:20250826T182120Z
LAST-MODIFIED:20250826T182120Z
UID:10001261-1756990800-1756996200@immigrantservices.ca
SUMMARY:September Tea & Talk
DESCRIPTION:
URL:https://immigrantservices.ca/event/september-tea-talk/2025-09-04/
LOCATION:Kamloops Immigrant Services\, 448 Tranquille Road\, Kamloops\, British Columbia\, V2B 3H2\, Canada
CATEGORIES:Women's Empowerment
ATTACH;FMTTYPE=image/jpeg:https://immigrantservices.ca/wp-content/uploads/2025/08/2025-1004-18-Tea-and-Talk-Erin.jpg
END:VEVENT
BEGIN:VEVENT
DTSTART;TZID=America/Los_Angeles:20250902T171500
DTEND;TZID=America/Los_Angeles:20250902T181500
DTSTAMP:20260424T205120
CREATED:20250826T175250Z
LAST-MODIFIED:20250826T175250Z
UID:10001192-1756833300-1756836900@immigrantservices.ca
SUMMARY:Senior's Chair Yoga
DESCRIPTION:
URL:https://immigrantservices.ca/event/seniors-chair-yoga/
LOCATION:Kamloops Immigrant Services\, 448 Tranquille Road\, Kamloops\, British Columbia\, V2B 3H2\, Canada
CATEGORIES:Senior Program
ATTACH;FMTTYPE=image/jpeg:https://immigrantservices.ca/wp-content/uploads/2025/08/2025-0902-Seniors-Chair-Yoga.jpg
END:VEVENT
BEGIN:VEVENT
DTSTART;TZID=America/Los_Angeles:20250829T153000
DTEND;TZID=America/Los_Angeles:20250829T170000
DTSTAMP:20260424T205120
CREATED:20250801T224449Z
LAST-MODIFIED:20250801T232015Z
UID:10001190-1756481400-1756486800@immigrantservices.ca
SUMMARY:Beaded Bracelets Art Workshop
DESCRIPTION:
URL:https://immigrantservices.ca/event/beaded-bracelets-art-workshop/
LOCATION:Kamloops Immigrant Services\, 448 Tranquille Road\, Kamloops\, British Columbia\, V2B 3H2\, Canada
CATEGORIES:Community Connections
END:VEVENT
BEGIN:VEVENT
DTSTART;TZID=America/Los_Angeles:20250829T110000
DTEND;TZID=America/Los_Angeles:20250829T120000
DTSTAMP:20260424T205120
CREATED:20250801T222838Z
LAST-MODIFIED:20250801T224332Z
UID:10001189-1756465200-1756468800@immigrantservices.ca
SUMMARY:Zumbini
DESCRIPTION:
URL:https://immigrantservices.ca/event/zumbini-7/2025-08-29/
LOCATION:Kamloops Immigrant Services\, 448 Tranquille Road\, Kamloops\, British Columbia\, V2B 3H2\, Canada
CATEGORIES:Childmind
ATTACH;FMTTYPE=image/jpeg:https://immigrantservices.ca/wp-content/uploads/2025/07/2025-0620-0704-0718-0801-0815-0829-Zumbini-Angelica.jpg
END:VEVENT
BEGIN:VEVENT
DTSTART;TZID=America/Los_Angeles:20250828T113000
DTEND;TZID=America/Los_Angeles:20250828T130000
DTSTAMP:20260424T205120
CREATED:20250801T224255Z
LAST-MODIFIED:20250801T224255Z
UID:10001188-1756380600-1756386000@immigrantservices.ca
SUMMARY:Potluck
DESCRIPTION:
URL:https://immigrantservices.ca/event/potluck-7/
LOCATION:Kamloops Immigrant Services\, 448 Tranquille Road\, Kamloops\, British Columbia\, V2B 3H2\, Canada
CATEGORIES:Community Connections
ATTACH;FMTTYPE=image/jpeg:https://immigrantservices.ca/wp-content/uploads/2025/08/2025-0828-Potluck-Emily.jpg
END:VEVENT
BEGIN:VEVENT
DTSTART;TZID=America/Los_Angeles:20250827T150000
DTEND;TZID=America/Los_Angeles:20250827T160000
DTSTAMP:20260424T205120
CREATED:20250801T224126Z
LAST-MODIFIED:20250801T232044Z
UID:10001187-1756306800-1756310400@immigrantservices.ca
SUMMARY:Drop-in Resume Support
DESCRIPTION:
URL:https://immigrantservices.ca/event/drop-in-resume-support-23/
LOCATION:Kamloops Immigrant Services\, 448 Tranquille Road\, Kamloops\, British Columbia\, V2B 3H2\, Canada
CATEGORIES:Employment
ATTACH;FMTTYPE=image/jpeg:https://immigrantservices.ca/wp-content/uploads/2025/07/2025-0813-0827-Bi-Weekly-Drop-in-Resume-Support-Amy.jpg
END:VEVENT
BEGIN:VEVENT
DTSTART;TZID=America/Los_Angeles:20250825T110000
DTEND;TZID=America/Los_Angeles:20250825T233000
DTSTAMP:20260424T205120
CREATED:20250801T224020Z
LAST-MODIFIED:20250801T224020Z
UID:10001186-1756119600-1756164600@immigrantservices.ca
SUMMARY:Mount Paul Community Food Centre Tour
DESCRIPTION:
URL:https://immigrantservices.ca/event/mount-paul-community-food-centre-tour-2/
LOCATION:Kamloops Immigrant Services\, 448 Tranquille Road\, Kamloops\, British Columbia\, V2B 3H2\, Canada
CATEGORIES:Community Connections
ATTACH;FMTTYPE=image/jpeg:https://immigrantservices.ca/wp-content/uploads/2025/08/2025-0825-Mount-Paul-community-Food-Center-Tour-Emily.jpg
END:VEVENT
BEGIN:VEVENT
DTSTART;VALUE=DATE:20250825
DTEND;VALUE=DATE:20250828
DTSTAMP:20260424T205120
CREATED:20250801T223044Z
LAST-MODIFIED:20250801T223044Z
UID:10001180-1756080000-1756339199@immigrantservices.ca
SUMMARY:YLP Camp
DESCRIPTION:
URL:https://immigrantservices.ca/event/ylp-camp/
LOCATION:Kamloops Immigrant Services\, 448 Tranquille Road\, Kamloops\, British Columbia\, V2B 3H2\, Canada
CATEGORIES:Employment
ATTACH;FMTTYPE=image/jpeg:https://immigrantservices.ca/wp-content/uploads/2025/08/2025-0825-Youth-Leadership-in-100-Mile-JY-and-Angie.jpg
END:VEVENT
BEGIN:VEVENT
DTSTART;TZID=America/Los_Angeles:20250822T183000
DTEND;TZID=America/Los_Angeles:20250822T203000
DTSTAMP:20260424T205120
CREATED:20250801T223915Z
LAST-MODIFIED:20250801T223915Z
UID:10001185-1755887400-1755894600@immigrantservices.ca
SUMMARY:Senior's Night Out
DESCRIPTION:
URL:https://immigrantservices.ca/event/seniors-night-out/
LOCATION:Kamloops Immigrant Services\, 448 Tranquille Road\, Kamloops\, British Columbia\, V2B 3H2\, Canada
CATEGORIES:Senior Program
ATTACH;FMTTYPE=image/jpeg:https://immigrantservices.ca/wp-content/uploads/2025/08/2025-0822-Seniors-Night-Out-Night-Market-Angie.jpg
END:VEVENT
BEGIN:VEVENT
DTSTART;TZID=America/Los_Angeles:20250822T170000
DTEND;TZID=America/Los_Angeles:20250822T183000
DTSTAMP:20260424T205120
CREATED:20250801T223737Z
LAST-MODIFIED:20250801T223737Z
UID:10001184-1755882000-1755887400@immigrantservices.ca
SUMMARY:French Conversation Circle
DESCRIPTION:
URL:https://immigrantservices.ca/event/french-conversation-circle/
LOCATION:Kamloops Immigrant Services\, 448 Tranquille Road\, Kamloops\, British Columbia\, V2B 3H2\, Canada
CATEGORIES:Community Connections
ATTACH;FMTTYPE=image/jpeg:https://immigrantservices.ca/wp-content/uploads/2025/08/2025-0822-French-Conversation-Circle-Emily.jpg
END:VEVENT
BEGIN:VEVENT
DTSTART;TZID=America/Los_Angeles:20250821T180000
DTEND;TZID=America/Los_Angeles:20250821T200000
DTSTAMP:20260424T205120
CREATED:20250801T223450Z
LAST-MODIFIED:20250801T223808Z
UID:10001183-1755799200-1755806400@immigrantservices.ca
SUMMARY:Cooking Class
DESCRIPTION:
URL:https://immigrantservices.ca/event/cooking-class/
LOCATION:Kamloops Immigrant Services\, 448 Tranquille Road\, Kamloops\, British Columbia\, V2B 3H2\, Canada
CATEGORIES:Community Connections
ATTACH;FMTTYPE=image/jpeg:https://immigrantservices.ca/wp-content/uploads/2025/08/Spaghetti-Squash-Cooking-Class.jpg
END:VEVENT
BEGIN:VEVENT
DTSTART;TZID=America/Los_Angeles:20250819T173000
DTEND;TZID=America/Los_Angeles:20250819T190000
DTSTAMP:20260424T205120
CREATED:20250801T222515Z
LAST-MODIFIED:20250805T215254Z
UID:10001176-1755624600-1755630000@immigrantservices.ca
SUMMARY:English Spanish Exchange
DESCRIPTION:
URL:https://immigrantservices.ca/event/english-spanish-exchange-5/
LOCATION:Kamloops Immigrant Services\, 448 Tranquille Road\, Kamloops\, British Columbia\, V2B 3H2\, Canada
CATEGORIES:Community Connections
ATTACH;FMTTYPE=image/jpeg:https://immigrantservices.ca/wp-content/uploads/2025/05/2025-English-Spanish-Exchange-Ruben-1.jpg
END:VEVENT
BEGIN:VEVENT
DTSTART;TZID=America/Los_Angeles:20250818T180000
DTEND;TZID=America/Los_Angeles:20250818T200000
DTSTAMP:20260424T205120
CREATED:20250801T223350Z
LAST-MODIFIED:20250801T231907Z
UID:10001182-1755540000-1755547200@immigrantservices.ca
SUMMARY:LGTBQ+ Pride Movie Night
DESCRIPTION:
URL:https://immigrantservices.ca/event/lgtbq-pride-movie-night/
LOCATION:Kamloops Immigrant Services\, 448 Tranquille Road\, Kamloops\, British Columbia\, V2B 3H2\, Canada
CATEGORIES:Pride Group
ATTACH;FMTTYPE=image/jpeg:https://immigrantservices.ca/wp-content/uploads/2025/08/2025-0818-WE-Pride-Erin.jpg
END:VEVENT
BEGIN:VEVENT
DTSTART;VALUE=DATE:20250818
DTEND;VALUE=DATE:20250823
DTSTAMP:20260424T205120
CREATED:20250801T223229Z
LAST-MODIFIED:20250801T223229Z
UID:10001181-1755475200-1755907199@immigrantservices.ca
SUMMARY:Youth STEM Camp
DESCRIPTION:
URL:https://immigrantservices.ca/event/youth-stem-camp/
LOCATION:Kamloops Immigrant Services\, 448 Tranquille Road\, Kamloops\, British Columbia\, V2B 3H2\, Canada
CATEGORIES:Community Connections
ATTACH;FMTTYPE=image/jpeg:https://immigrantservices.ca/wp-content/uploads/2025/08/2025-0818-22-Youth-STEM-Summer-Camp-Angie.jpg
END:VEVENT
BEGIN:VEVENT
DTSTART;TZID=America/Los_Angeles:20250815T110000
DTEND;TZID=America/Los_Angeles:20250815T120000
DTSTAMP:20260424T205120
CREATED:20250801T222838Z
LAST-MODIFIED:20250801T224332Z
UID:10001179-1755255600-1755259200@immigrantservices.ca
SUMMARY:Zumbini
DESCRIPTION:
URL:https://immigrantservices.ca/event/zumbini-7/2025-08-15/
LOCATION:Kamloops Immigrant Services\, 448 Tranquille Road\, Kamloops\, British Columbia\, V2B 3H2\, Canada
CATEGORIES:Childmind
ATTACH;FMTTYPE=image/jpeg:https://immigrantservices.ca/wp-content/uploads/2025/07/2025-0620-0704-0718-0801-0815-0829-Zumbini-Angelica.jpg
END:VEVENT
BEGIN:VEVENT
DTSTART;TZID=America/Los_Angeles:20250815T090000
DTEND;TZID=America/Los_Angeles:20250815T100000
DTSTAMP:20260424T205120
CREATED:20250731T204942Z
LAST-MODIFIED:20250801T222344Z
UID:10001170-1755248400-1755252000@immigrantservices.ca
SUMMARY:KIDS ART CAMP!
DESCRIPTION:
URL:https://immigrantservices.ca/event/kids-art-camp/2025-08-15/
LOCATION:Kamloops Immigrant Services\, 448 Tranquille Road\, Kamloops\, British Columbia\, V2B 3H2\, Canada
CATEGORIES:Community Connections
ATTACH;FMTTYPE=image/jpeg:https://immigrantservices.ca/wp-content/uploads/2025/07/2025-0811-15-Kids-Art-Camp-Emily.jpg
END:VEVENT
BEGIN:VEVENT
DTSTART;TZID=America/Los_Angeles:20250814T120000
DTEND;TZID=America/Los_Angeles:20250814T130000
DTSTAMP:20260424T205120
CREATED:20250801T222709Z
LAST-MODIFIED:20250801T222749Z
UID:10001178-1755172800-1755176400@immigrantservices.ca
SUMMARY:Eco Smart Garbage\, Recycling and Compost
DESCRIPTION:
URL:https://immigrantservices.ca/event/eco-smart-garbage-recycling-and-compost/2025-08-14/2/
LOCATION:Kamloops Immigrant Services\, 448 Tranquille Road\, Kamloops\, British Columbia\, V2B 3H2\, Canada
CATEGORIES:Community Connections
ATTACH;FMTTYPE=image/jpeg:https://immigrantservices.ca/wp-content/uploads/2025/08/2025-0814-Eco-Smart-Angie.jpg
END:VEVENT
BEGIN:VEVENT
DTSTART;TZID=America/Los_Angeles:20250814T090000
DTEND;TZID=America/Los_Angeles:20250814T100000
DTSTAMP:20260424T205120
CREATED:20250801T222709Z
LAST-MODIFIED:20250801T222749Z
UID:10001177-1755162000-1755165600@immigrantservices.ca
SUMMARY:Eco Smart Garbage\, Recycling and Compost
DESCRIPTION:
URL:https://immigrantservices.ca/event/eco-smart-garbage-recycling-and-compost/2025-08-14/1/
LOCATION:Kamloops Immigrant Services\, 448 Tranquille Road\, Kamloops\, British Columbia\, V2B 3H2\, Canada
CATEGORIES:Community Connections
ATTACH;FMTTYPE=image/jpeg:https://immigrantservices.ca/wp-content/uploads/2025/08/2025-0814-Eco-Smart-Angie.jpg
END:VEVENT
BEGIN:VEVENT
DTSTART;TZID=America/Los_Angeles:20250814T090000
DTEND;TZID=America/Los_Angeles:20250814T100000
DTSTAMP:20260424T205120
CREATED:20250731T204942Z
LAST-MODIFIED:20250801T222344Z
UID:10001169-1755162000-1755165600@immigrantservices.ca
SUMMARY:KIDS ART CAMP!
DESCRIPTION:
URL:https://immigrantservices.ca/event/kids-art-camp/2025-08-14/
LOCATION:Kamloops Immigrant Services\, 448 Tranquille Road\, Kamloops\, British Columbia\, V2B 3H2\, Canada
CATEGORIES:Community Connections
ATTACH;FMTTYPE=image/jpeg:https://immigrantservices.ca/wp-content/uploads/2025/07/2025-0811-15-Kids-Art-Camp-Emily.jpg
END:VEVENT
BEGIN:VEVENT
DTSTART;TZID=America/Los_Angeles:20250813T090000
DTEND;TZID=America/Los_Angeles:20250813T100000
DTSTAMP:20260424T205120
CREATED:20250731T204942Z
LAST-MODIFIED:20250801T222344Z
UID:10001168-1755075600-1755079200@immigrantservices.ca
SUMMARY:KIDS ART CAMP!
DESCRIPTION:
URL:https://immigrantservices.ca/event/kids-art-camp/2025-08-13/
LOCATION:Kamloops Immigrant Services\, 448 Tranquille Road\, Kamloops\, British Columbia\, V2B 3H2\, Canada
CATEGORIES:Community Connections
ATTACH;FMTTYPE=image/jpeg:https://immigrantservices.ca/wp-content/uploads/2025/07/2025-0811-15-Kids-Art-Camp-Emily.jpg
END:VEVENT
BEGIN:VEVENT
DTSTART;TZID=America/Los_Angeles:20250812T090000
DTEND;TZID=America/Los_Angeles:20250812T100000
DTSTAMP:20260424T205120
CREATED:20250731T204942Z
LAST-MODIFIED:20250801T222344Z
UID:10001167-1754989200-1754992800@immigrantservices.ca
SUMMARY:KIDS ART CAMP!
DESCRIPTION:
URL:https://immigrantservices.ca/event/kids-art-camp/2025-08-12/
LOCATION:Kamloops Immigrant Services\, 448 Tranquille Road\, Kamloops\, British Columbia\, V2B 3H2\, Canada
CATEGORIES:Community Connections
ATTACH;FMTTYPE=image/jpeg:https://immigrantservices.ca/wp-content/uploads/2025/07/2025-0811-15-Kids-Art-Camp-Emily.jpg
END:VEVENT
BEGIN:VEVENT
DTSTART;TZID=America/Los_Angeles:20250811T090000
DTEND;TZID=America/Los_Angeles:20250811T100000
DTSTAMP:20260424T205120
CREATED:20250731T204942Z
LAST-MODIFIED:20250801T222344Z
UID:10001166-1754902800-1754906400@immigrantservices.ca
SUMMARY:KIDS ART CAMP!
DESCRIPTION:
URL:https://immigrantservices.ca/event/kids-art-camp/2025-08-11/
LOCATION:Kamloops Immigrant Services\, 448 Tranquille Road\, Kamloops\, British Columbia\, V2B 3H2\, Canada
CATEGORIES:Community Connections
ATTACH;FMTTYPE=image/jpeg:https://immigrantservices.ca/wp-content/uploads/2025/07/2025-0811-15-Kids-Art-Camp-Emily.jpg
END:VEVENT
BEGIN:VEVENT
DTSTART;TZID=America/Los_Angeles:20250810T120000
DTEND;TZID=America/Los_Angeles:20250810T170000
DTSTAMP:20260424T205120
CREATED:20250801T221947Z
LAST-MODIFIED:20250801T221947Z
UID:10001175-1754827200-1754845200@immigrantservices.ca
SUMMARY:Pit Stop Meal Program
DESCRIPTION:
URL:https://immigrantservices.ca/event/pit-stop-meal-program/
LOCATION:Kamloops Immigrant Services\, 448 Tranquille Road\, Kamloops\, British Columbia\, V2B 3H2\, Canada
CATEGORIES:Community Connections
ATTACH;FMTTYPE=image/jpeg:https://immigrantservices.ca/wp-content/uploads/2025/08/Pit-Stop-Program.jpg
END:VEVENT
BEGIN:VEVENT
DTSTART;TZID=America/Los_Angeles:20250809T110000
DTEND;TZID=America/Los_Angeles:20250809T170000
DTSTAMP:20260424T205120
CREATED:20250801T224630Z
LAST-MODIFIED:20250801T224630Z
UID:10001191-1754737200-1754758800@immigrantservices.ca
SUMMARY:Migrant Workers Wellness Day
DESCRIPTION:
URL:https://immigrantservices.ca/event/migrant-workers-wellness-day/
LOCATION:Kamloops Immigrant Services\, 448 Tranquille Road\, Kamloops\, British Columbia\, V2B 3H2\, Canada
CATEGORIES:Temporary Foreign Workers
ATTACH;FMTTYPE=image/jpeg:https://immigrantservices.ca/wp-content/uploads/2025/08/Wellness-Day-Bus-Registration.jpg
END:VEVENT
BEGIN:VEVENT
DTSTART;TZID=America/Los_Angeles:20250807T130000
DTEND;TZID=America/Los_Angeles:20250807T143000
DTSTAMP:20260424T205120
CREATED:20250731T204503Z
LAST-MODIFIED:20250801T024453Z
UID:10001164-1754571600-1754577000@immigrantservices.ca
SUMMARY:WE Program - Tie-Dye Day
DESCRIPTION:
URL:https://immigrantservices.ca/event/we-program-tie-dye-day/
LOCATION:Kamloops Immigrant Services\, 448 Tranquille Road\, Kamloops\, British Columbia\, V2B 3H2\, Canada
CATEGORIES:Community Connections
ATTACH;FMTTYPE=image/jpeg:https://immigrantservices.ca/wp-content/uploads/2025/07/2025-0807-0821-WE-Tea-Talk-Erin-1.jpg
END:VEVENT
END:VCALENDAR