BEGIN:VCALENDAR
VERSION:2.0
PRODID:-//Kamloops Immigrant Services - ECPv6.15.20//NONSGML v1.0//EN
CALSCALE:GREGORIAN
METHOD:PUBLISH
X-WR-CALNAME:Kamloops Immigrant Services
X-ORIGINAL-URL:https://immigrantservices.ca
X-WR-CALDESC:Events for Kamloops Immigrant Services
REFRESH-INTERVAL;VALUE=DURATION:PT1H
X-Robots-Tag:noindex
X-PUBLISHED-TTL:PT1H
BEGIN:VTIMEZONE
TZID:America/Los_Angeles
BEGIN:DAYLIGHT
TZOFFSETFROM:-0800
TZOFFSETTO:-0700
TZNAME:PDT
DTSTART:20240310T100000
END:DAYLIGHT
BEGIN:STANDARD
TZOFFSETFROM:-0700
TZOFFSETTO:-0800
TZNAME:PST
DTSTART:20241103T090000
END:STANDARD
BEGIN:DAYLIGHT
TZOFFSETFROM:-0800
TZOFFSETTO:-0700
TZNAME:PDT
DTSTART:20250309T100000
END:DAYLIGHT
BEGIN:STANDARD
TZOFFSETFROM:-0700
TZOFFSETTO:-0800
TZNAME:PST
DTSTART:20251102T090000
END:STANDARD
BEGIN:DAYLIGHT
TZOFFSETFROM:-0800
TZOFFSETTO:-0700
TZNAME:PDT
DTSTART:20260308T100000
END:DAYLIGHT
BEGIN:STANDARD
TZOFFSETFROM:-0700
TZOFFSETTO:-0800
TZNAME:PST
DTSTART:20261101T090000
END:STANDARD
END:VTIMEZONE
BEGIN:VEVENT
DTSTART;TZID=America/Los_Angeles:20251014T093000
DTEND;TZID=America/Los_Angeles:20251014T123000
DTSTAMP:20260424T163330
CREATED:20250918T191510Z
LAST-MODIFIED:20250918T191510Z
UID:10001334-1760434200-1760445000@immigrantservices.ca
SUMMARY:Workshop Series: She Leads
DESCRIPTION:
URL:https://immigrantservices.ca/event/workshop-series-she-leads/2025-10-14/
LOCATION:Kamloops Immigrant Services\, 448 Tranquille Road\, Kamloops\, British Columbia\, V2B 3H2\, Canada
CATEGORIES:Employment
ATTACH;FMTTYPE=image/jpeg:https://immigrantservices.ca/wp-content/uploads/2025/09/2025-1007-22-SheLeads-Poster-Catherine.jpg
END:VEVENT
BEGIN:VEVENT
DTSTART;VALUE=DATE:20251013
DTEND;VALUE=DATE:20251014
DTSTAMP:20260424T163330
CREATED:20250918T201857Z
LAST-MODIFIED:20250918T201959Z
UID:10001645-1760313600-1760399999@immigrantservices.ca
SUMMARY:Thanksgiving Day (KIS Closed)
DESCRIPTION:
URL:https://immigrantservices.ca/event/thanksgiving-day-kis-closed/
LOCATION:Kamloops Immigrant Services\, 448 Tranquille Road\, Kamloops\, British Columbia\, V2B 3H2\, Canada
END:VEVENT
BEGIN:VEVENT
DTSTART;TZID=America/Los_Angeles:20251010T130000
DTEND;TZID=America/Los_Angeles:20251010T140000
DTSTAMP:20260424T163330
CREATED:20250918T200404Z
LAST-MODIFIED:20251124T182150Z
UID:10001528-1760101200-1760104800@immigrantservices.ca
SUMMARY:Digital Skills 101
DESCRIPTION:
URL:https://immigrantservices.ca/event/digital-skills-101/2025-10-10/
LOCATION:Kamloops Immigrant Services\, 448 Tranquille Road\, Kamloops\, British Columbia\, V2B 3H2\, Canada
CATEGORIES:Community Connections
ATTACH;FMTTYPE=image/jpeg:https://immigrantservices.ca/wp-content/uploads/2025/09/2025-10004-11-18-25-Digital-Skills-101-Emily.jpg
END:VEVENT
BEGIN:VEVENT
DTSTART;TZID=America/Los_Angeles:20251010T110000
DTEND;TZID=America/Los_Angeles:20251010T140000
DTSTAMP:20260424T163330
CREATED:20250918T201326Z
LAST-MODIFIED:20251124T182048Z
UID:10001587-1760094000-1760104800@immigrantservices.ca
SUMMARY:Beyond the resume
DESCRIPTION:
URL:https://immigrantservices.ca/event/beyond-the-resume/2025-10-10/
LOCATION:Kamloops Immigrant Services\, 448 Tranquille Road\, Kamloops\, British Columbia\, V2B 3H2\, Canada
CATEGORIES:Employment
ATTACH;FMTTYPE=image/jpeg:https://immigrantservices.ca/wp-content/uploads/2025/09/2025-10-Beyond-the-Resume-Catherine.jpg
END:VEVENT
BEGIN:VEVENT
DTSTART;TZID=America/Los_Angeles:20251009T130000
DTEND;TZID=America/Los_Angeles:20251009T140000
DTSTAMP:20260424T163330
CREATED:20250918T191922Z
LAST-MODIFIED:20250918T191922Z
UID:10001339-1760014800-1760018400@immigrantservices.ca
SUMMARY:Kamloops Fire Hall No. 2 Tour
DESCRIPTION:
URL:https://immigrantservices.ca/event/kamloops-fire-hall-no-2-tour/2025-10-09/
LOCATION:Kamloops Immigrant Services\, 448 Tranquille Road\, Kamloops\, British Columbia\, V2B 3H2\, Canada
CATEGORIES:Community Connections
ATTACH;FMTTYPE=image/jpeg:https://immigrantservices.ca/wp-content/uploads/2025/09/2025-1009-14-14-Firehall-Tour-Emily.jpg
END:VEVENT
BEGIN:VEVENT
DTSTART;TZID=America/Los_Angeles:20251008T180000
DTEND;TZID=America/Los_Angeles:20251008T200000
DTSTAMP:20260424T163330
CREATED:20250918T191650Z
LAST-MODIFIED:20250918T191650Z
UID:10001338-1759946400-1759953600@immigrantservices.ca
SUMMARY:Thanksgiving Potluck Dinner
DESCRIPTION:
URL:https://immigrantservices.ca/event/thanksgiving-potluck-dinner-2/
LOCATION:Kamloops Immigrant Services\, 448 Tranquille Road\, Kamloops\, British Columbia\, V2B 3H2\, Canada
CATEGORIES:Community Connections
ATTACH;FMTTYPE=image/jpeg:https://immigrantservices.ca/wp-content/uploads/2025/09/2025-1008-Thanksgiving-Potluck-Emily.jpg
END:VEVENT
BEGIN:VEVENT
DTSTART;TZID=America/Los_Angeles:20251008T093000
DTEND;TZID=America/Los_Angeles:20251008T123000
DTSTAMP:20260424T163330
CREATED:20250918T191510Z
LAST-MODIFIED:20250918T191510Z
UID:10001333-1759915800-1759926600@immigrantservices.ca
SUMMARY:Workshop Series: She Leads
DESCRIPTION:
URL:https://immigrantservices.ca/event/workshop-series-she-leads/2025-10-08/
LOCATION:Kamloops Immigrant Services\, 448 Tranquille Road\, Kamloops\, British Columbia\, V2B 3H2\, Canada
CATEGORIES:Employment
ATTACH;FMTTYPE=image/jpeg:https://immigrantservices.ca/wp-content/uploads/2025/09/2025-1007-22-SheLeads-Poster-Catherine.jpg
END:VEVENT
BEGIN:VEVENT
DTSTART;TZID=America/Los_Angeles:20251007T173000
DTEND;TZID=America/Los_Angeles:20251007T183000
DTSTAMP:20260424T163330
CREATED:20250918T190902Z
LAST-MODIFIED:20250918T190902Z
UID:10001330-1759858200-1759861800@immigrantservices.ca
SUMMARY:Virtual Workshop: Employment Insurance
DESCRIPTION:
URL:https://immigrantservices.ca/event/virtual-workshop-employment-insurance/
LOCATION:Kamloops Immigrant Services\, 448 Tranquille Road\, Kamloops\, British Columbia\, V2B 3H2\, Canada
CATEGORIES:Employment
ATTACH;FMTTYPE=image/jpeg:https://immigrantservices.ca/wp-content/uploads/2025/09/2025-1007-Employment-Insurance-Workshop-Sage.jpg
END:VEVENT
BEGIN:VEVENT
DTSTART;TZID=America/Los_Angeles:20251007T100000
DTEND;TZID=America/Los_Angeles:20251007T120000
DTSTAMP:20260424T163330
CREATED:20250918T191124Z
LAST-MODIFIED:20250918T191124Z
UID:10001331-1759831200-1759838400@immigrantservices.ca
SUMMARY:Steps to Getting your Driver's License
DESCRIPTION:
URL:https://immigrantservices.ca/event/steps-to-getting-your-drivers-license/
LOCATION:Kamloops Immigrant Services\, 448 Tranquille Road\, Kamloops\, British Columbia\, V2B 3H2\, Canada
CATEGORIES:Community Connections
ATTACH;FMTTYPE=image/jpeg:https://immigrantservices.ca/wp-content/uploads/2025/09/2025-1007-ICBC-Presentation-Angie.jpg
END:VEVENT
BEGIN:VEVENT
DTSTART;TZID=America/Los_Angeles:20251007T093000
DTEND;TZID=America/Los_Angeles:20251007T123000
DTSTAMP:20260424T163330
CREATED:20250918T191510Z
LAST-MODIFIED:20250918T191510Z
UID:10001332-1759829400-1759840200@immigrantservices.ca
SUMMARY:Workshop Series: She Leads
DESCRIPTION:
URL:https://immigrantservices.ca/event/workshop-series-she-leads/2025-10-07/
LOCATION:Kamloops Immigrant Services\, 448 Tranquille Road\, Kamloops\, British Columbia\, V2B 3H2\, Canada
CATEGORIES:Employment
ATTACH;FMTTYPE=image/jpeg:https://immigrantservices.ca/wp-content/uploads/2025/09/2025-1007-22-SheLeads-Poster-Catherine.jpg
END:VEVENT
BEGIN:VEVENT
DTSTART;TZID=America/Los_Angeles:20251004T090000
DTEND;TZID=America/Los_Angeles:20251004T163000
DTSTAMP:20260424T163330
CREATED:20250918T201530Z
LAST-MODIFIED:20250918T201530Z
UID:10001643-1759568400-1759595400@immigrantservices.ca
SUMMARY:Youth 4 Youth: Road Trip (13-19 years of age only)
DESCRIPTION:
URL:https://immigrantservices.ca/event/youth-4-youth-road-trip-13-19-years-of-age-only/
LOCATION:Kamloops Immigrant Services\, 448 Tranquille Road\, Kamloops\, British Columbia\, V2B 3H2\, Canada
CATEGORIES:Youth
ATTACH;FMTTYPE=image/jpeg:https://immigrantservices.ca/wp-content/uploads/2025/09/2025-1004-Youth-4-Yout-Road-Trip.jpg
END:VEVENT
BEGIN:VEVENT
DTSTART;TZID=America/Los_Angeles:20251003T130000
DTEND;TZID=America/Los_Angeles:20251003T140000
DTSTAMP:20260424T163330
CREATED:20250918T200404Z
LAST-MODIFIED:20251124T182150Z
UID:10001527-1759496400-1759500000@immigrantservices.ca
SUMMARY:Digital Skills 101
DESCRIPTION:
URL:https://immigrantservices.ca/event/digital-skills-101/2025-10-03/
LOCATION:Kamloops Immigrant Services\, 448 Tranquille Road\, Kamloops\, British Columbia\, V2B 3H2\, Canada
CATEGORIES:Community Connections
ATTACH;FMTTYPE=image/jpeg:https://immigrantservices.ca/wp-content/uploads/2025/09/2025-10004-11-18-25-Digital-Skills-101-Emily.jpg
END:VEVENT
BEGIN:VEVENT
DTSTART;TZID=America/Los_Angeles:20251003T110000
DTEND;TZID=America/Los_Angeles:20251003T140000
DTSTAMP:20260424T163330
CREATED:20250918T201326Z
LAST-MODIFIED:20251124T182048Z
UID:10001586-1759489200-1759500000@immigrantservices.ca
SUMMARY:Beyond the resume
DESCRIPTION:
URL:https://immigrantservices.ca/event/beyond-the-resume/2025-10-03/
LOCATION:Kamloops Immigrant Services\, 448 Tranquille Road\, Kamloops\, British Columbia\, V2B 3H2\, Canada
CATEGORIES:Employment
ATTACH;FMTTYPE=image/jpeg:https://immigrantservices.ca/wp-content/uploads/2025/09/2025-10-Beyond-the-Resume-Catherine.jpg
END:VEVENT
BEGIN:VEVENT
DTSTART;TZID=America/Los_Angeles:20251002T130000
DTEND;TZID=America/Los_Angeles:20251002T143000
DTSTAMP:20260424T163330
CREATED:20250918T190500Z
LAST-MODIFIED:20250918T190647Z
UID:10001327-1759410000-1759415400@immigrantservices.ca
SUMMARY:WE Tea & Talk
DESCRIPTION:
URL:https://immigrantservices.ca/event/we-tea-talk-3/2025-10-02/
LOCATION:Kamloops Immigrant Services\, 448 Tranquille Road\, Kamloops\, British Columbia\, V2B 3H2\, Canada
CATEGORIES:Women's Empowerment
ATTACH;FMTTYPE=image/jpeg:https://immigrantservices.ca/wp-content/uploads/2025/09/2025-1002-16-30-WE-Program-Tea-Talk-Erin.jpg
END:VEVENT
BEGIN:VEVENT
DTSTART;TZID=America/Los_Angeles:20250926T173000
DTEND;TZID=America/Los_Angeles:20250926T213000
DTSTAMP:20260424T163330
CREATED:20250826T181913Z
LAST-MODIFIED:20250826T181913Z
UID:10001260-1758907800-1758922200@immigrantservices.ca
SUMMARY:Youth Group
DESCRIPTION:
URL:https://immigrantservices.ca/event/youth-group/
LOCATION:Kamloops Immigrant Services\, 448 Tranquille Road\, Kamloops\, British Columbia\, V2B 3H2\, Canada
CATEGORIES:Community Connections
ATTACH;FMTTYPE=image/jpeg:https://immigrantservices.ca/wp-content/uploads/2025/08/2025-0926-Youth-For-Youth-Angie.jpg
END:VEVENT
BEGIN:VEVENT
DTSTART;TZID=America/Los_Angeles:20250926T153000
DTEND;TZID=America/Los_Angeles:20250926T170000
DTSTAMP:20260424T163330
CREATED:20250826T182842Z
LAST-MODIFIED:20250826T182842Z
UID:10001267-1758900600-1758906000@immigrantservices.ca
SUMMARY:Hand Turkeys Art Class
DESCRIPTION:
URL:https://immigrantservices.ca/event/hand-turkeys-art-class/
LOCATION:Kamloops Immigrant Services\, 448 Tranquille Road\, Kamloops\, British Columbia\, V2B 3H2\, Canada
CATEGORIES:Community Connections
ATTACH;FMTTYPE=image/png:https://immigrantservices.ca/wp-content/uploads/2025/08/2025-0926-Hand-Turkeys-Art-Class-Emily.png
END:VEVENT
BEGIN:VEVENT
DTSTART;TZID=America/Los_Angeles:20250924T180000
DTEND;TZID=America/Los_Angeles:20250924T200000
DTSTAMP:20260424T163330
CREATED:20250826T181559Z
LAST-MODIFIED:20250826T181559Z
UID:10001259-1758736800-1758744000@immigrantservices.ca
SUMMARY:Cooking Class
DESCRIPTION:
URL:https://immigrantservices.ca/event/cooking-class-2/
LOCATION:Kamloops Immigrant Services\, 448 Tranquille Road\, Kamloops\, British Columbia\, V2B 3H2\, Canada
CATEGORIES:Community Connections
ATTACH;FMTTYPE=image/jpeg:https://immigrantservices.ca/wp-content/uploads/2025/08/2025-0924-Cooking-Class-Emily.jpg
END:VEVENT
BEGIN:VEVENT
DTSTART;TZID=America/Los_Angeles:20250918T170000
DTEND;TZID=America/Los_Angeles:20250918T190000
DTSTAMP:20260424T163330
CREATED:20250826T183310Z
LAST-MODIFIED:20250826T183310Z
UID:10001269-1758214800-1758222000@immigrantservices.ca
SUMMARY:Workshop: The art of Restful Sleep
DESCRIPTION:
URL:https://immigrantservices.ca/event/workshop-the-art-of-restful-sleep/
LOCATION:Kamloops Immigrant Services\, 448 Tranquille Road\, Kamloops\, British Columbia\, V2B 3H2\, Canada
CATEGORIES:Settlement
ATTACH;FMTTYPE=image/jpeg:https://immigrantservices.ca/wp-content/uploads/2025/08/2025-09-18-The-Art-of-Restful-Sleep-Ankit.jpg
END:VEVENT
BEGIN:VEVENT
DTSTART;TZID=America/Los_Angeles:20250918T130000
DTEND;TZID=America/Los_Angeles:20250918T143000
DTSTAMP:20260424T163330
CREATED:20250826T182120Z
LAST-MODIFIED:20250826T182120Z
UID:10001262-1758200400-1758205800@immigrantservices.ca
SUMMARY:September Tea & Talk
DESCRIPTION:
URL:https://immigrantservices.ca/event/september-tea-talk/2025-09-18/
LOCATION:Kamloops Immigrant Services\, 448 Tranquille Road\, Kamloops\, British Columbia\, V2B 3H2\, Canada
CATEGORIES:Women's Empowerment
ATTACH;FMTTYPE=image/jpeg:https://immigrantservices.ca/wp-content/uploads/2025/08/2025-1004-18-Tea-and-Talk-Erin.jpg
END:VEVENT
BEGIN:VEVENT
DTSTART;TZID=America/Los_Angeles:20250916T173000
DTEND;TZID=America/Los_Angeles:20250916T190000
DTSTAMP:20260424T163330
CREATED:20250826T182704Z
LAST-MODIFIED:20250826T182719Z
UID:10001266-1758043800-1758049200@immigrantservices.ca
SUMMARY:English-Spanish Exchange
DESCRIPTION:
URL:https://immigrantservices.ca/event/english-spanish-exchange-6/
LOCATION:Kamloops Immigrant Services\, 448 Tranquille Road\, Kamloops\, British Columbia\, V2B 3H2\, Canada
CATEGORIES:Community Connections
ATTACH;FMTTYPE=image/jpeg:https://immigrantservices.ca/wp-content/uploads/2025/08/2025-English-Spanish-Exchange-Ruben.jpg
END:VEVENT
BEGIN:VEVENT
DTSTART;TZID=America/Los_Angeles:20250915T180000
DTEND;TZID=America/Los_Angeles:20250915T190000
DTSTAMP:20260424T163330
CREATED:20250826T182356Z
LAST-MODIFIED:20250826T182356Z
UID:10001264-1757959200-1757962800@immigrantservices.ca
SUMMARY:WE Pride Group
DESCRIPTION:
URL:https://immigrantservices.ca/event/we-pride-group/2025-09-15/
LOCATION:Kamloops Immigrant Services\, 448 Tranquille Road\, Kamloops\, British Columbia\, V2B 3H2\, Canada
CATEGORIES:Pride Group
ATTACH;FMTTYPE=image/jpeg:https://immigrantservices.ca/wp-content/uploads/2025/08/2025-100515-LGBTQ-Pride-Erin.jpg
END:VEVENT
BEGIN:VEVENT
DTSTART;TZID=America/Los_Angeles:20250915T173000
DTEND;TZID=America/Los_Angeles:20250915T190000
DTSTAMP:20260424T163330
CREATED:20250826T180347Z
LAST-MODIFIED:20250826T180347Z
UID:10001256-1757957400-1757962800@immigrantservices.ca
SUMMARY:How to Buy a Home Workshop
DESCRIPTION:
URL:https://immigrantservices.ca/event/how-to-buy-a-home-workshop-2/
LOCATION:Kamloops Immigrant Services\, 448 Tranquille Road\, Kamloops\, British Columbia\, V2B 3H2\, Canada
CATEGORIES:Settlement
ATTACH;FMTTYPE=image/jpeg:https://immigrantservices.ca/wp-content/uploads/2025/08/2025-0910-How-to-Buy-a-Home-in-Chinese-Ellen.jpg
END:VEVENT
BEGIN:VEVENT
DTSTART;TZID=America/Los_Angeles:20250911T173000
DTEND;TZID=America/Los_Angeles:20250911T183000
DTSTAMP:20260424T163330
CREATED:20250826T182516Z
LAST-MODIFIED:20250826T182516Z
UID:10001265-1757611800-1757615400@immigrantservices.ca
SUMMARY:Pathways to PR in Canada
DESCRIPTION:
URL:https://immigrantservices.ca/event/pathways-to-pr-in-canada/
LOCATION:Kamloops Immigrant Services\, 448 Tranquille Road\, Kamloops\, British Columbia\, V2B 3H2\, Canada
CATEGORIES:Settlement
ATTACH;FMTTYPE=image/jpeg:https://immigrantservices.ca/wp-content/uploads/2025/08/2025-1011-Pathways-to-PR-Workshop-Sage.jpg
END:VEVENT
BEGIN:VEVENT
DTSTART;TZID=America/Los_Angeles:20250910T170000
DTEND;TZID=America/Los_Angeles:20250910T200000
DTSTAMP:20260424T163330
CREATED:20250826T180146Z
LAST-MODIFIED:20250826T180146Z
UID:10001255-1757523600-1757534400@immigrantservices.ca
SUMMARY:Explore Battle Bluff
DESCRIPTION:
URL:https://immigrantservices.ca/event/explore-battle-bluff/
LOCATION:Kamloops Immigrant Services\, 448 Tranquille Road\, Kamloops\, British Columbia\, V2B 3H2\, Canada
CATEGORIES:Community Connections
ATTACH;FMTTYPE=image/jpeg:https://immigrantservices.ca/wp-content/uploads/2025/08/2025-0910-Battle-Bluff-Hike-Angie.jpg
END:VEVENT
BEGIN:VEVENT
DTSTART;TZID=America/Los_Angeles:20250910T130000
DTEND;TZID=America/Los_Angeles:20250910T140000
DTSTAMP:20260424T163330
CREATED:20250826T180004Z
LAST-MODIFIED:20250826T180004Z
UID:10001254-1757509200-1757512800@immigrantservices.ca
SUMMARY:NPower Canada Information Session
DESCRIPTION:
URL:https://immigrantservices.ca/event/npower-canada-information-session-2/
LOCATION:Kamloops Immigrant Services\, 448 Tranquille Road\, Kamloops\, British Columbia\, V2B 3H2\, Canada
CATEGORIES:Employment
ATTACH;FMTTYPE=image/jpeg:https://immigrantservices.ca/wp-content/uploads/2025/08/2025-0910-NPower-Info-Session-Catherine.jpg
END:VEVENT
BEGIN:VEVENT
DTSTART;TZID=America/Los_Angeles:20250909T110000
DTEND;TZID=America/Los_Angeles:20250909T133000
DTSTAMP:20260424T163330
CREATED:20250826T175834Z
LAST-MODIFIED:20250826T175834Z
UID:10001253-1757415600-1757424600@immigrantservices.ca
SUMMARY:Kamloops Museum Tour
DESCRIPTION:
URL:https://immigrantservices.ca/event/kamloops-museum-tour-2/
LOCATION:Kamloops Immigrant Services\, 448 Tranquille Road\, Kamloops\, British Columbia\, V2B 3H2\, Canada
CATEGORIES:Community Connections
ATTACH;FMTTYPE=image/jpeg:https://immigrantservices.ca/wp-content/uploads/2025/08/2025-0909-Museum-Tour.jpg
END:VEVENT
BEGIN:VEVENT
DTSTART;TZID=America/Los_Angeles:20250908T003000
DTEND;TZID=America/Los_Angeles:20250908T140000
DTSTAMP:20260424T163330
CREATED:20250826T175705Z
LAST-MODIFIED:20250826T175705Z
UID:10001252-1757291400-1757340000@immigrantservices.ca
SUMMARY:Gardengate Tour & Gardering
DESCRIPTION:
URL:https://immigrantservices.ca/event/gardengate-tour-gardering/
LOCATION:Kamloops Immigrant Services\, 448 Tranquille Road\, Kamloops\, British Columbia\, V2B 3H2\, Canada
CATEGORIES:Community Connections
ATTACH;FMTTYPE=image/jpeg:https://immigrantservices.ca/wp-content/uploads/2025/08/2025-0908-Garden-Gate-Tour-Emily.jpg
END:VEVENT
BEGIN:VEVENT
DTSTART;TZID=America/Los_Angeles:20250907T170000
DTEND;TZID=America/Los_Angeles:20250907T183000
DTSTAMP:20260424T163330
CREATED:20250826T183100Z
LAST-MODIFIED:20250826T183100Z
UID:10001268-1757264400-1757269800@immigrantservices.ca
SUMMARY:Workshop: Intro to Photography
DESCRIPTION:
URL:https://immigrantservices.ca/event/workshop-intro-to-photography/
LOCATION:Kamloops Immigrant Services\, 448 Tranquille Road\, Kamloops\, British Columbia\, V2B 3H2\, Canada
CATEGORIES:Community Connections
ATTACH;FMTTYPE=image/jpeg:https://immigrantservices.ca/wp-content/uploads/2025/08/2025-08-14-Intro-to-Photography-Emily.jpg
END:VEVENT
BEGIN:VEVENT
DTSTART;TZID=America/Los_Angeles:20250905T180000
DTEND;TZID=America/Los_Angeles:20250905T200000
DTSTAMP:20260424T163330
CREATED:20250826T182356Z
LAST-MODIFIED:20250826T182356Z
UID:10001263-1757095200-1757102400@immigrantservices.ca
SUMMARY:WE Pride Group
DESCRIPTION:
URL:https://immigrantservices.ca/event/we-pride-group/2025-09-05/
LOCATION:Kamloops Immigrant Services\, 448 Tranquille Road\, Kamloops\, British Columbia\, V2B 3H2\, Canada
CATEGORIES:Pride Group
ATTACH;FMTTYPE=image/jpeg:https://immigrantservices.ca/wp-content/uploads/2025/08/2025-100515-LGBTQ-Pride-Erin.jpg
END:VEVENT
BEGIN:VEVENT
DTSTART;TZID=America/Los_Angeles:20250904T130000
DTEND;TZID=America/Los_Angeles:20250904T143000
DTSTAMP:20260424T163330
CREATED:20250826T182120Z
LAST-MODIFIED:20250826T182120Z
UID:10001261-1756990800-1756996200@immigrantservices.ca
SUMMARY:September Tea & Talk
DESCRIPTION:
URL:https://immigrantservices.ca/event/september-tea-talk/2025-09-04/
LOCATION:Kamloops Immigrant Services\, 448 Tranquille Road\, Kamloops\, British Columbia\, V2B 3H2\, Canada
CATEGORIES:Women's Empowerment
ATTACH;FMTTYPE=image/jpeg:https://immigrantservices.ca/wp-content/uploads/2025/08/2025-1004-18-Tea-and-Talk-Erin.jpg
END:VEVENT
END:VCALENDAR