BEGIN:VCALENDAR
VERSION:2.0
PRODID:-//Kamloops Immigrant Services - ECPv6.15.20//NONSGML v1.0//EN
CALSCALE:GREGORIAN
METHOD:PUBLISH
X-ORIGINAL-URL:https://immigrantservices.ca
X-WR-CALDESC:Events for Kamloops Immigrant Services
REFRESH-INTERVAL;VALUE=DURATION:PT1H
X-Robots-Tag:noindex
X-PUBLISHED-TTL:PT1H
BEGIN:VTIMEZONE
TZID:America/Los_Angeles
BEGIN:DAYLIGHT
TZOFFSETFROM:-0800
TZOFFSETTO:-0700
TZNAME:PDT
DTSTART:20240310T100000
END:DAYLIGHT
BEGIN:STANDARD
TZOFFSETFROM:-0700
TZOFFSETTO:-0800
TZNAME:PST
DTSTART:20241103T090000
END:STANDARD
BEGIN:DAYLIGHT
TZOFFSETFROM:-0800
TZOFFSETTO:-0700
TZNAME:PDT
DTSTART:20250309T100000
END:DAYLIGHT
BEGIN:STANDARD
TZOFFSETFROM:-0700
TZOFFSETTO:-0800
TZNAME:PST
DTSTART:20251102T090000
END:STANDARD
BEGIN:DAYLIGHT
TZOFFSETFROM:-0800
TZOFFSETTO:-0700
TZNAME:PDT
DTSTART:20260308T100000
END:DAYLIGHT
BEGIN:STANDARD
TZOFFSETFROM:-0700
TZOFFSETTO:-0800
TZNAME:PST
DTSTART:20261101T090000
END:STANDARD
END:VTIMEZONE
BEGIN:VEVENT
DTSTART;TZID=America/Los_Angeles:20251030T180000
DTEND;TZID=America/Los_Angeles:20251030T191500
DTSTAMP:20260424T121259
CREATED:20250918T193831Z
LAST-MODIFIED:20251124T181948Z
UID:10001464-1761847200-1761851700@immigrantservices.ca
SUMMARY:Beginner French 2
DESCRIPTION:
URL:https://immigrantservices.ca/event/beginner-french-2-2/2025-10-30/
LOCATION:Kamloops Immigrant Services\, 448 Tranquille Road\, Kamloops\, British Columbia\, V2B 3H2\, Canada
CATEGORIES:Community Connections
ATTACH;FMTTYPE=image/jpeg:https://immigrantservices.ca/wp-content/uploads/2025/09/2025-1023-30-French-Emily.jpg
END:VEVENT
BEGIN:VEVENT
DTSTART;TZID=America/Los_Angeles:20251030T130000
DTEND;TZID=America/Los_Angeles:20251030T143000
DTSTAMP:20260424T121259
CREATED:20250918T190500Z
LAST-MODIFIED:20250918T190647Z
UID:10001329-1761829200-1761834600@immigrantservices.ca
SUMMARY:WE Tea & Talk
DESCRIPTION:
URL:https://immigrantservices.ca/event/we-tea-talk-3/2025-10-30/
LOCATION:Kamloops Immigrant Services\, 448 Tranquille Road\, Kamloops\, British Columbia\, V2B 3H2\, Canada
CATEGORIES:Women's Empowerment
ATTACH;FMTTYPE=image/jpeg:https://immigrantservices.ca/wp-content/uploads/2025/09/2025-1002-16-30-WE-Program-Tea-Talk-Erin.jpg
END:VEVENT
BEGIN:VEVENT
DTSTART;TZID=America/Los_Angeles:20251029T180000
DTEND;TZID=America/Los_Angeles:20251029T200000
DTSTAMP:20260424T121259
CREATED:20250918T195032Z
LAST-MODIFIED:20250918T195032Z
UID:10001524-1761760800-1761768000@immigrantservices.ca
SUMMARY:Senior's Masquerade Party
DESCRIPTION:
URL:https://immigrantservices.ca/event/seniors-masquerade-party/
LOCATION:Kamloops Immigrant Services\, 448 Tranquille Road\, Kamloops\, British Columbia\, V2B 3H2\, Canada
CATEGORIES:Senior Program
ATTACH;FMTTYPE=image/jpeg:https://immigrantservices.ca/wp-content/uploads/2025/09/2025-1029-Seniors-Masquerade-Party-Potluck.jpg
END:VEVENT
BEGIN:VEVENT
DTSTART;TZID=America/Los_Angeles:20251027T180000
DTEND;TZID=America/Los_Angeles:20251027T200000
DTSTAMP:20260424T121259
CREATED:20250918T194643Z
LAST-MODIFIED:20250918T194643Z
UID:10001523-1761588000-1761595200@immigrantservices.ca
SUMMARY:WE Pride: Movie + Potluck
DESCRIPTION:
URL:https://immigrantservices.ca/event/we-pride-movie-potluck/
LOCATION:Kamloops Immigrant Services\, 448 Tranquille Road\, Kamloops\, British Columbia\, V2B 3H2\, Canada
CATEGORIES:Pride Group
ATTACH;FMTTYPE=image/jpeg:https://immigrantservices.ca/wp-content/uploads/2025/09/2025-1027-PRIDE-LGBTQ-Erin.jpg
END:VEVENT
BEGIN:VEVENT
DTSTART;TZID=America/Los_Angeles:20251025T100000
DTEND;TZID=America/Los_Angeles:20251025T150000
DTSTAMP:20260424T121259
CREATED:20250918T194413Z
LAST-MODIFIED:20250918T194413Z
UID:10001522-1761386400-1761404400@immigrantservices.ca
SUMMARY:Rooted in Creativity
DESCRIPTION:
URL:https://immigrantservices.ca/event/rooted-in-creativity/
LOCATION:Kamloops Immigrant Services\, 448 Tranquille Road\, Kamloops\, British Columbia\, V2B 3H2\, Canada
CATEGORIES:Community Connections
ATTACH;FMTTYPE=image/jpeg:https://immigrantservices.ca/wp-content/uploads/2025/09/2025-1025-Rooted-In-Creativity-Art-Therapy-Angie.jpg
END:VEVENT
BEGIN:VEVENT
DTSTART;TZID=America/Los_Angeles:20251024T180000
DTEND;TZID=America/Los_Angeles:20251024T210000
DTSTAMP:20260424T121259
CREATED:20250918T194217Z
LAST-MODIFIED:20250918T194217Z
UID:10001521-1761328800-1761339600@immigrantservices.ca
SUMMARY:Youth 4 Youth: Halloween Movie Night
DESCRIPTION:
URL:https://immigrantservices.ca/event/youth-4-youth-halloween-movie-night/
LOCATION:Kamloops Immigrant Services\, 448 Tranquille Road\, Kamloops\, British Columbia\, V2B 3H2\, Canada
CATEGORIES:Community Connections
ATTACH;FMTTYPE=image/jpeg:https://immigrantservices.ca/wp-content/uploads/2025/09/2025-1024-Youth-4-Youth-Halloween-Movie-Night.jpg
END:VEVENT
BEGIN:VEVENT
DTSTART;TZID=America/Los_Angeles:20251024T130000
DTEND;TZID=America/Los_Angeles:20251024T140000
DTSTAMP:20260424T121259
CREATED:20250918T200404Z
LAST-MODIFIED:20251124T182150Z
UID:10001530-1761310800-1761314400@immigrantservices.ca
SUMMARY:Digital Skills 101
DESCRIPTION:
URL:https://immigrantservices.ca/event/digital-skills-101/2025-10-24/
LOCATION:Kamloops Immigrant Services\, 448 Tranquille Road\, Kamloops\, British Columbia\, V2B 3H2\, Canada
CATEGORIES:Community Connections
ATTACH;FMTTYPE=image/jpeg:https://immigrantservices.ca/wp-content/uploads/2025/09/2025-10004-11-18-25-Digital-Skills-101-Emily.jpg
END:VEVENT
BEGIN:VEVENT
DTSTART;TZID=America/Los_Angeles:20251024T110000
DTEND;TZID=America/Los_Angeles:20251024T140000
DTSTAMP:20260424T121259
CREATED:20250918T201326Z
LAST-MODIFIED:20251124T182048Z
UID:10001589-1761303600-1761314400@immigrantservices.ca
SUMMARY:Beyond the resume
DESCRIPTION:
URL:https://immigrantservices.ca/event/beyond-the-resume/2025-10-24/
LOCATION:Kamloops Immigrant Services\, 448 Tranquille Road\, Kamloops\, British Columbia\, V2B 3H2\, Canada
CATEGORIES:Employment
ATTACH;FMTTYPE=image/jpeg:https://immigrantservices.ca/wp-content/uploads/2025/09/2025-10-Beyond-the-Resume-Catherine.jpg
END:VEVENT
BEGIN:VEVENT
DTSTART;TZID=America/Los_Angeles:20251023T180000
DTEND;TZID=America/Los_Angeles:20251023T200000
DTSTAMP:20260424T121259
CREATED:20250918T192749Z
LAST-MODIFIED:20251124T181842Z
UID:10001404-1761242400-1761249600@immigrantservices.ca
SUMMARY:Learn to Cope with Stress
DESCRIPTION:
URL:https://immigrantservices.ca/event/learn-to-cope-with-strees/2025-10-23/
LOCATION:Kamloops Immigrant Services\, 448 Tranquille Road\, Kamloops\, British Columbia\, V2B 3H2\, Canada
CATEGORIES:Women's Empowerment
ATTACH;FMTTYPE=image/jpeg:https://immigrantservices.ca/wp-content/uploads/2025/09/2025-1016-23-30-Y-Mind-Poster-Learn-to-Cope-with-Stress-Erin.jpg
END:VEVENT
BEGIN:VEVENT
DTSTART;TZID=America/Los_Angeles:20251023T180000
DTEND;TZID=America/Los_Angeles:20251023T191500
DTSTAMP:20260424T121259
CREATED:20251020T183654Z
LAST-MODIFIED:20251020T183654Z
UID:10001798-1761242400-1761246900@immigrantservices.ca
SUMMARY:Beginner French 2
DESCRIPTION:
URL:https://immigrantservices.ca/event/beginner-french-2-3/2025-10-23/
LOCATION:Kamloops Immigrant Services\, 448 Tranquille Road\, Kamloops\, British Columbia\, V2B 3H2\, Canada
CATEGORIES:Community Connections
ATTACH;FMTTYPE=image/jpeg:https://immigrantservices.ca/wp-content/uploads/2025/10/2025-1106-13-20-27-Beginner-French-Emily-1.jpg
END:VEVENT
BEGIN:VEVENT
DTSTART;TZID=America/Los_Angeles:20251023T180000
DTEND;TZID=America/Los_Angeles:20251023T191500
DTSTAMP:20260424T121259
CREATED:20250918T193831Z
LAST-MODIFIED:20251124T181948Z
UID:10001463-1761242400-1761246900@immigrantservices.ca
SUMMARY:Beginner French 2
DESCRIPTION:
URL:https://immigrantservices.ca/event/beginner-french-2-2/2025-10-23/
LOCATION:Kamloops Immigrant Services\, 448 Tranquille Road\, Kamloops\, British Columbia\, V2B 3H2\, Canada
CATEGORIES:Community Connections
ATTACH;FMTTYPE=image/jpeg:https://immigrantservices.ca/wp-content/uploads/2025/09/2025-1023-30-French-Emily.jpg
END:VEVENT
BEGIN:VEVENT
DTSTART;TZID=America/Los_Angeles:20251022T093000
DTEND;TZID=America/Los_Angeles:20251022T123000
DTSTAMP:20260424T121259
CREATED:20250918T191510Z
LAST-MODIFIED:20250918T191510Z
UID:10001337-1761125400-1761136200@immigrantservices.ca
SUMMARY:Workshop Series: She Leads
DESCRIPTION:
URL:https://immigrantservices.ca/event/workshop-series-she-leads/2025-10-22/
LOCATION:Kamloops Immigrant Services\, 448 Tranquille Road\, Kamloops\, British Columbia\, V2B 3H2\, Canada
CATEGORIES:Employment
ATTACH;FMTTYPE=image/jpeg:https://immigrantservices.ca/wp-content/uploads/2025/09/2025-1007-22-SheLeads-Poster-Catherine.jpg
END:VEVENT
BEGIN:VEVENT
DTSTART;TZID=America/Los_Angeles:20251022T090000
DTEND;TZID=America/Los_Angeles:20251022T140000
DTSTAMP:20260424T121259
CREATED:20250918T193548Z
LAST-MODIFIED:20250918T193548Z
UID:10001462-1761123600-1761141600@immigrantservices.ca
SUMMARY:Pumpkin Patch Field Trip
DESCRIPTION:
URL:https://immigrantservices.ca/event/pumpkin-patch-field-trip/
LOCATION:Kamloops Immigrant Services\, 448 Tranquille Road\, Kamloops\, British Columbia\, V2B 3H2\, Canada
CATEGORIES:Community Connections
ATTACH;FMTTYPE=image/jpeg:https://immigrantservices.ca/wp-content/uploads/2025/09/2025-1022-Pmpkin-Patch-Field-Trip-Emily.jpg
END:VEVENT
BEGIN:VEVENT
DTSTART;TZID=America/Los_Angeles:20251021T093000
DTEND;TZID=America/Los_Angeles:20251021T123000
DTSTAMP:20260424T121259
CREATED:20250918T191510Z
LAST-MODIFIED:20250918T191510Z
UID:10001336-1761039000-1761049800@immigrantservices.ca
SUMMARY:Workshop Series: She Leads
DESCRIPTION:
URL:https://immigrantservices.ca/event/workshop-series-she-leads/2025-10-21/
LOCATION:Kamloops Immigrant Services\, 448 Tranquille Road\, Kamloops\, British Columbia\, V2B 3H2\, Canada
CATEGORIES:Employment
ATTACH;FMTTYPE=image/jpeg:https://immigrantservices.ca/wp-content/uploads/2025/09/2025-1007-22-SheLeads-Poster-Catherine.jpg
END:VEVENT
BEGIN:VEVENT
DTSTART;TZID=America/Los_Angeles:20251020T150000
DTEND;TZID=America/Los_Angeles:20251020T160000
DTSTAMP:20260424T121259
CREATED:20250918T193058Z
LAST-MODIFIED:20250918T193058Z
UID:10001402-1760972400-1760976000@immigrantservices.ca
SUMMARY:Workshop: Garlic Planting
DESCRIPTION:
URL:https://immigrantservices.ca/event/workshop-garlic-planting/
LOCATION:Kamloops Immigrant Services\, 448 Tranquille Road\, Kamloops\, British Columbia\, V2B 3H2\, Canada
CATEGORIES:Community Connections
ATTACH;FMTTYPE=image/jpeg:https://immigrantservices.ca/wp-content/uploads/2025/09/2025-1020-Garlic-Planting-Emily.jpg
END:VEVENT
BEGIN:VEVENT
DTSTART;TZID=America/Los_Angeles:20251017T130000
DTEND;TZID=America/Los_Angeles:20251017T140000
DTSTAMP:20260424T121259
CREATED:20250918T200404Z
LAST-MODIFIED:20251124T182150Z
UID:10001529-1760706000-1760709600@immigrantservices.ca
SUMMARY:Digital Skills 101
DESCRIPTION:
URL:https://immigrantservices.ca/event/digital-skills-101/2025-10-17/
LOCATION:Kamloops Immigrant Services\, 448 Tranquille Road\, Kamloops\, British Columbia\, V2B 3H2\, Canada
CATEGORIES:Community Connections
ATTACH;FMTTYPE=image/jpeg:https://immigrantservices.ca/wp-content/uploads/2025/09/2025-10004-11-18-25-Digital-Skills-101-Emily.jpg
END:VEVENT
BEGIN:VEVENT
DTSTART;TZID=America/Los_Angeles:20251017T110000
DTEND;TZID=America/Los_Angeles:20251017T140000
DTSTAMP:20260424T121259
CREATED:20250918T201326Z
LAST-MODIFIED:20251124T182048Z
UID:10001588-1760698800-1760709600@immigrantservices.ca
SUMMARY:Beyond the resume
DESCRIPTION:
URL:https://immigrantservices.ca/event/beyond-the-resume/2025-10-17/
LOCATION:Kamloops Immigrant Services\, 448 Tranquille Road\, Kamloops\, British Columbia\, V2B 3H2\, Canada
CATEGORIES:Employment
ATTACH;FMTTYPE=image/jpeg:https://immigrantservices.ca/wp-content/uploads/2025/09/2025-10-Beyond-the-Resume-Catherine.jpg
END:VEVENT
BEGIN:VEVENT
DTSTART;TZID=America/Los_Angeles:20251016T180000
DTEND;TZID=America/Los_Angeles:20251016T200000
DTSTAMP:20260424T121259
CREATED:20250918T192749Z
LAST-MODIFIED:20251124T181842Z
UID:10001403-1760637600-1760644800@immigrantservices.ca
SUMMARY:Learn to Cope with Stress
DESCRIPTION:
URL:https://immigrantservices.ca/event/learn-to-cope-with-strees/2025-10-16/
LOCATION:Kamloops Immigrant Services\, 448 Tranquille Road\, Kamloops\, British Columbia\, V2B 3H2\, Canada
CATEGORIES:Women's Empowerment
ATTACH;FMTTYPE=image/jpeg:https://immigrantservices.ca/wp-content/uploads/2025/09/2025-1016-23-30-Y-Mind-Poster-Learn-to-Cope-with-Stress-Erin.jpg
END:VEVENT
BEGIN:VEVENT
DTSTART;TZID=America/Los_Angeles:20251016T130000
DTEND;TZID=America/Los_Angeles:20251016T143000
DTSTAMP:20260424T121259
CREATED:20250918T190500Z
LAST-MODIFIED:20250918T190647Z
UID:10001328-1760619600-1760625000@immigrantservices.ca
SUMMARY:WE Tea & Talk
DESCRIPTION:
URL:https://immigrantservices.ca/event/we-tea-talk-3/2025-10-16/
LOCATION:Kamloops Immigrant Services\, 448 Tranquille Road\, Kamloops\, British Columbia\, V2B 3H2\, Canada
CATEGORIES:Women's Empowerment
ATTACH;FMTTYPE=image/jpeg:https://immigrantservices.ca/wp-content/uploads/2025/09/2025-1002-16-30-WE-Program-Tea-Talk-Erin.jpg
END:VEVENT
BEGIN:VEVENT
DTSTART;TZID=America/Los_Angeles:20251016T110000
DTEND;TZID=America/Los_Angeles:20251016T120000
DTSTAMP:20260424T121259
CREATED:20250918T191922Z
LAST-MODIFIED:20250918T191922Z
UID:10001341-1760612400-1760616000@immigrantservices.ca
SUMMARY:Kamloops Fire Hall No. 2 Tour
DESCRIPTION:
URL:https://immigrantservices.ca/event/kamloops-fire-hall-no-2-tour/2025-10-16/
LOCATION:Kamloops Immigrant Services\, 448 Tranquille Road\, Kamloops\, British Columbia\, V2B 3H2\, Canada
CATEGORIES:Community Connections
ATTACH;FMTTYPE=image/jpeg:https://immigrantservices.ca/wp-content/uploads/2025/09/2025-1009-14-14-Firehall-Tour-Emily.jpg
END:VEVENT
BEGIN:VEVENT
DTSTART;TZID=America/Los_Angeles:20251015T170000
DTEND;TZID=America/Los_Angeles:20251015T200000
DTSTAMP:20260424T121259
CREATED:20250918T192109Z
LAST-MODIFIED:20250918T192109Z
UID:10001342-1760547600-1760558400@immigrantservices.ca
SUMMARY:Evening Hike: Kenna Tower
DESCRIPTION:
URL:https://immigrantservices.ca/event/evening-hike-kenna-tower/
LOCATION:Kamloops Immigrant Services\, 448 Tranquille Road\, Kamloops\, British Columbia\, V2B 3H2\, Canada
CATEGORIES:Community Connections
ATTACH;FMTTYPE=image/jpeg:https://immigrantservices.ca/wp-content/uploads/2025/09/2025-1015-Kenna-Tower-Evening-Hike-Angie.jpg
END:VEVENT
BEGIN:VEVENT
DTSTART;TZID=America/Los_Angeles:20251015T093000
DTEND;TZID=America/Los_Angeles:20251015T123000
DTSTAMP:20260424T121259
CREATED:20250918T191510Z
LAST-MODIFIED:20250918T191510Z
UID:10001335-1760520600-1760531400@immigrantservices.ca
SUMMARY:Workshop Series: She Leads
DESCRIPTION:
URL:https://immigrantservices.ca/event/workshop-series-she-leads/2025-10-15/
LOCATION:Kamloops Immigrant Services\, 448 Tranquille Road\, Kamloops\, British Columbia\, V2B 3H2\, Canada
CATEGORIES:Employment
ATTACH;FMTTYPE=image/jpeg:https://immigrantservices.ca/wp-content/uploads/2025/09/2025-1007-22-SheLeads-Poster-Catherine.jpg
END:VEVENT
BEGIN:VEVENT
DTSTART;TZID=America/Los_Angeles:20251014T173000
DTEND;TZID=America/Los_Angeles:20251014T190000
DTSTAMP:20260424T121259
CREATED:20250918T200654Z
LAST-MODIFIED:20250918T200654Z
UID:10001584-1760463000-1760468400@immigrantservices.ca
SUMMARY:English Spanish Exchange
DESCRIPTION:
URL:https://immigrantservices.ca/event/english-spanish-exchange-7/
LOCATION:Kamloops Immigrant Services\, 448 Tranquille Road\, Kamloops\, British Columbia\, V2B 3H2\, Canada
CATEGORIES:Community Connections
ATTACH;FMTTYPE=image/jpeg:https://immigrantservices.ca/wp-content/uploads/2025/09/2025-English-Spanish-Exchange-Ruben.jpg
END:VEVENT
BEGIN:VEVENT
DTSTART;TZID=America/Los_Angeles:20251014T110000
DTEND;TZID=America/Los_Angeles:20251014T120000
DTSTAMP:20260424T121259
CREATED:20250918T191922Z
LAST-MODIFIED:20250918T191922Z
UID:10001340-1760439600-1760443200@immigrantservices.ca
SUMMARY:Kamloops Fire Hall No. 2 Tour
DESCRIPTION:
URL:https://immigrantservices.ca/event/kamloops-fire-hall-no-2-tour/2025-10-14/
LOCATION:Kamloops Immigrant Services\, 448 Tranquille Road\, Kamloops\, British Columbia\, V2B 3H2\, Canada
CATEGORIES:Community Connections
ATTACH;FMTTYPE=image/jpeg:https://immigrantservices.ca/wp-content/uploads/2025/09/2025-1009-14-14-Firehall-Tour-Emily.jpg
END:VEVENT
BEGIN:VEVENT
DTSTART;TZID=America/Los_Angeles:20251014T093000
DTEND;TZID=America/Los_Angeles:20251014T123000
DTSTAMP:20260424T121259
CREATED:20250918T191510Z
LAST-MODIFIED:20250918T191510Z
UID:10001334-1760434200-1760445000@immigrantservices.ca
SUMMARY:Workshop Series: She Leads
DESCRIPTION:
URL:https://immigrantservices.ca/event/workshop-series-she-leads/2025-10-14/
LOCATION:Kamloops Immigrant Services\, 448 Tranquille Road\, Kamloops\, British Columbia\, V2B 3H2\, Canada
CATEGORIES:Employment
ATTACH;FMTTYPE=image/jpeg:https://immigrantservices.ca/wp-content/uploads/2025/09/2025-1007-22-SheLeads-Poster-Catherine.jpg
END:VEVENT
BEGIN:VEVENT
DTSTART;VALUE=DATE:20251013
DTEND;VALUE=DATE:20251014
DTSTAMP:20260424T121259
CREATED:20250918T201857Z
LAST-MODIFIED:20250918T201959Z
UID:10001645-1760313600-1760399999@immigrantservices.ca
SUMMARY:Thanksgiving Day (KIS Closed)
DESCRIPTION:
URL:https://immigrantservices.ca/event/thanksgiving-day-kis-closed/
LOCATION:Kamloops Immigrant Services\, 448 Tranquille Road\, Kamloops\, British Columbia\, V2B 3H2\, Canada
END:VEVENT
BEGIN:VEVENT
DTSTART;TZID=America/Los_Angeles:20251010T130000
DTEND;TZID=America/Los_Angeles:20251010T140000
DTSTAMP:20260424T121259
CREATED:20250918T200404Z
LAST-MODIFIED:20251124T182150Z
UID:10001528-1760101200-1760104800@immigrantservices.ca
SUMMARY:Digital Skills 101
DESCRIPTION:
URL:https://immigrantservices.ca/event/digital-skills-101/2025-10-10/
LOCATION:Kamloops Immigrant Services\, 448 Tranquille Road\, Kamloops\, British Columbia\, V2B 3H2\, Canada
CATEGORIES:Community Connections
ATTACH;FMTTYPE=image/jpeg:https://immigrantservices.ca/wp-content/uploads/2025/09/2025-10004-11-18-25-Digital-Skills-101-Emily.jpg
END:VEVENT
BEGIN:VEVENT
DTSTART;TZID=America/Los_Angeles:20251010T110000
DTEND;TZID=America/Los_Angeles:20251010T140000
DTSTAMP:20260424T121259
CREATED:20250918T201326Z
LAST-MODIFIED:20251124T182048Z
UID:10001587-1760094000-1760104800@immigrantservices.ca
SUMMARY:Beyond the resume
DESCRIPTION:
URL:https://immigrantservices.ca/event/beyond-the-resume/2025-10-10/
LOCATION:Kamloops Immigrant Services\, 448 Tranquille Road\, Kamloops\, British Columbia\, V2B 3H2\, Canada
CATEGORIES:Employment
ATTACH;FMTTYPE=image/jpeg:https://immigrantservices.ca/wp-content/uploads/2025/09/2025-10-Beyond-the-Resume-Catherine.jpg
END:VEVENT
BEGIN:VEVENT
DTSTART;TZID=America/Los_Angeles:20251009T130000
DTEND;TZID=America/Los_Angeles:20251009T140000
DTSTAMP:20260424T121259
CREATED:20250918T191922Z
LAST-MODIFIED:20250918T191922Z
UID:10001339-1760014800-1760018400@immigrantservices.ca
SUMMARY:Kamloops Fire Hall No. 2 Tour
DESCRIPTION:
URL:https://immigrantservices.ca/event/kamloops-fire-hall-no-2-tour/2025-10-09/
LOCATION:Kamloops Immigrant Services\, 448 Tranquille Road\, Kamloops\, British Columbia\, V2B 3H2\, Canada
CATEGORIES:Community Connections
ATTACH;FMTTYPE=image/jpeg:https://immigrantservices.ca/wp-content/uploads/2025/09/2025-1009-14-14-Firehall-Tour-Emily.jpg
END:VEVENT
BEGIN:VEVENT
DTSTART;TZID=America/Los_Angeles:20251008T180000
DTEND;TZID=America/Los_Angeles:20251008T200000
DTSTAMP:20260424T121259
CREATED:20250918T191650Z
LAST-MODIFIED:20250918T191650Z
UID:10001338-1759946400-1759953600@immigrantservices.ca
SUMMARY:Thanksgiving Potluck Dinner
DESCRIPTION:
URL:https://immigrantservices.ca/event/thanksgiving-potluck-dinner-2/
LOCATION:Kamloops Immigrant Services\, 448 Tranquille Road\, Kamloops\, British Columbia\, V2B 3H2\, Canada
CATEGORIES:Community Connections
ATTACH;FMTTYPE=image/jpeg:https://immigrantservices.ca/wp-content/uploads/2025/09/2025-1008-Thanksgiving-Potluck-Emily.jpg
END:VEVENT
END:VCALENDAR