BEGIN:VCALENDAR
VERSION:2.0
PRODID:-//Kamloops Immigrant Services - ECPv6.15.20//NONSGML v1.0//EN
CALSCALE:GREGORIAN
METHOD:PUBLISH
X-ORIGINAL-URL:https://immigrantservices.ca
X-WR-CALDESC:Events for Kamloops Immigrant Services
REFRESH-INTERVAL;VALUE=DURATION:PT1H
X-Robots-Tag:noindex
X-PUBLISHED-TTL:PT1H
BEGIN:VTIMEZONE
TZID:America/Los_Angeles
BEGIN:DAYLIGHT
TZOFFSETFROM:-0800
TZOFFSETTO:-0700
TZNAME:PDT
DTSTART:20240310T100000
END:DAYLIGHT
BEGIN:STANDARD
TZOFFSETFROM:-0700
TZOFFSETTO:-0800
TZNAME:PST
DTSTART:20241103T090000
END:STANDARD
BEGIN:DAYLIGHT
TZOFFSETFROM:-0800
TZOFFSETTO:-0700
TZNAME:PDT
DTSTART:20250309T100000
END:DAYLIGHT
BEGIN:STANDARD
TZOFFSETFROM:-0700
TZOFFSETTO:-0800
TZNAME:PST
DTSTART:20251102T090000
END:STANDARD
BEGIN:DAYLIGHT
TZOFFSETFROM:-0800
TZOFFSETTO:-0700
TZNAME:PDT
DTSTART:20260308T100000
END:DAYLIGHT
BEGIN:STANDARD
TZOFFSETFROM:-0700
TZOFFSETTO:-0800
TZNAME:PST
DTSTART:20261101T090000
END:STANDARD
END:VTIMEZONE
BEGIN:VEVENT
DTSTART;TZID=America/Los_Angeles:20251119T180000
DTEND;TZID=America/Los_Angeles:20251119T190000
DTSTAMP:20260424T073640
CREATED:20251020T181215Z
LAST-MODIFIED:20251020T181215Z
UID:10001777-1763575200-1763578800@immigrantservices.ca
SUMMARY:Bachata Dance Class
DESCRIPTION:
URL:https://immigrantservices.ca/event/bachata-dance-class/
LOCATION:Kamloops Immigrant Services\, 448 Tranquille Road\, Kamloops\, British Columbia\, V2B 3H2\, Canada
CATEGORIES:Community Connections
ATTACH;FMTTYPE=image/jpeg:https://immigrantservices.ca/wp-content/uploads/2025/10/2025-1119-Bachata-Dance-Class-Angie.jpg
END:VEVENT
BEGIN:VEVENT
DTSTART;TZID=America/Los_Angeles:20251119T133000
DTEND;TZID=America/Los_Angeles:20251119T150000
DTSTAMP:20260424T073640
CREATED:20251020T183152Z
LAST-MODIFIED:20251020T183152Z
UID:10001793-1763559000-1763564400@immigrantservices.ca
SUMMARY:Drop-In Resume & Beyond the Resume
DESCRIPTION:
URL:https://immigrantservices.ca/event/drop-in-resume-beyond-the-resume/2025-11-19/
LOCATION:Kamloops Immigrant Services\, 448 Tranquille Road\, Kamloops\, British Columbia\, V2B 3H2\, Canada
CATEGORIES:Employment
ATTACH;FMTTYPE=image/jpeg:https://immigrantservices.ca/wp-content/uploads/2025/10/2025-Wednesdays-7-Thursdays-Drop-in-Resume-Beyond-The-Resume-1.jpg
END:VEVENT
BEGIN:VEVENT
DTSTART;TZID=America/Los_Angeles:20251118T173000
DTEND;TZID=America/Los_Angeles:20251118T190000
DTSTAMP:20260424T073640
CREATED:20251020T182548Z
LAST-MODIFIED:20251020T182548Z
UID:10001784-1763487000-1763492400@immigrantservices.ca
SUMMARY:English-Spanish Exchange
DESCRIPTION:
URL:https://immigrantservices.ca/event/english-spanish-exchange-8/
LOCATION:Kamloops Immigrant Services\, 448 Tranquille Road\, Kamloops\, British Columbia\, V2B 3H2\, Canada
CATEGORIES:Community Connections
ATTACH;FMTTYPE=image/jpeg:https://immigrantservices.ca/wp-content/uploads/2025/10/2025-Social-Media-Poster-Ruben.jpg
END:VEVENT
BEGIN:VEVENT
DTSTART;TZID=America/Los_Angeles:20251118T110000
DTEND;TZID=America/Los_Angeles:20251118T123000
DTSTAMP:20260424T073640
CREATED:20251020T181032Z
LAST-MODIFIED:20251020T181032Z
UID:10001776-1763463600-1763469000@immigrantservices.ca
SUMMARY:Zumbini
DESCRIPTION:
URL:https://immigrantservices.ca/event/zumbini-8/
LOCATION:Kamloops Immigrant Services\, 448 Tranquille Road\, Kamloops\, British Columbia\, V2B 3H2\, Canada
CATEGORIES:Childmind
ATTACH;FMTTYPE=image/jpeg:https://immigrantservices.ca/wp-content/uploads/2025/10/2025-1118-Zumbini-Angie-Childmind.jpg
END:VEVENT
BEGIN:VEVENT
DTSTART;TZID=America/Los_Angeles:20251117T180000
DTEND;TZID=America/Los_Angeles:20251117T190000
DTSTAMP:20260424T073640
CREATED:20251020T180910Z
LAST-MODIFIED:20251020T180910Z
UID:10001775-1763402400-1763406000@immigrantservices.ca
SUMMARY:Your Child\, Our Priority!
DESCRIPTION:
URL:https://immigrantservices.ca/event/your-child-our-priority-2/
LOCATION:Kamloops Immigrant Services\, 448 Tranquille Road\, Kamloops\, British Columbia\, V2B 3H2\, Canada
CATEGORIES:Settlement
ATTACH;FMTTYPE=image/jpeg:https://immigrantservices.ca/wp-content/uploads/2025/10/Social-Media-Posters-2.jpg
END:VEVENT
BEGIN:VEVENT
DTSTART;TZID=America/Los_Angeles:20251115T100000
DTEND;TZID=America/Los_Angeles:20251115T140000
DTSTAMP:20260424T073640
CREATED:20251020T183807Z
LAST-MODIFIED:20251020T183808Z
UID:10001804-1763200800-1763215200@immigrantservices.ca
SUMMARY:Christmas Craft Fair 2025: Vendor Call Out
DESCRIPTION:
URL:https://immigrantservices.ca/event/christmas-craft-fair-2025-vendor-call-out/
LOCATION:Kamloops Immigrant Services\, 448 Tranquille Road\, Kamloops\, British Columbia\, V2B 3H2\, Canada
CATEGORIES:Community Connections
ATTACH;FMTTYPE=image/jpeg:https://immigrantservices.ca/wp-content/uploads/2025/10/2025-1115-Christmas-Craft-Fair-1.jpg
END:VEVENT
BEGIN:VEVENT
DTSTART;TZID=America/Los_Angeles:20251115T100000
DTEND;TZID=America/Los_Angeles:20251115T140000
DTSTAMP:20260424T073640
CREATED:20251020T165225Z
LAST-MODIFIED:20251020T165227Z
UID:10001774-1763200800-1763215200@immigrantservices.ca
SUMMARY:Christmas Craft Fair
DESCRIPTION:
URL:https://immigrantservices.ca/event/christmas-craft-fair/
LOCATION:Kamloops Immigrant Services\, 448 Tranquille Road\, Kamloops\, British Columbia\, V2B 3H2\, Canada
CATEGORIES:Community Connections
ATTACH;FMTTYPE=image/jpeg:https://immigrantservices.ca/wp-content/uploads/2025/10/2025-1115-Christmas-Craft-Fair-Emily.jpg
END:VEVENT
BEGIN:VEVENT
DTSTART;TZID=America/Los_Angeles:20251114T130000
DTEND;TZID=America/Los_Angeles:20251114T140000
DTSTAMP:20260424T073640
CREATED:20250918T200404Z
LAST-MODIFIED:20251124T182150Z
UID:10001533-1763125200-1763128800@immigrantservices.ca
SUMMARY:Digital Skills 101
DESCRIPTION:
URL:https://immigrantservices.ca/event/digital-skills-101/2025-11-14/
LOCATION:Kamloops Immigrant Services\, 448 Tranquille Road\, Kamloops\, British Columbia\, V2B 3H2\, Canada
CATEGORIES:Community Connections
ATTACH;FMTTYPE=image/jpeg:https://immigrantservices.ca/wp-content/uploads/2025/09/2025-10004-11-18-25-Digital-Skills-101-Emily.jpg
END:VEVENT
BEGIN:VEVENT
DTSTART;TZID=America/Los_Angeles:20251114T110000
DTEND;TZID=America/Los_Angeles:20251114T140000
DTSTAMP:20260424T073640
CREATED:20250918T201326Z
LAST-MODIFIED:20251124T182048Z
UID:10001592-1763118000-1763128800@immigrantservices.ca
SUMMARY:Beyond the resume
DESCRIPTION:
URL:https://immigrantservices.ca/event/beyond-the-resume/2025-11-14/
LOCATION:Kamloops Immigrant Services\, 448 Tranquille Road\, Kamloops\, British Columbia\, V2B 3H2\, Canada
CATEGORIES:Employment
ATTACH;FMTTYPE=image/jpeg:https://immigrantservices.ca/wp-content/uploads/2025/09/2025-10-Beyond-the-Resume-Catherine.jpg
END:VEVENT
BEGIN:VEVENT
DTSTART;TZID=America/Los_Angeles:20251113T180000
DTEND;TZID=America/Los_Angeles:20251113T200000
DTSTAMP:20260424T073640
CREATED:20250918T192749Z
LAST-MODIFIED:20251124T181842Z
UID:10001407-1763056800-1763064000@immigrantservices.ca
SUMMARY:Learn to Cope with Stress
DESCRIPTION:
URL:https://immigrantservices.ca/event/learn-to-cope-with-strees/2025-11-13/
LOCATION:Kamloops Immigrant Services\, 448 Tranquille Road\, Kamloops\, British Columbia\, V2B 3H2\, Canada
CATEGORIES:Women's Empowerment
ATTACH;FMTTYPE=image/jpeg:https://immigrantservices.ca/wp-content/uploads/2025/09/2025-1016-23-30-Y-Mind-Poster-Learn-to-Cope-with-Stress-Erin.jpg
END:VEVENT
BEGIN:VEVENT
DTSTART;TZID=America/Los_Angeles:20251113T180000
DTEND;TZID=America/Los_Angeles:20251113T193000
DTSTAMP:20260424T073640
CREATED:20251020T164543Z
LAST-MODIFIED:20251020T164543Z
UID:10001768-1763056800-1763062200@immigrantservices.ca
SUMMARY:Rooted in Connection for Women
DESCRIPTION:
URL:https://immigrantservices.ca/event/rooted-in-connection-for-women/2025-11-13/
LOCATION:Kamloops Immigrant Services\, 448 Tranquille Road\, Kamloops\, British Columbia\, V2B 3H2\, Canada
CATEGORIES:Community Connections
END:VEVENT
BEGIN:VEVENT
DTSTART;TZID=America/Los_Angeles:20251113T180000
DTEND;TZID=America/Los_Angeles:20251113T191500
DTSTAMP:20260424T073640
CREATED:20251020T183654Z
LAST-MODIFIED:20251020T183654Z
UID:10001801-1763056800-1763061300@immigrantservices.ca
SUMMARY:Beginner French 2
DESCRIPTION:
URL:https://immigrantservices.ca/event/beginner-french-2-3/2025-11-13/
LOCATION:Kamloops Immigrant Services\, 448 Tranquille Road\, Kamloops\, British Columbia\, V2B 3H2\, Canada
CATEGORIES:Community Connections
ATTACH;FMTTYPE=image/jpeg:https://immigrantservices.ca/wp-content/uploads/2025/10/2025-1106-13-20-27-Beginner-French-Emily-1.jpg
END:VEVENT
BEGIN:VEVENT
DTSTART;TZID=America/Los_Angeles:20251113T180000
DTEND;TZID=America/Los_Angeles:20251113T191500
DTSTAMP:20260424T073640
CREATED:20250918T193831Z
LAST-MODIFIED:20251124T181948Z
UID:10001466-1763056800-1763061300@immigrantservices.ca
SUMMARY:Beginner French 2
DESCRIPTION:
URL:https://immigrantservices.ca/event/beginner-french-2-2/2025-11-13/
LOCATION:Kamloops Immigrant Services\, 448 Tranquille Road\, Kamloops\, British Columbia\, V2B 3H2\, Canada
CATEGORIES:Community Connections
ATTACH;FMTTYPE=image/jpeg:https://immigrantservices.ca/wp-content/uploads/2025/09/2025-1023-30-French-Emily.jpg
END:VEVENT
BEGIN:VEVENT
DTSTART;TZID=America/Los_Angeles:20251113T133000
DTEND;TZID=America/Los_Angeles:20251113T150000
DTSTAMP:20260424T073640
CREATED:20251020T183152Z
LAST-MODIFIED:20251020T183152Z
UID:10001792-1763040600-1763046000@immigrantservices.ca
SUMMARY:Drop-In Resume & Beyond the Resume
DESCRIPTION:
URL:https://immigrantservices.ca/event/drop-in-resume-beyond-the-resume/2025-11-13/
LOCATION:Kamloops Immigrant Services\, 448 Tranquille Road\, Kamloops\, British Columbia\, V2B 3H2\, Canada
CATEGORIES:Employment
ATTACH;FMTTYPE=image/jpeg:https://immigrantservices.ca/wp-content/uploads/2025/10/2025-Wednesdays-7-Thursdays-Drop-in-Resume-Beyond-The-Resume-1.jpg
END:VEVENT
BEGIN:VEVENT
DTSTART;TZID=America/Los_Angeles:20251113T130000
DTEND;TZID=America/Los_Angeles:20251113T140000
DTSTAMP:20260424T073640
CREATED:20251020T165049Z
LAST-MODIFIED:20251020T165049Z
UID:10001773-1763038800-1763042400@immigrantservices.ca
SUMMARY:Meet the Employer: City of Kamloops
DESCRIPTION:
URL:https://immigrantservices.ca/event/meet-the-employer-city-of-kamloops/
LOCATION:Kamloops Immigrant Services\, 448 Tranquille Road\, Kamloops\, British Columbia\, V2B 3H2\, Canada
CATEGORIES:Employment
ATTACH;FMTTYPE=image/png:https://immigrantservices.ca/wp-content/uploads/2025/10/2025-1113-Meet-the-Employer-Catherine.png
END:VEVENT
BEGIN:VEVENT
DTSTART;TZID=America/Los_Angeles:20251112T173000
DTEND;TZID=America/Los_Angeles:20251112T193000
DTSTAMP:20260424T073640
CREATED:20251020T164915Z
LAST-MODIFIED:20251020T164915Z
UID:10001772-1762968600-1762975800@immigrantservices.ca
SUMMARY:Chess & Board Game Night
DESCRIPTION:
URL:https://immigrantservices.ca/event/chess-board-game-night-2/
LOCATION:Kamloops Immigrant Services\, 448 Tranquille Road\, Kamloops\, British Columbia\, V2B 3H2\, Canada
CATEGORIES:Community Connections
ATTACH;FMTTYPE=image/jpeg:https://immigrantservices.ca/wp-content/uploads/2025/10/2025-1112-Chess-Board-Game-Night-1.jpg
END:VEVENT
BEGIN:VEVENT
DTSTART;TZID=America/Los_Angeles:20251112T133000
DTEND;TZID=America/Los_Angeles:20251112T150000
DTSTAMP:20260424T073640
CREATED:20251020T183152Z
LAST-MODIFIED:20251020T183152Z
UID:10001791-1762954200-1762959600@immigrantservices.ca
SUMMARY:Drop-In Resume & Beyond the Resume
DESCRIPTION:
URL:https://immigrantservices.ca/event/drop-in-resume-beyond-the-resume/2025-11-12/
LOCATION:Kamloops Immigrant Services\, 448 Tranquille Road\, Kamloops\, British Columbia\, V2B 3H2\, Canada
CATEGORIES:Employment
ATTACH;FMTTYPE=image/jpeg:https://immigrantservices.ca/wp-content/uploads/2025/10/2025-Wednesdays-7-Thursdays-Drop-in-Resume-Beyond-The-Resume-1.jpg
END:VEVENT
BEGIN:VEVENT
DTSTART;TZID=America/Los_Angeles:20251107T130000
DTEND;TZID=America/Los_Angeles:20251107T140000
DTSTAMP:20260424T073640
CREATED:20250918T200404Z
LAST-MODIFIED:20251124T182150Z
UID:10001532-1762520400-1762524000@immigrantservices.ca
SUMMARY:Digital Skills 101
DESCRIPTION:
URL:https://immigrantservices.ca/event/digital-skills-101/2025-11-07/
LOCATION:Kamloops Immigrant Services\, 448 Tranquille Road\, Kamloops\, British Columbia\, V2B 3H2\, Canada
CATEGORIES:Community Connections
ATTACH;FMTTYPE=image/jpeg:https://immigrantservices.ca/wp-content/uploads/2025/09/2025-10004-11-18-25-Digital-Skills-101-Emily.jpg
END:VEVENT
BEGIN:VEVENT
DTSTART;TZID=America/Los_Angeles:20251107T110000
DTEND;TZID=America/Los_Angeles:20251107T140000
DTSTAMP:20260424T073640
CREATED:20250918T201326Z
LAST-MODIFIED:20251124T182048Z
UID:10001591-1762513200-1762524000@immigrantservices.ca
SUMMARY:Beyond the resume
DESCRIPTION:
URL:https://immigrantservices.ca/event/beyond-the-resume/2025-11-07/
LOCATION:Kamloops Immigrant Services\, 448 Tranquille Road\, Kamloops\, British Columbia\, V2B 3H2\, Canada
CATEGORIES:Employment
ATTACH;FMTTYPE=image/jpeg:https://immigrantservices.ca/wp-content/uploads/2025/09/2025-10-Beyond-the-Resume-Catherine.jpg
END:VEVENT
BEGIN:VEVENT
DTSTART;TZID=America/Los_Angeles:20251106T180000
DTEND;TZID=America/Los_Angeles:20251106T200000
DTSTAMP:20260424T073640
CREATED:20250918T192749Z
LAST-MODIFIED:20251124T181842Z
UID:10001406-1762452000-1762459200@immigrantservices.ca
SUMMARY:Learn to Cope with Stress
DESCRIPTION:
URL:https://immigrantservices.ca/event/learn-to-cope-with-strees/2025-11-06/
LOCATION:Kamloops Immigrant Services\, 448 Tranquille Road\, Kamloops\, British Columbia\, V2B 3H2\, Canada
CATEGORIES:Women's Empowerment
ATTACH;FMTTYPE=image/jpeg:https://immigrantservices.ca/wp-content/uploads/2025/09/2025-1016-23-30-Y-Mind-Poster-Learn-to-Cope-with-Stress-Erin.jpg
END:VEVENT
BEGIN:VEVENT
DTSTART;TZID=America/Los_Angeles:20251106T180000
DTEND;TZID=America/Los_Angeles:20251106T191500
DTSTAMP:20260424T073640
CREATED:20251020T183654Z
LAST-MODIFIED:20251020T183654Z
UID:10001800-1762452000-1762456500@immigrantservices.ca
SUMMARY:Beginner French 2
DESCRIPTION:
URL:https://immigrantservices.ca/event/beginner-french-2-3/2025-11-06/
LOCATION:Kamloops Immigrant Services\, 448 Tranquille Road\, Kamloops\, British Columbia\, V2B 3H2\, Canada
CATEGORIES:Community Connections
ATTACH;FMTTYPE=image/jpeg:https://immigrantservices.ca/wp-content/uploads/2025/10/2025-1106-13-20-27-Beginner-French-Emily-1.jpg
END:VEVENT
BEGIN:VEVENT
DTSTART;TZID=America/Los_Angeles:20251106T180000
DTEND;TZID=America/Los_Angeles:20251106T191500
DTSTAMP:20260424T073640
CREATED:20250918T193831Z
LAST-MODIFIED:20251124T181948Z
UID:10001465-1762452000-1762456500@immigrantservices.ca
SUMMARY:Beginner French 2
DESCRIPTION:
URL:https://immigrantservices.ca/event/beginner-french-2-2/2025-11-06/
LOCATION:Kamloops Immigrant Services\, 448 Tranquille Road\, Kamloops\, British Columbia\, V2B 3H2\, Canada
CATEGORIES:Community Connections
ATTACH;FMTTYPE=image/jpeg:https://immigrantservices.ca/wp-content/uploads/2025/09/2025-1023-30-French-Emily.jpg
END:VEVENT
BEGIN:VEVENT
DTSTART;TZID=America/Los_Angeles:20251106T133000
DTEND;TZID=America/Los_Angeles:20251106T150000
DTSTAMP:20260424T073640
CREATED:20251020T183152Z
LAST-MODIFIED:20251020T183152Z
UID:10001790-1762435800-1762441200@immigrantservices.ca
SUMMARY:Drop-In Resume & Beyond the Resume
DESCRIPTION:
URL:https://immigrantservices.ca/event/drop-in-resume-beyond-the-resume/2025-11-06/
LOCATION:Kamloops Immigrant Services\, 448 Tranquille Road\, Kamloops\, British Columbia\, V2B 3H2\, Canada
CATEGORIES:Employment
ATTACH;FMTTYPE=image/jpeg:https://immigrantservices.ca/wp-content/uploads/2025/10/2025-Wednesdays-7-Thursdays-Drop-in-Resume-Beyond-The-Resume-1.jpg
END:VEVENT
BEGIN:VEVENT
DTSTART;TZID=America/Los_Angeles:20251106T130000
DTEND;TZID=America/Los_Angeles:20251106T143000
DTSTAMP:20260424T073640
CREATED:20251016T230225Z
LAST-MODIFIED:20251016T230225Z
UID:10001702-1762434000-1762439400@immigrantservices.ca
SUMMARY:Tea & Talk: Remembrance Day
DESCRIPTION:
URL:https://immigrantservices.ca/event/tea-talk-remembrance-day/
LOCATION:Kamloops Immigrant Services\, 448 Tranquille Road\, Kamloops\, British Columbia\, V2B 3H2\, Canada
CATEGORIES:Women's Empowerment
ATTACH;FMTTYPE=image/jpeg:https://immigrantservices.ca/wp-content/uploads/2025/10/Social-Media-Posters.jpg
END:VEVENT
BEGIN:VEVENT
DTSTART;TZID=America/Los_Angeles:20251105T133000
DTEND;TZID=America/Los_Angeles:20251105T150000
DTSTAMP:20260424T073640
CREATED:20251020T183152Z
LAST-MODIFIED:20251020T183152Z
UID:10001789-1762349400-1762354800@immigrantservices.ca
SUMMARY:Drop-In Resume & Beyond the Resume
DESCRIPTION:
URL:https://immigrantservices.ca/event/drop-in-resume-beyond-the-resume/2025-11-05/
LOCATION:Kamloops Immigrant Services\, 448 Tranquille Road\, Kamloops\, British Columbia\, V2B 3H2\, Canada
CATEGORIES:Employment
ATTACH;FMTTYPE=image/jpeg:https://immigrantservices.ca/wp-content/uploads/2025/10/2025-Wednesdays-7-Thursdays-Drop-in-Resume-Beyond-The-Resume-1.jpg
END:VEVENT
BEGIN:VEVENT
DTSTART;TZID=America/Los_Angeles:20251105T103000
DTEND;TZID=America/Los_Angeles:20251105T113000
DTSTAMP:20260424T073640
CREATED:20251016T230411Z
LAST-MODIFIED:20251016T230411Z
UID:10001703-1762338600-1762342200@immigrantservices.ca
SUMMARY:Steps to Getting your Driver's License
DESCRIPTION:
URL:https://immigrantservices.ca/event/steps-to-getting-your-drivers-license-2/
LOCATION:Kamloops Immigrant Services\, 448 Tranquille Road\, Kamloops\, British Columbia\, V2B 3H2\, Canada
CATEGORIES:Community Connections
ATTACH;FMTTYPE=image/jpeg:https://immigrantservices.ca/wp-content/uploads/2025/10/2025-1105-ICBC-Presentation-Angie-1.jpg
END:VEVENT
BEGIN:VEVENT
DTSTART;TZID=America/Los_Angeles:20251104T110000
DTEND;TZID=America/Los_Angeles:20251104T120000
DTSTAMP:20260424T073640
CREATED:20251020T183924Z
LAST-MODIFIED:20251020T183924Z
UID:10001805-1762254000-1762257600@immigrantservices.ca
SUMMARY:Story Time with Fiona Clare
DESCRIPTION:
URL:https://immigrantservices.ca/event/story-time-with-fiona-clare/
LOCATION:Kamloops Immigrant Services\, 448 Tranquille Road\, Kamloops\, British Columbia\, V2B 3H2\, Canada
CATEGORIES:Childmind
ATTACH;FMTTYPE=image/jpeg:https://immigrantservices.ca/wp-content/uploads/2025/10/Childmind4.jpg
END:VEVENT
BEGIN:VEVENT
DTSTART;TZID=America/Los_Angeles:20251103T133000
DTEND;TZID=America/Los_Angeles:20251103T143000
DTSTAMP:20260424T073640
CREATED:20251016T231955Z
LAST-MODIFIED:20251016T231955Z
UID:10001766-1762176600-1762180200@immigrantservices.ca
SUMMARY:Tai Chi for Senior's
DESCRIPTION:
URL:https://immigrantservices.ca/event/tai-chi-for-seniors/
LOCATION:Kamloops Immigrant Services\, 448 Tranquille Road\, Kamloops\, British Columbia\, V2B 3H2\, Canada
CATEGORIES:Senior Program
ATTACH;FMTTYPE=image/jpeg:https://immigrantservices.ca/wp-content/uploads/2025/10/2025-1103-A-Taste-of-Tai-Chi-for-Seniors-Angie-1.jpg
END:VEVENT
BEGIN:VEVENT
DTSTART;TZID=America/Los_Angeles:20251031T153000
DTEND;TZID=America/Los_Angeles:20251031T173000
DTSTAMP:20260424T073640
CREATED:20250918T200203Z
LAST-MODIFIED:20250918T200203Z
UID:10001526-1761924600-1761931800@immigrantservices.ca
SUMMARY:Halloween Party
DESCRIPTION:
URL:https://immigrantservices.ca/event/halloween-party-2/
LOCATION:Kamloops Immigrant Services\, 448 Tranquille Road\, Kamloops\, British Columbia\, V2B 3H2\, Canada
CATEGORIES:Community Connections
ATTACH;FMTTYPE=image/jpeg:https://immigrantservices.ca/wp-content/uploads/2025/09/2025-1031-Halloween-Party-Emily.jpg
END:VEVENT
BEGIN:VEVENT
DTSTART;TZID=America/Los_Angeles:20251031T130000
DTEND;TZID=America/Los_Angeles:20251031T140000
DTSTAMP:20260424T073640
CREATED:20250918T200404Z
LAST-MODIFIED:20251124T182150Z
UID:10001531-1761915600-1761919200@immigrantservices.ca
SUMMARY:Digital Skills 101
DESCRIPTION:
URL:https://immigrantservices.ca/event/digital-skills-101/2025-10-31/
LOCATION:Kamloops Immigrant Services\, 448 Tranquille Road\, Kamloops\, British Columbia\, V2B 3H2\, Canada
CATEGORIES:Community Connections
ATTACH;FMTTYPE=image/jpeg:https://immigrantservices.ca/wp-content/uploads/2025/09/2025-10004-11-18-25-Digital-Skills-101-Emily.jpg
END:VEVENT
END:VCALENDAR