BEGIN:VCALENDAR
VERSION:2.0
PRODID:-//Kamloops Immigrant Services - ECPv6.15.20//NONSGML v1.0//EN
CALSCALE:GREGORIAN
METHOD:PUBLISH
X-WR-CALNAME:Kamloops Immigrant Services
X-ORIGINAL-URL:https://immigrantservices.ca
X-WR-CALDESC:Events for Kamloops Immigrant Services
REFRESH-INTERVAL;VALUE=DURATION:PT1H
X-Robots-Tag:noindex
X-PUBLISHED-TTL:PT1H
BEGIN:VTIMEZONE
TZID:America/Los_Angeles
BEGIN:DAYLIGHT
TZOFFSETFROM:-0800
TZOFFSETTO:-0700
TZNAME:PDT
DTSTART:20250309T100000
END:DAYLIGHT
BEGIN:STANDARD
TZOFFSETFROM:-0700
TZOFFSETTO:-0800
TZNAME:PST
DTSTART:20251102T090000
END:STANDARD
BEGIN:DAYLIGHT
TZOFFSETFROM:-0800
TZOFFSETTO:-0700
TZNAME:PDT
DTSTART:20260308T100000
END:DAYLIGHT
BEGIN:STANDARD
TZOFFSETFROM:-0700
TZOFFSETTO:-0800
TZNAME:PST
DTSTART:20261101T090000
END:STANDARD
BEGIN:DAYLIGHT
TZOFFSETFROM:-0800
TZOFFSETTO:-0700
TZNAME:PDT
DTSTART:20270314T100000
END:DAYLIGHT
BEGIN:STANDARD
TZOFFSETFROM:-0700
TZOFFSETTO:-0800
TZNAME:PST
DTSTART:20271107T090000
END:STANDARD
END:VTIMEZONE
BEGIN:VEVENT
DTSTART;TZID=America/Los_Angeles:20260424T110000
DTEND;TZID=America/Los_Angeles:20260424T120000
DTSTAMP:20260424T064518
CREATED:20260409T194208Z
LAST-MODIFIED:20260409T194208Z
UID:10002328-1777028400-1777032000@immigrantservices.ca
SUMMARY:Mother Goose
DESCRIPTION:
URL:https://immigrantservices.ca/event/mother-goose-4/2026-04-24/
LOCATION:Kamloops Immigrant Services\, 448 Tranquille Road\, Kamloops\, British Columbia\, V2B 3H2\, Canada
CATEGORIES:Childmind
ATTACH;FMTTYPE=image/jpeg:https://immigrantservices.ca/wp-content/uploads/2026/04/2026-0417-0505-Mother-Goose-Angelica.jpg
END:VEVENT
BEGIN:VEVENT
DTSTART;TZID=America/Los_Angeles:20260424T110000
DTEND;TZID=America/Los_Angeles:20260424T120000
DTSTAMP:20260424T064518
CREATED:20260420T165326Z
LAST-MODIFIED:20260420T165327Z
UID:10002470-1777028400-1777032000@immigrantservices.ca
SUMMARY:Parent - Child Mother Goose
DESCRIPTION:
URL:https://immigrantservices.ca/event/parent-child-mother-goose-9/2026-04-24/
LOCATION:Kamloops Immigrant Services\, 448 Tranquille Road\, Kamloops\, British Columbia\, V2B 3H2\, Canada
CATEGORIES:Childmind
ATTACH;FMTTYPE=image/jpeg:https://immigrantservices.ca/wp-content/uploads/2026/04/2026-0417-0505-Mother-Goose-Angelica-1.jpg
END:VEVENT
BEGIN:VEVENT
DTSTART;TZID=America/Los_Angeles:20260425T100000
DTEND;TZID=America/Los_Angeles:20260425T113000
DTSTAMP:20260424T064518
CREATED:20260112T205059Z
LAST-MODIFIED:20260409T192445Z
UID:10002030-1777111200-1777116600@immigrantservices.ca
SUMMARY:English Chatter
DESCRIPTION:
URL:https://immigrantservices.ca/event/english-chatter-2/2026-04-25/
LOCATION:Kamloops Immigrant Services\, 448 Tranquille Road\, Kamloops\, British Columbia\, V2B 3H2\, Canada
CATEGORIES:Community Connections
ATTACH;FMTTYPE=image/jpeg:https://immigrantservices.ca/wp-content/uploads/2026/01/2026-0110-0425-English-Chatter-corner-Schedule-Emily.jpg
END:VEVENT
BEGIN:VEVENT
DTSTART;TZID=America/Los_Angeles:20260427T130000
DTEND;TZID=America/Los_Angeles:20260427T143000
DTSTAMP:20260424T064518
CREATED:20260409T194815Z
LAST-MODIFIED:20260409T194815Z
UID:10002331-1777294800-1777300200@immigrantservices.ca
SUMMARY:Youth 4 Youth: Art Workshop
DESCRIPTION:
URL:https://immigrantservices.ca/event/youth-4-youth-art-workshop/
LOCATION:Kamloops Immigrant Services\, 448 Tranquille Road\, Kamloops\, British Columbia\, V2B 3H2\, Canada
CATEGORIES:Youth
ATTACH;FMTTYPE=image/jpeg:https://immigrantservices.ca/wp-content/uploads/2026/04/2026-0427-Youth-4-Youth-Art-Workshop-Angie.jpg
END:VEVENT
BEGIN:VEVENT
DTSTART;TZID=America/Los_Angeles:20260429T100000
DTEND;TZID=America/Los_Angeles:20260429T110000
DTSTAMP:20260424T064518
CREATED:20260109T002251Z
LAST-MODIFIED:20260302T213833Z
UID:10001896-1777456800-1777460400@immigrantservices.ca
SUMMARY:Working in Canada: New Workshop
DESCRIPTION:Our Working in Canada workshop is a one hour group session where we talk through what employers expect\, how communication works on the job\, and how to carry yourself with confidence at work. It is practical\, honest\, and built around real workplace situations. \nWe meet every second Wednesday from 10 to 11 a.m. at our KIS Satellite Office\, 397 Tranquille Road. If you would like to join us\, register and pick a date that works for you. \nIt is a good place to ask questions\, learn from others\, and feel more prepared for your next shift or your next interview.
URL:https://immigrantservices.ca/event/working-in-canada-new-workshop/2026-04-29/
LOCATION:Kamloops Immigrant Services\, 448 Tranquille Road\, Kamloops\, British Columbia\, V2B 3H2\, Canada
CATEGORIES:Employment
END:VEVENT
BEGIN:VEVENT
DTSTART;TZID=America/Los_Angeles:20260430T180000
DTEND;TZID=America/Los_Angeles:20260430T193000
DTSTAMP:20260424T064518
CREATED:20260409T193303Z
LAST-MODIFIED:20260409T194036Z
UID:10002274-1777572000-1777577400@immigrantservices.ca
SUMMARY:Rooted in Connection
DESCRIPTION:
URL:https://immigrantservices.ca/event/rooted-in-connection/2026-04-30/
LOCATION:Kamloops Immigrant Services\, 448 Tranquille Road\, Kamloops\, British Columbia\, V2B 3H2\, Canada
CATEGORIES:Community Connections
ATTACH;FMTTYPE=image/jpeg:https://immigrantservices.ca/wp-content/uploads/2026/04/2026-0409162330-Rooted-In-connection-Shared-Paths-Angie.jpg
END:VEVENT
BEGIN:VEVENT
DTSTART;TZID=America/Los_Angeles:20260501T110000
DTEND;TZID=America/Los_Angeles:20260501T120000
DTSTAMP:20260424T064518
CREATED:20260420T165326Z
LAST-MODIFIED:20260420T165327Z
UID:10002471-1777633200-1777636800@immigrantservices.ca
SUMMARY:Parent - Child Mother Goose
DESCRIPTION:
URL:https://immigrantservices.ca/event/parent-child-mother-goose-9/2026-05-01/
LOCATION:Kamloops Immigrant Services\, 448 Tranquille Road\, Kamloops\, British Columbia\, V2B 3H2\, Canada
CATEGORIES:Childmind
ATTACH;FMTTYPE=image/jpeg:https://immigrantservices.ca/wp-content/uploads/2026/04/2026-0417-0505-Mother-Goose-Angelica-1.jpg
END:VEVENT
BEGIN:VEVENT
DTSTART;TZID=America/Los_Angeles:20260502T100000
DTEND;TZID=America/Los_Angeles:20260502T113000
DTSTAMP:20260424T064518
CREATED:20260420T164308Z
LAST-MODIFIED:20260420T164308Z
UID:10002397-1777716000-1777721400@immigrantservices.ca
SUMMARY:English Chatter Corner
DESCRIPTION:
URL:https://immigrantservices.ca/event/english-chatter-corner-29/2026-05-02/
LOCATION:Kamloops Immigrant Services\, 448 Tranquille Road\, Kamloops\, British Columbia\, V2B 3H2\, Canada
CATEGORIES:Community Connections
ATTACH;FMTTYPE=image/jpeg:https://immigrantservices.ca/wp-content/uploads/2026/04/2026-May-to-August-Engilsh-Chatter-Corner-Angie.jpg
END:VEVENT
BEGIN:VEVENT
DTSTART;TZID=America/Los_Angeles:20260505T170000
DTEND;TZID=America/Los_Angeles:20260505T203000
DTSTAMP:20260424T064518
CREATED:20260420T160640Z
LAST-MODIFIED:20260420T160640Z
UID:10002337-1778000400-1778013000@immigrantservices.ca
SUMMARY:Hiking Gibraltar Rock
DESCRIPTION:
URL:https://immigrantservices.ca/event/hiking-gibraltar-rock/
LOCATION:Kamloops Immigrant Services\, 448 Tranquille Road\, Kamloops\, British Columbia\, V2B 3H2\, Canada
CATEGORIES:Community Connections
ATTACH;FMTTYPE=image/jpeg:https://immigrantservices.ca/wp-content/uploads/2026/04/2026-0526-Gibraltar-Rock-Hike-Angie.jpg
END:VEVENT
BEGIN:VEVENT
DTSTART;TZID=America/Los_Angeles:20260507T123000
DTEND;TZID=America/Los_Angeles:20260507T153000
DTSTAMP:20260424T064518
CREATED:20260420T155354Z
LAST-MODIFIED:20260420T155354Z
UID:10002332-1778157000-1778167800@immigrantservices.ca
SUMMARY:Kamloops Food Bank Tour
DESCRIPTION:
URL:https://immigrantservices.ca/event/kamloops-food-bank-tour/
LOCATION:Kamloops Immigrant Services\, 448 Tranquille Road\, Kamloops\, British Columbia\, V2B 3H2\, Canada
CATEGORIES:Community Connections
ATTACH;FMTTYPE=image/jpeg:https://immigrantservices.ca/wp-content/uploads/2026/04/2026-0504-Kamloops-Food-Bank-Tour-Angie.jpg
END:VEVENT
BEGIN:VEVENT
DTSTART;TZID=America/Los_Angeles:20260507T130000
DTEND;TZID=America/Los_Angeles:20260507T140000
DTSTAMP:20260424T064518
CREATED:20260420T164610Z
LAST-MODIFIED:20260420T164610Z
UID:10002468-1778158800-1778162400@immigrantservices.ca
SUMMARY:Digital Skills 101
DESCRIPTION:
URL:https://immigrantservices.ca/event/digital-skills-101-2/
LOCATION:Kamloops Immigrant Services\, 448 Tranquille Road\, Kamloops\, British Columbia\, V2B 3H2\, Canada
CATEGORIES:Community Connections
ATTACH;FMTTYPE=image/jpeg:https://immigrantservices.ca/wp-content/uploads/2026/04/2026-Digital-Skills.jpg
END:VEVENT
BEGIN:VEVENT
DTSTART;TZID=America/Los_Angeles:20260507T130000
DTEND;TZID=America/Los_Angeles:20260507T143000
DTSTAMP:20260424T064518
CREATED:20260420T161927Z
LAST-MODIFIED:20260420T161928Z
UID:10002396-1778158800-1778164200@immigrantservices.ca
SUMMARY:WE Tea & Talk
DESCRIPTION:
URL:https://immigrantservices.ca/event/we-tea-talk-5/
LOCATION:Kamloops Immigrant Services\, 448 Tranquille Road\, Kamloops\, British Columbia\, V2B 3H2\, Canada
CATEGORIES:Women's Empowerment
ATTACH;FMTTYPE=image/jpeg:https://immigrantservices.ca/wp-content/uploads/2026/04/2026-0507-WE-Tea-Talk-Darcy.jpg
END:VEVENT
BEGIN:VEVENT
DTSTART;TZID=America/Los_Angeles:20260507T180000
DTEND;TZID=America/Los_Angeles:20260507T193000
DTSTAMP:20260424T064518
CREATED:20260409T193303Z
LAST-MODIFIED:20260409T194036Z
UID:10002275-1778176800-1778182200@immigrantservices.ca
SUMMARY:Rooted in Connection
DESCRIPTION:
URL:https://immigrantservices.ca/event/rooted-in-connection/2026-05-07/
LOCATION:Kamloops Immigrant Services\, 448 Tranquille Road\, Kamloops\, British Columbia\, V2B 3H2\, Canada
CATEGORIES:Community Connections
ATTACH;FMTTYPE=image/jpeg:https://immigrantservices.ca/wp-content/uploads/2026/04/2026-0409162330-Rooted-In-connection-Shared-Paths-Angie.jpg
END:VEVENT
BEGIN:VEVENT
DTSTART;TZID=America/Los_Angeles:20260508T110000
DTEND;TZID=America/Los_Angeles:20260508T120000
DTSTAMP:20260424T064518
CREATED:20260420T165326Z
LAST-MODIFIED:20260420T165327Z
UID:10002472-1778238000-1778241600@immigrantservices.ca
SUMMARY:Parent - Child Mother Goose
DESCRIPTION:
URL:https://immigrantservices.ca/event/parent-child-mother-goose-9/2026-05-08/
LOCATION:Kamloops Immigrant Services\, 448 Tranquille Road\, Kamloops\, British Columbia\, V2B 3H2\, Canada
CATEGORIES:Childmind
ATTACH;FMTTYPE=image/jpeg:https://immigrantservices.ca/wp-content/uploads/2026/04/2026-0417-0505-Mother-Goose-Angelica-1.jpg
END:VEVENT
BEGIN:VEVENT
DTSTART;TZID=America/Los_Angeles:20260509T100000
DTEND;TZID=America/Los_Angeles:20260509T113000
DTSTAMP:20260424T064518
CREATED:20260420T164308Z
LAST-MODIFIED:20260420T164308Z
UID:10002398-1778320800-1778326200@immigrantservices.ca
SUMMARY:English Chatter Corner
DESCRIPTION:
URL:https://immigrantservices.ca/event/english-chatter-corner-29/2026-05-09/
LOCATION:Kamloops Immigrant Services\, 448 Tranquille Road\, Kamloops\, British Columbia\, V2B 3H2\, Canada
CATEGORIES:Community Connections
ATTACH;FMTTYPE=image/jpeg:https://immigrantservices.ca/wp-content/uploads/2026/04/2026-May-to-August-Engilsh-Chatter-Corner-Angie.jpg
END:VEVENT
BEGIN:VEVENT
DTSTART;TZID=America/Los_Angeles:20260512T100000
DTEND;TZID=America/Los_Angeles:20260512T140000
DTSTAMP:20260424T064518
CREATED:20260420T155633Z
LAST-MODIFIED:20260420T155633Z
UID:10002333-1778580000-1778594400@immigrantservices.ca
SUMMARY:Diabetes Prevention & Pivot Rx Pharmacy Tour
DESCRIPTION:
URL:https://immigrantservices.ca/event/diabetes-prevention-pivot-rx-pharmacy-tour/
LOCATION:Kamloops Immigrant Services\, 448 Tranquille Road\, Kamloops\, British Columbia\, V2B 3H2\, Canada
CATEGORIES:Community Connections
ATTACH;FMTTYPE=image/jpeg:https://immigrantservices.ca/wp-content/uploads/2026/04/2026-0512-Pivot-Rx-Pharmacy-Tour-Angie.jpg
END:VEVENT
BEGIN:VEVENT
DTSTART;TZID=America/Los_Angeles:20260513T130000
DTEND;TZID=America/Los_Angeles:20260513T143000
DTSTAMP:20260424T064518
CREATED:20260420T155838Z
LAST-MODIFIED:20260420T155838Z
UID:10002334-1778677200-1778682600@immigrantservices.ca
SUMMARY:Art Workshop for Seniors
DESCRIPTION:
URL:https://immigrantservices.ca/event/art-workshop-for-seniors/
LOCATION:Kamloops Immigrant Services\, 448 Tranquille Road\, Kamloops\, British Columbia\, V2B 3H2\, Canada
CATEGORIES:Community Connections
ATTACH;FMTTYPE=image/jpeg:https://immigrantservices.ca/wp-content/uploads/2026/04/2026-0513-Seniors-Art-Workshop-Angie.jpg
END:VEVENT
BEGIN:VEVENT
DTSTART;TZID=America/Los_Angeles:20260514T180000
DTEND;TZID=America/Los_Angeles:20260514T193000
DTSTAMP:20260424T064518
CREATED:20260409T193303Z
LAST-MODIFIED:20260409T194036Z
UID:10002276-1778781600-1778787000@immigrantservices.ca
SUMMARY:Rooted in Connection
DESCRIPTION:
URL:https://immigrantservices.ca/event/rooted-in-connection/2026-05-14/
LOCATION:Kamloops Immigrant Services\, 448 Tranquille Road\, Kamloops\, British Columbia\, V2B 3H2\, Canada
CATEGORIES:Community Connections
ATTACH;FMTTYPE=image/jpeg:https://immigrantservices.ca/wp-content/uploads/2026/04/2026-0409162330-Rooted-In-connection-Shared-Paths-Angie.jpg
END:VEVENT
BEGIN:VEVENT
DTSTART;TZID=America/Los_Angeles:20260515T110000
DTEND;TZID=America/Los_Angeles:20260515T120000
DTSTAMP:20260424T064518
CREATED:20260420T165326Z
LAST-MODIFIED:20260420T165327Z
UID:10002473-1778842800-1778846400@immigrantservices.ca
SUMMARY:Parent - Child Mother Goose
DESCRIPTION:
URL:https://immigrantservices.ca/event/parent-child-mother-goose-9/2026-05-15/
LOCATION:Kamloops Immigrant Services\, 448 Tranquille Road\, Kamloops\, British Columbia\, V2B 3H2\, Canada
CATEGORIES:Childmind
ATTACH;FMTTYPE=image/jpeg:https://immigrantservices.ca/wp-content/uploads/2026/04/2026-0417-0505-Mother-Goose-Angelica-1.jpg
END:VEVENT
BEGIN:VEVENT
DTSTART;TZID=America/Los_Angeles:20260516T100000
DTEND;TZID=America/Los_Angeles:20260516T113000
DTSTAMP:20260424T064518
CREATED:20260420T164308Z
LAST-MODIFIED:20260420T164308Z
UID:10002399-1778925600-1778931000@immigrantservices.ca
SUMMARY:English Chatter Corner
DESCRIPTION:
URL:https://immigrantservices.ca/event/english-chatter-corner-29/2026-05-16/
LOCATION:Kamloops Immigrant Services\, 448 Tranquille Road\, Kamloops\, British Columbia\, V2B 3H2\, Canada
CATEGORIES:Community Connections
ATTACH;FMTTYPE=image/jpeg:https://immigrantservices.ca/wp-content/uploads/2026/04/2026-May-to-August-Engilsh-Chatter-Corner-Angie.jpg
END:VEVENT
BEGIN:VEVENT
DTSTART;TZID=America/Los_Angeles:20260520T170000
DTEND;TZID=America/Los_Angeles:20260520T183000
DTSTAMP:20260424T064518
CREATED:20260420T164425Z
LAST-MODIFIED:20260420T164425Z
UID:10002467-1779296400-1779301800@immigrantservices.ca
SUMMARY:Gardering Workshop
DESCRIPTION:
URL:https://immigrantservices.ca/event/gardering-workshop/
LOCATION:Kamloops Immigrant Services\, 448 Tranquille Road\, Kamloops\, British Columbia\, V2B 3H2\, Canada
CATEGORIES:Community Connections
ATTACH;FMTTYPE=image/jpeg:https://immigrantservices.ca/wp-content/uploads/2026/04/2026-0620-Gardening-Workshop-Angie.jpg
END:VEVENT
BEGIN:VEVENT
DTSTART;TZID=America/Los_Angeles:20260521T180000
DTEND;TZID=America/Los_Angeles:20260521T193000
DTSTAMP:20260424T064518
CREATED:20260409T193303Z
LAST-MODIFIED:20260409T194036Z
UID:10002277-1779386400-1779391800@immigrantservices.ca
SUMMARY:Rooted in Connection
DESCRIPTION:
URL:https://immigrantservices.ca/event/rooted-in-connection/2026-05-21/
LOCATION:Kamloops Immigrant Services\, 448 Tranquille Road\, Kamloops\, British Columbia\, V2B 3H2\, Canada
CATEGORIES:Community Connections
ATTACH;FMTTYPE=image/jpeg:https://immigrantservices.ca/wp-content/uploads/2026/04/2026-0409162330-Rooted-In-connection-Shared-Paths-Angie.jpg
END:VEVENT
BEGIN:VEVENT
DTSTART;TZID=America/Los_Angeles:20260522T110000
DTEND;TZID=America/Los_Angeles:20260522T120000
DTSTAMP:20260424T064518
CREATED:20260420T165326Z
LAST-MODIFIED:20260420T165327Z
UID:10002474-1779447600-1779451200@immigrantservices.ca
SUMMARY:Parent - Child Mother Goose
DESCRIPTION:
URL:https://immigrantservices.ca/event/parent-child-mother-goose-9/2026-05-22/
LOCATION:Kamloops Immigrant Services\, 448 Tranquille Road\, Kamloops\, British Columbia\, V2B 3H2\, Canada
CATEGORIES:Childmind
ATTACH;FMTTYPE=image/jpeg:https://immigrantservices.ca/wp-content/uploads/2026/04/2026-0417-0505-Mother-Goose-Angelica-1.jpg
END:VEVENT
BEGIN:VEVENT
DTSTART;TZID=America/Los_Angeles:20260523T100000
DTEND;TZID=America/Los_Angeles:20260523T113000
DTSTAMP:20260424T064518
CREATED:20260420T164308Z
LAST-MODIFIED:20260420T164308Z
UID:10002400-1779530400-1779535800@immigrantservices.ca
SUMMARY:English Chatter Corner
DESCRIPTION:
URL:https://immigrantservices.ca/event/english-chatter-corner-29/2026-05-23/
LOCATION:Kamloops Immigrant Services\, 448 Tranquille Road\, Kamloops\, British Columbia\, V2B 3H2\, Canada
CATEGORIES:Community Connections
ATTACH;FMTTYPE=image/jpeg:https://immigrantservices.ca/wp-content/uploads/2026/04/2026-May-to-August-Engilsh-Chatter-Corner-Angie.jpg
END:VEVENT
BEGIN:VEVENT
DTSTART;TZID=America/Los_Angeles:20260526T160000
DTEND;TZID=America/Los_Angeles:20260526T171500
DTSTAMP:20260424T064518
CREATED:20260420T160916Z
LAST-MODIFIED:20260420T160918Z
UID:10002338-1779811200-1779815700@immigrantservices.ca
SUMMARY:Canoeing Adventure Y4Y
DESCRIPTION:
URL:https://immigrantservices.ca/event/canoeing-adventure-y4y/
LOCATION:Kamloops Immigrant Services\, 448 Tranquille Road\, Kamloops\, British Columbia\, V2B 3H2\, Canada
CATEGORIES:Youth
ATTACH;FMTTYPE=image/jpeg:https://immigrantservices.ca/wp-content/uploads/2026/04/2026-0526-Youth-4-Youth-Canoeing-Angie.jpg
END:VEVENT
BEGIN:VEVENT
DTSTART;TZID=America/Los_Angeles:20260528T180000
DTEND;TZID=America/Los_Angeles:20260528T193000
DTSTAMP:20260424T064518
CREATED:20260409T193303Z
LAST-MODIFIED:20260409T194036Z
UID:10002278-1779991200-1779996600@immigrantservices.ca
SUMMARY:Rooted in Connection
DESCRIPTION:
URL:https://immigrantservices.ca/event/rooted-in-connection/2026-05-28/
LOCATION:Kamloops Immigrant Services\, 448 Tranquille Road\, Kamloops\, British Columbia\, V2B 3H2\, Canada
CATEGORIES:Community Connections
ATTACH;FMTTYPE=image/jpeg:https://immigrantservices.ca/wp-content/uploads/2026/04/2026-0409162330-Rooted-In-connection-Shared-Paths-Angie.jpg
END:VEVENT
BEGIN:VEVENT
DTSTART;TZID=America/Los_Angeles:20260529T110000
DTEND;TZID=America/Los_Angeles:20260529T120000
DTSTAMP:20260424T064518
CREATED:20260420T165326Z
LAST-MODIFIED:20260420T165327Z
UID:10002475-1780052400-1780056000@immigrantservices.ca
SUMMARY:Parent - Child Mother Goose
DESCRIPTION:
URL:https://immigrantservices.ca/event/parent-child-mother-goose-9/2026-05-29/
LOCATION:Kamloops Immigrant Services\, 448 Tranquille Road\, Kamloops\, British Columbia\, V2B 3H2\, Canada
CATEGORIES:Childmind
ATTACH;FMTTYPE=image/jpeg:https://immigrantservices.ca/wp-content/uploads/2026/04/2026-0417-0505-Mother-Goose-Angelica-1.jpg
END:VEVENT
BEGIN:VEVENT
DTSTART;TZID=America/Los_Angeles:20260530T100000
DTEND;TZID=America/Los_Angeles:20260530T113000
DTSTAMP:20260424T064518
CREATED:20260420T164308Z
LAST-MODIFIED:20260420T164308Z
UID:10002401-1780135200-1780140600@immigrantservices.ca
SUMMARY:English Chatter Corner
DESCRIPTION:
URL:https://immigrantservices.ca/event/english-chatter-corner-29/2026-05-30/
LOCATION:Kamloops Immigrant Services\, 448 Tranquille Road\, Kamloops\, British Columbia\, V2B 3H2\, Canada
CATEGORIES:Community Connections
ATTACH;FMTTYPE=image/jpeg:https://immigrantservices.ca/wp-content/uploads/2026/04/2026-May-to-August-Engilsh-Chatter-Corner-Angie.jpg
END:VEVENT
BEGIN:VEVENT
DTSTART;TZID=America/Los_Angeles:20260604T180000
DTEND;TZID=America/Los_Angeles:20260604T193000
DTSTAMP:20260424T064518
CREATED:20260409T193303Z
LAST-MODIFIED:20260409T194036Z
UID:10002279-1780596000-1780601400@immigrantservices.ca
SUMMARY:Rooted in Connection
DESCRIPTION:
URL:https://immigrantservices.ca/event/rooted-in-connection/2026-06-04/
LOCATION:Kamloops Immigrant Services\, 448 Tranquille Road\, Kamloops\, British Columbia\, V2B 3H2\, Canada
CATEGORIES:Community Connections
ATTACH;FMTTYPE=image/jpeg:https://immigrantservices.ca/wp-content/uploads/2026/04/2026-0409162330-Rooted-In-connection-Shared-Paths-Angie.jpg
END:VEVENT
BEGIN:VEVENT
DTSTART;TZID=America/Los_Angeles:20260605T110000
DTEND;TZID=America/Los_Angeles:20260605T120000
DTSTAMP:20260424T064518
CREATED:20260420T165326Z
LAST-MODIFIED:20260420T165327Z
UID:10002476-1780657200-1780660800@immigrantservices.ca
SUMMARY:Parent - Child Mother Goose
DESCRIPTION:
URL:https://immigrantservices.ca/event/parent-child-mother-goose-9/2026-06-05/
LOCATION:Kamloops Immigrant Services\, 448 Tranquille Road\, Kamloops\, British Columbia\, V2B 3H2\, Canada
CATEGORIES:Childmind
ATTACH;FMTTYPE=image/jpeg:https://immigrantservices.ca/wp-content/uploads/2026/04/2026-0417-0505-Mother-Goose-Angelica-1.jpg
END:VEVENT
END:VCALENDAR